{"text_format":"1","workbook":"xlsx","n_sheets":2,"sheets":["Runs_test","Runs_data"],"not_rendered":{"charts":0,"images":0,"macros":1,"external_links":0,"defined_names":0,"comments":0,"pivot_tables":0},"unopened":[],"bounds":{"document_bytes":16777216,"sheet_cells":100000,"rows_first":2000,"rows_last":500,"rows_between":2000,"halvings":0,"cell_chars":16384,"cell_head_chars":4096},"cells_cut":0,"cells_raw":0,"read":"whole","date_system":"1900"}

{"sheet":"Runs_test","index":0,"n_rows":1001,"n_cols":11,"rows_kept":1001,"cut":false,"hidden":false,"merged":[]}
["Result","Odds","Calc","MC",null,null,null,null,null,null,"MC_Runs"]
["L",2.2000000000000002,{"$f":"IF(B2=\"\",\"\",(1/(B2-1))*RAND())","v":0.6823995444584614},{"$f":"IF(B2=\"\",\"\",IF(C2<LARGE(C:C,G$3),\"L\",\"W\"))","v":"W"},null,"Tips",{"$f":"G4+G3","v":296},null,null,null,111]
["W",1.85,{"$f":"IF(B3=\"\",\"\",(1/(B3-1))*RAND())","v":0.10997060657547181},{"$f":"IF(B3=\"\",\"\",IF(C3<LARGE(C:C,G$3),\"L\",\"W\"))","v":"L"},null,"Winners Observed",{"$f":"COUNTIF(A:A,\"=W\")","v":220},null,null,null,112]
["W",2.1,0.28993785907525488,"W",null,"Losers Observed",{"$f":"COUNTIF(A:A,\"=L\")","v":76},null,null,null,119]
["W",2.1,7.3062712309913583E-2,"L",null,"Observed Runs",{"$f":"SUM(Runs_data!A:A)","v":135},null,null,null,118]
["W",2.1,0.80680433935268603,"W",null,"MC Runs (1 run)",{"$f":"SUM(Runs_data!B:B)","v":115},null,null,null,119]
["W",2,0.33935306230600615,"W",null,"MC Runs Average",{"$f":"AVERAGE(K:K)","v":113.5},null,null,null,133]
["L",1.85,1.0413343222640585,"W",null,"Variance",{"$f":"G9^2","v":44.111111111111114},null,null,null,110]
["W",2.2000000000000002,0.15033020391839513,"L",null,"Standard deviation",{"$f":"STDEV(K:K)","v":6.6416196150570919},null,null,null,119]
["W",2.1,0.15844667971110998,"L",null,"Z-score",{"$f":"ABS((G5-G7)/G9)","v":3.2371622053237967},null,null,null,108]
["L",1.8,0.67635418565021144,"W",null,"P-value",{"$f":"2*(1-NORMSDIST(G10))","v":1.2072477042917029E-3},null,null,null,124]
["W",2.15,0.41935177526300887,"W",null,null,null,null,null,null,124]
["L",2,0.97420106927343997,"W",null,null,null,null,null,null,122]
["W",1.9,0.44668498920378796,"W",null,null,null,null,null,null,116]
["W",1.8,0.21463413262767683,"L",null,null,null,null,null,null,121]
["W",1.9,0.13408137274073478,"L",null,null,null,null,null,null,108]
["L",2.25,9.2021343262955219E-2,"L",null,null,null,null,null,null,116]
["W",2.0499999999999998,0.26540316065952335,"W",null,null,null,null,null,null,120]
["L",2.1,0.60242165270945058,"W",null,null,null,null,null,null,112]
["W",2.15,4.4201591243912423E-2,"L",null,null,null,null,null,null,119]
["W",1.8,0.74610037900778359,"W",null,null,null,null,null,null,106]
["L",2.25,0.50573192754271978,"W",null,null,null,null,null,null,107]
["W",2.1,7.3721986321336041E-3,"L",null,null,null,null,null,null,112]
["W",2.2000000000000002,0.77510610260472435,"W",null,null,null,null,null,null,123]
["W",2.1,0.1813497570088515,"L",null,null,null,null,null,null,122]
["W",2,0.84806258559759939,"W",null,null,null,null,null,null,110]
["W",1.9,0.8606221790409273,"W",null,null,null,null,null,null,114]
["W",1.8,0.64555118857086202,"W",null,null,null,null,null,null,103]
["W",1.7,1.2196815917658974,"W",null,null,null,null,null,null,113]
["W",1.9,0.46238314521416596,"W",null,null,null,null,null,null,119]
["W",2.2000000000000002,0.40621644246964012,"W",null,null,null,null,null,null,121]
["L",1.95,0.51789481184825881,"W",null,null,null,null,null,null,117]
["W",1.8,0.34616437689098722,"W",null,null,null,null,null,null,125]
["L",2.1,0.17714477641067009,"L",null,null,null,null,null,null,113]
["L",2.2000000000000002,0.39130342168277299,"W",null,null,null,null,null,null,113]
["W",1.77,0.92491814847335951,"W",null,null,null,null,null,null,114]
["L",2.0499999999999998,0.35631413311021148,"W",null,null,null,null,null,null,113]
["L",2.1,0.7372519426375207,"W",null,null,null,null,null,null,107]
["W",2.1,0.29409621116347523,"W",null,null,null,null,null,null,109]
["W",1.9,0.71423513564624841,"W",null,null,null,null,null,null,104]
["W",1.9,0.45864509604613918,"W",null,null,null,null,null,null,103]
["W",1.9,0.13715448133919475,"L",null,null,null,null,null,null,117]
["L",1.8,1.0034082059465588,"W",null,null,null,null,null,null,119]
["W",1.75,0.84275865077011503,"W",null,null,null,null,null,null,92]
["W",2,0.48937231529072189,"W",null,null,null,null,null,null,108]
["L",2.1,3.281426872497177E-3,"L",null,null,null,null,null,null,116]
["L",2.2000000000000002,0.15101253686679397,"L",null,null,null,null,null,null,111]
["W",1.9,0.97522359040225393,"W",null,null,null,null,null,null,108]
["L",1.95,0.32875353984463379,"W",null,null,null,null,null,null,115]
["W",4.5,2.3142879692308958E-2,"L",null,null,null,null,null,null,123]
["L",2.35,0.40953882288008986,"W",null,null,null,null,null,null,124]
["W",1.8,0.70321384980163992,"W",null,null,null,null,null,null,113]
["W",1.8,1.1012316278312697,"W",null,null,null,null,null,null,120]
["W",2,0.78835563987049984,"W",null,null,null,null,null,null,109]
["L",2.35,0.45079494328719966,"W",null,null,null,null,null,null,120]
["W",1.9,8.5053904177713316E-2,"L",null,null,null,null,null,null,109]
["W",1.95,0.2416958085123774,"W",null,null,null,null,null,null,117]
["W",2.1,0.11415812109669041,"L",null,null,null,null,null,null,124]
["L",2,0.45488826839007723,"W",null,null,null,null,null,null,114]
["W",1.8,0.18636451710586255,"L",null,null,null,null,null,null,106]
["W",1.7,1.3018911234943629,"W",null,null,null,null,null,null,107]
["W",1.85,0.56080499244671944,"W",null,null,null,null,null,null,113]
["W",2.2999999999999998,0.25089420557805819,"W",null,null,null,null,null,null,111]
["W",2.0499999999999998,0.51900075310491145,"W",null,null,null,null,null,null,112]
["W",1.7,1.293599013631294,"W",null,null,null,null,null,null,113]
["W",1.95,0.1107541065316765,"L",null,null,null,null,null,null,117]
["L",2.35,{"$f":"IF(B67=\"\",\"\",(1/(B67-1))*RAND())","v":0.33443855462989397},{"$f":"IF(B67=\"\",\"\",IF(C67<LARGE(C:C,G$3),\"L\",\"W\"))","v":"W"},null,null,null,null,null,null,115]
["W",1.9,0.64886867758329636,"W",null,null,null,null,null,null,121]
["W",1.85,0.92804394556174208,"W",null,null,null,null,null,null,117]
["L",2,0.63734989179585355,"W",null,null,null,null,null,null,110]
["W",1.75,0.55897799473765153,"W",null,null,null,null,null,null,112]
["L",2.5499999999999998,0.30303558926727325,"W",null,null,null,null,null,null,117]
["W",1.8,0.75124521978347403,"W",null,null,null,null,null,null,122]
["W",1.9,1.101045754935249,"W",null,null,null,null,null,null,105]
["W",2.15,0.26974337627164041,"W",null,null,null,null,null,null,107]
["W",1.9,0.26864266263830516,"W",null,null,null,null,null,null,117]
["L",1.75,1.2994288788387132,"W",null,null,null,null,null,null,109]
["L",1.85,1.0346838493939576,"W",null,null,null,null,null,null,109]
["W",1.9,0.80125803536651152,"W",null,null,null,null,null,null,105]
["W",3.2,0.19606613825003899,"L",null,null,null,null,null,null,106]
["W",1.9,0.83428518143785368,"W",null,null,null,null,null,null,110]
["W",2,0.38327864362906428,"W",null,null,null,null,null,null,119]
["W",1.8,0.24006425343577442,"W",null,null,null,null,null,null,106]
["W",1.8,6.4389609769411882E-2,"L",null,null,null,null,null,null,118]
["L",1.9,0.54183646675615371,"W",null,null,null,null,null,null,109]
["W",1.7,0.369820054819195,"W",null,null,null,null,null,null,117]
["W",2,0.13364036288049541,"L",null,null,null,null,null,null,108]
["W",2.0499999999999998,0.48561981910905866,"W",null,null,null,null,null,null,109]
["L",2.2000000000000002,0.12044099067264168,"L",null,null,null,null,null,null,118]
["W",1.9,0.89007374868328215,"W",null,null,null,null,null,null,109]
["W",1.8,1.0296797726461648,"W",null,null,null,null,null,null,114]
["W",2.1,0.50770981887199007,"W",null,null,null,null,null,null,109]
["W",2.2000000000000002,0.60035621510895842,"W",null,null,null,null,null,null,110]
["W",1.9,3.8915428313832413E-2,"L",null,null,null,null,null,null,113]
["W",2.1,0.32800239748515547,"W",null,null,null,null,null,null,113]
["L",2.2000000000000002,0.20328304216131113,"L",null,null,null,null,null,null,94]
["W",1.9,0.15494365230344434,"L",null,null,null,null,null,null,122]
["L",2.2000000000000002,0.21100932352577298,"L",null,null,null,null,null,null,110]
["W",2.1,2.7757254573290903E-2,"L",null,null,null,null,null,null,119]
["W",1.8,0.46409608434524324,"W",null,null,null,null,null,null,105]
["W",2.15,0.13192057107740002,"L",null,null,null,null,null,null,109]
["W",2,0.86298119608942603,"W"]
["W",1.9,0.41779583418622662,"W"]
["L",2.2000000000000002,0.55271566970410468,"W"]
["W",1.8,0.98162005930780727,"W"]
["L",2.2000000000000002,0.66475439498216637,"W"]
["W",2,0.43897476824424331,"W"]
["W",2.1,0.43333629233773069,"W"]
["W",2,0.18931139100032635,"L"]
["W",2,0.24521233194187553,"W"]
["W",1.9,0.67368016639852557,"W"]
["L",2,0.83530792119409902,"W"]
["W",1.8,1.0103770267213454,"W"]
["W",2,0.53236428766367649,"W"]
["W",1.9,0.5197416051288295,"W"]
["L",2.7,0.23034493710279974,"L"]
["W",3.3,0.31315313689803193,"W"]
["W",2.1,0.55043009826620826,"W"]
["W",2.2999999999999998,0.51786750480275534,"W"]
["W",1.9,0.54417904814450024,"W"]
["W",2.2000000000000002,0.50571587352062575,"W"]
["L",2.1,0.57351646411733925,"W"]
["L",1.9,0.84382679515979198,"W"]
["W",2,0.46540978255160148,"W"]
["W",1.85,0.22495489195047549,"L"]
["W",2.2000000000000002,0.75532450874051871,"W"]
["W",2.4,0.2691683188283297,"W"]
["W",1.9,0.26103455953594179,"W"]
["W",1.95,0.11176517963744496,"L"]
["L",2.1,0.23047307427627575,"L"]
["W",2.2000000000000002,{"$f":"IF(B131=\"\",\"\",(1/(B131-1))*RAND())","v":0.39520078013951371},{"$f":"IF(B131=\"\",\"\",IF(C131<LARGE(C:C,G$3),\"L\",\"W\"))","v":"W"}]
["W",2.5,0.26570554190614448,"W"]
["L",1.85,0.35225500746372762,"W"]
["W",2.1,0.8548554565361457,"W"]
["W",3,0.49943209405864009,"W"]
["L",2.25,0.42916166510093989,"W"]
["W",2.1,5.1884926410387007E-2,"L"]
["L",4.5,0.17949491609123117,"L"]
["W",2.4500000000000002,0.22149017665216075,"L"]
["W",1.85,0.75983248470345899,"W"]
["W",1.9,0.95531696108742858,"W"]
["W",2.4,0.60150157603447252,"W"]
["W",2.2999999999999998,0.5071284553918145,"W"]
["W",1.85,0.86990805817521888,"W"]
["W",2.0499999999999998,0.46333290424095752,"W"]
["W",1.7,0.82722465131007261,"W"]
["W",1.75,1.1452937717910783,"W"]
["W",1.95,0.66294299371248311,"W"]
["W",1.85,0.16444538588446631,"L"]
["L",2.5,0.5816422420556423,"W"]
["W",4.5,5.6678670733085933E-2,"L"]
["L",1.75,0.82898914701034809,"W"]
["W",2.35,0.55386665628504494,"W"]
["W",2,0.28868240908779352,"W"]
["W",2.1,0.15989731931092532,"L"]
["L",2.4,0.29820557752327598,"W"]
["W",2.5,6.8013732737745386E-2,"L"]
["W",1.85,0.43208782420334391,"W"]
["W",2.1,0.16638376418636433,"L"]
["W",2,0.8194062294542781,"W"]
["W",2.0499999999999998,0.40916956082902384,"W"]
["W",2.1,0.27909072609342239,"W"]
["W",2,0.75836155387275106,"W"]
["L",2.2999999999999998,8.3221475699216771E-2,"L"]
["W",1.8,0.49028004210297849,"W"]
["W",1.8,0.8201031235748657,"W"]
["L",2.2999999999999998,0.64269647408985109,"W"]
["W",2,0.12444612085494455,"L"]
["W",1.8,0.93130877354218433,"W"]
["W",1.7,1.1099021043505115,"W"]
["W",2.1,0.4617203401371629,"W"]
["W",1.8,0.59598310896609719,"W"]
["L",1.7,0.94612589970698946,"W"]
["W",1.8,0.62480347605780029,"W"]
["W",2,1.6525742545919098E-2,"L"]
["W",1.8,0.57911309992038862,"W"]
["W",2,0.61999322802078938,"W"]
["W",1.8,0.6209570583314219,"W"]
["W",1.85,0.42379905500596821,"W"]
["L",2,0.90790048846682225,"W"]
["W",2,0.5863667195266995,"W"]
["L",2.2000000000000002,0.48576487544147523,"W"]
["W",1.9,0.56411066816524424,"W"]
["W",1.85,4.6765657317792329E-2,"L"]
["W",1.7,1.1748457827540091,"W"]
["L",2,0.27746576801348954,"W"]
["W",1.9,0.23260267005459728,"L"]
["L",1.8,0.67818938370362258,"W"]
["W",1.8,1.1048762329477426,"W"]
["W",2,0.92082253284524862,"W"]
["W",2.1,0.43084934989385371,"W"]
["W",1.75,0.96422110057044463,"W"]
["W",1.9,0.27144693448206891,"W"]
["L",1.9,0.65403100049558449,"W"]
["W",2,{"$f":"IF(B195=\"\",\"\",(1/(B195-1))*RAND())","v":0.76169289402117579},{"$f":"IF(B195=\"\",\"\",IF(C195<LARGE(C:C,G$3),\"L\",\"W\"))","v":"W"}]
["L",2,0.19828703737720677,"L"]
["W",2.0499999999999998,0.60006293881507733,"W"]
["L",2.2000000000000002,0.51093058598430829,"W"]
["W",1.8,1.0670129301311817,"W"]
["W",2,0.35524756465894836,"W"]
["L",2.2000000000000002,0.43371203340755388,"W"]
["W",2.15,0.79567102175859961,"W"]
["W",1.7,1.3755792296062035,"W"]
["W",2.2000000000000002,0.13466498556957177,"L"]
["L",2,9.2378601940856342E-2,"L"]
["W",2.1,0.3220121438515347,"W"]
["W",2.5,0.43753994880813779,"W"]
["L",2.1,0.66790703479874314,"W"]
["W",2.4500000000000002,0.47228561495650645,"W"]
["W",1.6,0.32473405476954204,"W"]
["W",1.7,0.33748468151900468,"W"]
["W",1.7,4.0734991182144346E-2,"L"]
["W",1.9,0.70765200545018658,"W"]
["L",3.5,0.11814782192198088,"L"]
["W",1.75,0.14426152857516664,"L"]
["W",3,4.8764502109681196E-2,"L"]
["W",2,0.37093638684310815,"W"]
["L",2.4,0.10339623339089712,"L"]
["W",2,0.59123502344373779,"W"]
["W",1.9,0.26339007519108237,"W"]
["L",2.1,0.11738712748199537,"L"]
["W",1.8,0.11274456106791508,"L"]
["L",1.9,0.72965395336868077,"W"]
["L",2.0499999999999998,0.76105762353776629,"W"]
["W",1.9,0.75086241840912027,"W"]
["W",2,0.83436296909143337,"W"]
["W",1.8,0.36471758024657408,"W"]
["W",1.75,0.31553954607646872,"W"]
["L",1.8,0.52961153151653728,"W"]
["W",1.65,0.22481725526930887,"L"]
["W",1.75,0.53473124970517105,"W"]
["W",2.15,4.1574657824295883E-2,"L"]
["W",1.9,0.91888910015558878,"W"]
["L",1.8,8.9224942903589899E-2,"L"]
["W",2.4500000000000002,0.43846785164759594,"W"]
["L",2.75,0.21938964206269848,"L"]
["W",2,0.29482449944255351,"W"]
["W",1.9,0.67766348112298291,"W"]
["W",2,0.62840373919857484,"W"]
["W",2.0499999999999998,0.70113175140187622,"W"]
["W",1.7,0.56707637406721467,"W"]
["W",2,0.30532904352556578,"W"]
["L",2,0.53123957873412486,"W"]
["W",2,0.45256963275844697,"W"]
["W",1.95,0.20200914578323292,"L"]
["W",2.5,0.28579042004038691,"W"]
["W",2.15,0.24686082397599515,"W"]
["W",2.1,0.48189625250811202,"W"]
["W",1.85,2.7410587281436156E-2,"L"]
["L",1.9,0.88951744936281185,"W"]
["L",1.9,0.20098984736711087,"L"]
["W",1.8,0.24889256283798011,"W"]
["W",2.2000000000000002,0.61595152348687654,"W"]
["W",1.8,0.37933446189607922,"W"]
["W",2,0.6928072308157267,"W"]
["W",1.8,1.0979682343035135,"W"]
["L",2,2.6239430967527344E-3,"L"]
["W",1.75,0.37772484289117847,"W"]
["L",2.0499999999999998,{"$f":"IF(B259=\"\",\"\",(1/(B259-1))*RAND())","v":0.37697317634116206},{"$f":"IF(B259=\"\",\"\",IF(C259<LARGE(C:C,G$3),\"L\",\"W\"))","v":"W"}]
["W",1.85,0.18017439353173634,"L"]
["W",2,4.6751686345393173E-2,"L"]
["W",2.2999999999999998,7.5016481826711251E-2,"L"]
["W",1.8,0.46252193227587002,"W"]
["W",1.9,1.010353674096018,"W"]
["L",2,0.54665092342154242,"W"]
["W",1.9,0.13235905212324342,"L"]
["W",1.9,1.5698464682086431E-2,"L"]
["L",2.0499999999999998,0.15124768300983862,"L"]
["W",2,0.89748378650955996,"W"]
["W",2.1,0.3155219914878401,"W"]
["W",1.9,0.35916265896664179,"W"]
["W",2.2000000000000002,0.51220349558831813,"W"]
["W",1.75,0.34602182212687804,"W"]
["L",1.9,0.82370264565860118,"W"]
["W",1.8,1.2269430593182657,"W"]
["W",2,0.1617047171321655,"L"]
["W",2.2000000000000002,0.56541244324189532,"W"]
["W",1.8,0.11076898074997676,"L"]
["L",1.85,0.38365459694364523,"W"]
["W",1.9,0.83683263803097918,"W"]
["W",2,0.25995254976959603,"W"]
["W",1.7,1.0933540006875364,"W"]
["W",2.1,0.85104507495860415,"W"]
["W",1.8,0.50177669884203913,"W"]
["W",1.85,0.42220998481411093,"W"]
["L",2,0.66736622560079439,"W"]
["W",1.9,1.0538075931944397,"W"]
["L",1.7,1.2300662819443517,"W"]
["W",1.9,0.68697862266857435,"W"]
["W",2,0.57403857007942527,"W"]
["W",1.8,0.50482342148870507,"W"]
["L",2.2000000000000002,0.71688120489700946,"W"]
["W",1.8,4.0929076980420476E-2,"L"]
["W",2.0499999999999998,0.47932974869334399,"W"]
["W",1.8,0.17876732802608486,"L"]
["L",2,3.8973818206949673E-2,"L"]
["L",1.8,0.87083809294397629,"W"]
[null,null,"",{"$f":"IF(B298=\"\",\"\",IF(C298<LARGE(C:C,G$3),\"L\",\"W\"))","v":""}]
[null,null,"",""]
[null,null,"",""]
[null,null,"",""]
[null,null,"",""]
[null,null,"",""]
[null,null,"",""]
[null,null,"",""]
[null,null,"",""]
[null,null,"",""]
[null,null,"",""]
[null,null,"",""]
[null,null,"",""]
[null,null,"",""]
[null,null,"",""]
[null,null,"",""]
[null,null,"",""]
[null,null,"",""]
[null,null,"",""]
[null,null,"",""]
[null,null,"",""]
[null,null,"",""]
[null,null,"",""]
[null,null,"",""]
[null,null,"",""]
[null,null,{"$f":"IF(B323=\"\",\"\",(1/(B323-1))*RAND())","v":""},""]
[null,null,"",""]
[null,null,"",""]
[null,null,"",""]
[null,null,"",""]
[null,null,"",""]
[null,null,"",""]
[null,null,"",""]
[null,null,"",""]
[null,null,"",""]
[null,null,"",""]
[null,null,"",""]
[null,null,"",""]
[null,null,"",""]
[null,null,"",""]
[null,null,"",""]
[null,null,"",""]
[null,null,"",""]
[null,null,"",""]
[null,null,"",""]
[null,null,"",""]
[null,null,"",""]
[null,null,"",""]
[null,null,"",""]
[null,null,"",""]
[null,null,"",""]
[null,null,"",""]
[null,null,"",""]
[null,null,"",""]
[null,null,"",""]
[null,null,"",""]
[null,null,"",""]
[null,null,"",""]
[null,null,"",""]
[null,null,"",""]
[null,null,"",""]
[null,null,"",""]
[null,null,"",""]
[null,null,"",""]
[null,null,"",{"$f":"IF(B362=\"\",\"\",IF(C362<LARGE(C:C,G$3),\"L\",\"W\"))","v":""}]
[null,null,"",""]
[null,null,"",""]
[null,null,"",""]
[null,null,"",""]
[null,null,"",""]
[null,null,"",""]
[null,null,"",""]
[null,null,"",""]
[null,null,"",""]
[null,null,"",""]
[null,null,"",""]
[null,null,"",""]
[null,null,"",""]
[null,null,"",""]
[null,null,"",""]
[null,null,"",""]
[null,null,"",""]
[null,null,"",""]
[null,null,"",""]
[null,null,"",""]
[null,null,"",""]
[null,null,"",""]
[null,null,"",""]
[null,null,"",""]
[null,null,{"$f":"IF(B387=\"\",\"\",(1/(B387-1))*RAND())","v":""},""]
[null,null,"",""]
[null,null,"",""]
[null,null,"",""]
[null,null,"",""]
[null,null,"",""]
[null,null,"",""]
[null,null,"",""]
[null,null,"",""]
[null,null,"",""]
[null,null,"",""]
[null,null,"",""]
[null,null,"",""]
[null,null,"",""]
[null,null,"",""]
[null,null,"",""]
[null,null,"",""]
[null,null,"",""]
[null,null,"",""]
[null,null,"",""]
[null,null,"",""]
[null,null,"",""]
[null,null,"",""]
[null,null,"",""]
[null,null,"",""]
[null,null,"",""]
[null,null,"",""]
[null,null,"",""]
[null,null,"",""]
[null,null,"",""]
[null,null,"",""]
[null,null,"",""]
[null,null,"",""]
[null,null,"",""]
[null,null,"",""]
[null,null,"",""]
[null,null,"",""]
[null,null,"",""]
[null,null,"",""]
[null,null,"",{"$f":"IF(B426=\"\",\"\",IF(C426<LARGE(C:C,G$3),\"L\",\"W\"))","v":""}]
[null,null,"",""]
[null,null,"",""]
[null,null,"",""]
[null,null,"",""]
[null,null,"",""]
[null,null,"",""]
[null,null,"",""]
[null,null,"",""]
[null,null,"",""]
[null,null,"",""]
[null,null,"",""]
[null,null,"",""]
[null,null,"",""]
[null,null,"",""]
[null,null,"",""]
[null,null,"",""]
[null,null,"",""]
[null,null,"",""]
[null,null,"",""]
[null,null,"",""]
[null,null,"",""]
[null,null,"",""]
[null,null,"",""]
[null,null,"",""]
[null,null,{"$f":"IF(B451=\"\",\"\",(1/(B451-1))*RAND())","v":""},""]
[null,null,"",""]
[null,null,"",""]
[null,null,"",""]
[null,null,"",""]
[null,null,"",""]
[null,null,"",""]
[null,null,"",""]
[null,null,"",""]
[null,null,"",""]
[null,null,"",""]
[null,null,"",""]
[null,null,"",""]
[null,null,"",""]
[null,null,"",""]
[null,null,"",""]
[null,null,"",""]
[null,null,"",""]
[null,null,"",""]
[null,null,"",""]
[null,null,"",""]
[null,null,"",""]
[null,null,"",""]
[null,null,"",""]
[null,null,"",""]
[null,null,"",""]
[null,null,"",""]
[null,null,"",""]
[null,null,"",""]
[null,null,"",""]
[null,null,"",""]
[null,null,"",""]
[null,null,"",""]
[null,null,"",""]
[null,null,"",""]
[null,null,"",""]
[null,null,"",""]
[null,null,"",""]
[null,null,"",""]
[null,null,"",{"$f":"IF(B490=\"\",\"\",IF(C490<LARGE(C:C,G$3),\"L\",\"W\"))","v":""}]
[null,null,"",""]
[null,null,"",""]
[null,null,"",""]
[null,null,"",""]
[null,null,"",""]
[null,null,"",""]
[null,null,"",""]
[null,null,"",""]
[null,null,"",""]
[null,null,"",""]
[null,null,"",""]
[null,null,"",""]
[null,null,"",""]
[null,null,"",""]
[null,null,"",""]
[null,null,"",""]
[null,null,"",""]
[null,null,"",""]
[null,null,"",""]
[null,null,"",""]
[null,null,"",""]
[null,null,"",""]
[null,null,"",""]
[null,null,"",""]
[null,null,{"$f":"IF(B515=\"\",\"\",(1/(B515-1))*RAND())","v":""},""]
[null,null,"",""]
[null,null,"",""]
[null,null,"",""]
[null,null,"",""]
[null,null,"",""]
[null,null,"",""]
[null,null,"",""]
[null,null,"",""]
[null,null,"",""]
[null,null,"",""]
[null,null,"",""]
[null,null,"",""]
[null,null,"",""]
[null,null,"",""]
[null,null,"",""]
[null,null,"",""]
[null,null,"",""]
[null,null,"",""]
[null,null,"",""]
[null,null,"",""]
[null,null,"",""]
[null,null,"",""]
[null,null,"",""]
[null,null,"",""]
[null,null,"",""]
[null,null,"",""]
[null,null,"",""]
[null,null,"",""]
[null,null,"",""]
[null,null,"",""]
[null,null,"",""]
[null,null,"",""]
[null,null,"",""]
[null,null,"",""]
[null,null,"",""]
[null,null,"",""]
[null,null,"",""]
[null,null,"",""]
[null,null,"",{"$f":"IF(B554=\"\",\"\",IF(C554<LARGE(C:C,G$3),\"L\",\"W\"))","v":""}]
[null,null,"",""]
[null,null,"",""]
[null,null,"",""]
[null,null,"",""]
[null,null,"",""]
[null,null,"",""]
[null,null,"",""]
[null,null,"",""]
[null,null,"",""]
[null,null,"",""]
[null,null,"",""]
[null,null,"",""]
[null,null,"",""]
[null,null,"",""]
[null,null,"",""]
[null,null,"",""]
[null,null,"",""]
[null,null,"",""]
[null,null,"",""]
[null,null,"",""]
[null,null,"",""]
[null,null,"",""]
[null,null,"",""]
[null,null,"",""]
[null,null,{"$f":"IF(B579=\"\",\"\",(1/(B579-1))*RAND())","v":""},""]
[null,null,"",""]
[null,null,"",""]
[null,null,"",""]
[null,null,"",""]
[null,null,"",""]
[null,null,"",""]
[null,null,"",""]
[null,null,"",""]
[null,null,"",""]
[null,null,"",""]
[null,null,"",""]
[null,null,"",""]
[null,null,"",""]
[null,null,"",""]
[null,null,"",""]
[null,null,"",""]
[null,null,"",""]
[null,null,"",""]
[null,null,"",""]
[null,null,"",""]
[null,null,"",""]
[null,null,"",""]
[null,null,"",""]
[null,null,"",""]
[null,null,"",""]
[null,null,"",""]
[null,null,"",""]
[null,null,"",""]
[null,null,"",""]
[null,null,"",""]
[null,null,"",""]
[null,null,"",""]
[null,null,"",""]
[null,null,"",""]
[null,null,"",""]
[null,null,"",""]
[null,null,"",""]
[null,null,"",""]
[null,null,"",{"$f":"IF(B618=\"\",\"\",IF(C618<LARGE(C:C,G$3),\"L\",\"W\"))","v":""}]
[null,null,"",""]
[null,null,"",""]
[null,null,"",""]
[null,null,"",""]
[null,null,"",""]
[null,null,"",""]
[null,null,"",""]
[null,null,"",""]
[null,null,"",""]
[null,null,"",""]
[null,null,"",""]
[null,null,"",""]
[null,null,"",""]
[null,null,"",""]
[null,null,"",""]
[null,null,"",""]
[null,null,"",""]
[null,null,"",""]
[null,null,"",""]
[null,null,"",""]
[null,null,"",""]
[null,null,"",""]
[null,null,"",""]
[null,null,"",""]
[null,null,{"$f":"IF(B643=\"\",\"\",(1/(B643-1))*RAND())","v":""},""]
[null,null,"",""]
[null,null,"",""]
[null,null,"",""]
[null,null,"",""]
[null,null,"",""]
[null,null,"",""]
[null,null,"",""]
[null,null,"",""]
[null,null,"",""]
[null,null,"",""]
[null,null,"",""]
[null,null,"",""]
[null,null,"",""]
[null,null,"",""]
[null,null,"",""]
[null,null,"",""]
[null,null,"",""]
[null,null,"",""]
[null,null,"",""]
[null,null,"",""]
[null,null,"",""]
[null,null,"",""]
[null,null,"",""]
[null,null,"",""]
[null,null,"",""]
[null,null,"",""]
[null,null,"",""]
[null,null,"",""]
[null,null,"",""]
[null,null,"",""]
[null,null,"",""]
[null,null,"",""]
[null,null,"",""]
[null,null,"",""]
[null,null,"",""]
[null,null,"",""]
[null,null,"",""]
[null,null,"",""]
[null,null,"",{"$f":"IF(B682=\"\",\"\",IF(C682<LARGE(C:C,G$3),\"L\",\"W\"))","v":""}]
[null,null,"",""]
[null,null,"",""]
[null,null,"",""]
[null,null,"",""]
[null,null,"",""]
[null,null,"",""]
[null,null,"",""]
[null,null,"",""]
[null,null,"",""]
[null,null,"",""]
[null,null,"",""]
[null,null,"",""]
[null,null,"",""]
[null,null,"",""]
[null,null,"",""]
[null,null,"",""]
[null,null,"",""]
[null,null,"",""]
[null,null,"",""]
[null,null,"",""]
[null,null,"",""]
[null,null,"",""]
[null,null,"",""]
[null,null,"",""]
[null,null,{"$f":"IF(B707=\"\",\"\",(1/(B707-1))*RAND())","v":""},""]
[null,null,"",""]
[null,null,"",""]
[null,null,"",""]
[null,null,"",""]
[null,null,"",""]
[null,null,"",""]
[null,null,"",""]
[null,null,"",""]
[null,null,"",""]
[null,null,"",""]
[null,null,"",""]
[null,null,"",""]
[null,null,"",""]
[null,null,"",""]
[null,null,"",""]
[null,null,"",""]
[null,null,"",""]
[null,null,"",""]
[null,null,"",""]
[null,null,"",""]
[null,null,"",""]
[null,null,"",""]
[null,null,"",""]
[null,null,"",""]
[null,null,"",""]
[null,null,"",""]
[null,null,"",""]
[null,null,"",""]
[null,null,"",""]
[null,null,"",""]
[null,null,"",""]
[null,null,"",""]
[null,null,"",""]
[null,null,"",""]
[null,null,"",""]
[null,null,"",""]
[null,null,"",""]
[null,null,"",""]
[null,null,"",{"$f":"IF(B746=\"\",\"\",IF(C746<LARGE(C:C,G$3),\"L\",\"W\"))","v":""}]
[null,null,"",""]
[null,null,"",""]
[null,null,"",""]
[null,null,"",""]
[null,null,"",""]
[null,null,"",""]
[null,null,"",""]
[null,null,"",""]
[null,null,"",""]
[null,null,"",""]
[null,null,"",""]
[null,null,"",""]
[null,null,"",""]
[null,null,"",""]
[null,null,"",""]
[null,null,"",""]
[null,null,"",""]
[null,null,"",""]
[null,null,"",""]
[null,null,"",""]
[null,null,"",""]
[null,null,"",""]
[null,null,"",""]
[null,null,"",""]
[null,null,{"$f":"IF(B771=\"\",\"\",(1/(B771-1))*RAND())","v":""},""]
[null,null,"",""]
[null,null,"",""]
[null,null,"",""]
[null,null,"",""]
[null,null,"",""]
[null,null,"",""]
[null,null,"",""]
[null,null,"",""]
[null,null,"",""]
[null,null,"",""]
[null,null,"",""]
[null,null,"",""]
[null,null,"",""]
[null,null,"",""]
[null,null,"",""]
[null,null,"",""]
[null,null,"",""]
[null,null,"",""]
[null,null,"",""]
[null,null,"",""]
[null,null,"",""]
[null,null,"",""]
[null,null,"",""]
[null,null,"",""]
[null,null,"",""]
[null,null,"",""]
[null,null,"",""]
[null,null,"",""]
[null,null,"",""]
[null,null,"",""]
[null,null,"",""]
[null,null,"",""]
[null,null,"",""]
[null,null,"",""]
[null,null,"",""]
[null,null,"",""]
[null,null,"",""]
[null,null,"",""]
[null,null,"",{"$f":"IF(B810=\"\",\"\",IF(C810<LARGE(C:C,G$3),\"L\",\"W\"))","v":""}]
[null,null,"",""]
[null,null,"",""]
[null,null,"",""]
[null,null,"",""]
[null,null,"",""]
[null,null,"",""]
[null,null,"",""]
[null,null,"",""]
[null,null,"",""]
[null,null,"",""]
[null,null,"",""]
[null,null,"",""]
[null,null,"",""]
[null,null,"",""]
[null,null,"",""]
[null,null,"",""]
[null,null,"",""]
[null,null,"",""]
[null,null,"",""]
[null,null,"",""]
[null,null,"",""]
[null,null,"",""]
[null,null,"",""]
[null,null,"",""]
[null,null,{"$f":"IF(B835=\"\",\"\",(1/(B835-1))*RAND())","v":""},""]
[null,null,"",""]
[null,null,"",""]
[null,null,"",""]
[null,null,"",""]
[null,null,"",""]
[null,null,"",""]
[null,null,"",""]
[null,null,"",""]
[null,null,"",""]
[null,null,"",""]
[null,null,"",""]
[null,null,"",""]
[null,null,"",""]
[null,null,"",""]
[null,null,"",""]
[null,null,"",""]
[null,null,"",""]
[null,null,"",""]
[null,null,"",""]
[null,null,"",""]
[null,null,"",""]
[null,null,"",""]
[null,null,"",""]
[null,null,"",""]
[null,null,"",""]
[null,null,"",""]
[null,null,"",""]
[null,null,"",""]
[null,null,"",""]
[null,null,"",""]
[null,null,"",""]
[null,null,"",""]
[null,null,"",""]
[null,null,"",""]
[null,null,"",""]
[null,null,"",""]
[null,null,"",""]
[null,null,"",""]
[null,null,"",{"$f":"IF(B874=\"\",\"\",IF(C874<LARGE(C:C,G$3),\"L\",\"W\"))","v":""}]
[null,null,"",""]
[null,null,"",""]
[null,null,"",""]
[null,null,"",""]
[null,null,"",""]
[null,null,"",""]
[null,null,"",""]
[null,null,"",""]
[null,null,"",""]
[null,null,"",""]
[null,null,"",""]
[null,null,"",""]
[null,null,"",""]
[null,null,"",""]
[null,null,"",""]
[null,null,"",""]
[null,null,"",""]
[null,null,"",""]
[null,null,"",""]
[null,null,"",""]
[null,null,"",""]
[null,null,"",""]
[null,null,"",""]
[null,null,"",""]
[null,null,{"$f":"IF(B899=\"\",\"\",(1/(B899-1))*RAND())","v":""},""]
[null,null,"",""]
[null,null,"",""]
[null,null,"",""]
[null,null,"",""]
[null,null,"",""]
[null,null,"",""]
[null,null,"",""]
[null,null,"",""]
[null,null,"",""]
[null,null,"",""]
[null,null,"",""]
[null,null,"",""]
[null,null,"",""]
[null,null,"",""]
[null,null,"",""]
[null,null,"",""]
[null,null,"",""]
[null,null,"",""]
[null,null,"",""]
[null,null,"",""]
[null,null,"",""]
[null,null,"",""]
[null,null,"",""]
[null,null,"",""]
[null,null,"",""]
[null,null,"",""]
[null,null,"",""]
[null,null,"",""]
[null,null,"",""]
[null,null,"",""]
[null,null,"",""]
[null,null,"",""]
[null,null,"",""]
[null,null,"",""]
[null,null,"",""]
[null,null,"",""]
[null,null,"",""]
[null,null,"",""]
[null,null,"",{"$f":"IF(B938=\"\",\"\",IF(C938<LARGE(C:C,G$3),\"L\",\"W\"))","v":""}]
[null,null,"",""]
[null,null,"",""]
[null,null,"",""]
[null,null,"",""]
[null,null,"",""]
[null,null,"",""]
[null,null,"",""]
[null,null,"",""]
[null,null,"",""]
[null,null,"",""]
[null,null,"",""]
[null,null,"",""]
[null,null,"",""]
[null,null,"",""]
[null,null,"",""]
[null,null,"",""]
[null,null,"",""]
[null,null,"",""]
[null,null,"",""]
[null,null,"",""]
[null,null,"",""]
[null,null,"",""]
[null,null,"",""]
[null,null,"",""]
[null,null,{"$f":"IF(B963=\"\",\"\",(1/(B963-1))*RAND())","v":""},""]
[null,null,"",""]
[null,null,"",""]
[null,null,"",""]
[null,null,"",""]
[null,null,"",""]
[null,null,"",""]
[null,null,"",""]
[null,null,"",""]
[null,null,"",""]
[null,null,"",""]
[null,null,"",""]
[null,null,"",""]
[null,null,"",""]
[null,null,"",""]
[null,null,"",""]
[null,null,"",""]
[null,null,"",""]
[null,null,"",""]
[null,null,"",""]
[null,null,"",""]
[null,null,"",""]
[null,null,"",""]
[null,null,"",""]
[null,null,"",""]
[null,null,"",""]
[null,null,"",""]
[null,null,"",""]
[null,null,"",""]
[null,null,"",""]
[null,null,"",""]
[null,null,"",""]
[null,null,"",""]
[null,null,"",""]
[null,null,"",""]
[null,null,"",""]
[null,null,"",""]
[null,null,"",""]
[null,null,"",""]

{"sheet":"Runs_data","index":1,"n_rows":1001,"n_cols":2,"rows_kept":1001,"cut":false,"hidden":false,"merged":[]}
["Runs_O","Runs_MC"]
[{"$f":"IF(Runs_test!A2=OFFSET(Runs_test!A2,1,0),\"\",1)","v":1},{"$f":"IF(Runs_test!D2=OFFSET(Runs_test!D2,1,0),\"\",1)","v":1}]
[{"$f":"IF(Runs_test!A3=OFFSET(Runs_test!A3,1,0),\"\",1)","v":""},{"$f":"IF(Runs_test!D3=OFFSET(Runs_test!D3,1,0),\"\",1)","v":1}]
[{"$f":"IF(Runs_test!A4=OFFSET(Runs_test!A4,1,0),\"\",1)","v":""},{"$f":"IF(Runs_test!D4=OFFSET(Runs_test!D4,1,0),\"\",1)","v":1}]
[{"$f":"IF(Runs_test!A5=OFFSET(Runs_test!A5,1,0),\"\",1)","v":""},{"$f":"IF(Runs_test!D5=OFFSET(Runs_test!D5,1,0),\"\",1)","v":1}]
[{"$f":"IF(Runs_test!A6=OFFSET(Runs_test!A6,1,0),\"\",1)","v":""},{"$f":"IF(Runs_test!D6=OFFSET(Runs_test!D6,1,0),\"\",1)","v":""}]
[{"$f":"IF(Runs_test!A7=OFFSET(Runs_test!A7,1,0),\"\",1)","v":1},{"$f":"IF(Runs_test!D7=OFFSET(Runs_test!D7,1,0),\"\",1)","v":""}]
[{"$f":"IF(Runs_test!A8=OFFSET(Runs_test!A8,1,0),\"\",1)","v":1},{"$f":"IF(Runs_test!D8=OFFSET(Runs_test!D8,1,0),\"\",1)","v":1}]
[{"$f":"IF(Runs_test!A9=OFFSET(Runs_test!A9,1,0),\"\",1)","v":""},{"$f":"IF(Runs_test!D9=OFFSET(Runs_test!D9,1,0),\"\",1)","v":""}]
[{"$f":"IF(Runs_test!A10=OFFSET(Runs_test!A10,1,0),\"\",1)","v":1},{"$f":"IF(Runs_test!D10=OFFSET(Runs_test!D10,1,0),\"\",1)","v":1}]
[{"$f":"IF(Runs_test!A11=OFFSET(Runs_test!A11,1,0),\"\",1)","v":1},{"$f":"IF(Runs_test!D11=OFFSET(Runs_test!D11,1,0),\"\",1)","v":""}]
[{"$f":"IF(Runs_test!A12=OFFSET(Runs_test!A12,1,0),\"\",1)","v":1},{"$f":"IF(Runs_test!D12=OFFSET(Runs_test!D12,1,0),\"\",1)","v":""}]
[{"$f":"IF(Runs_test!A13=OFFSET(Runs_test!A13,1,0),\"\",1)","v":1},{"$f":"IF(Runs_test!D13=OFFSET(Runs_test!D13,1,0),\"\",1)","v":""}]
[{"$f":"IF(Runs_test!A14=OFFSET(Runs_test!A14,1,0),\"\",1)","v":""},{"$f":"IF(Runs_test!D14=OFFSET(Runs_test!D14,1,0),\"\",1)","v":1}]
[{"$f":"IF(Runs_test!A15=OFFSET(Runs_test!A15,1,0),\"\",1)","v":""},{"$f":"IF(Runs_test!D15=OFFSET(Runs_test!D15,1,0),\"\",1)","v":""}]
[{"$f":"IF(Runs_test!A16=OFFSET(Runs_test!A16,1,0),\"\",1)","v":1},{"$f":"IF(Runs_test!D16=OFFSET(Runs_test!D16,1,0),\"\",1)","v":""}]
[{"$f":"IF(Runs_test!A17=OFFSET(Runs_test!A17,1,0),\"\",1)","v":1},{"$f":"IF(Runs_test!D17=OFFSET(Runs_test!D17,1,0),\"\",1)","v":1}]
[{"$f":"IF(Runs_test!A18=OFFSET(Runs_test!A18,1,0),\"\",1)","v":1},{"$f":"IF(Runs_test!D18=OFFSET(Runs_test!D18,1,0),\"\",1)","v":""}]
[{"$f":"IF(Runs_test!A19=OFFSET(Runs_test!A19,1,0),\"\",1)","v":1},{"$f":"IF(Runs_test!D19=OFFSET(Runs_test!D19,1,0),\"\",1)","v":1}]
[{"$f":"IF(Runs_test!A20=OFFSET(Runs_test!A20,1,0),\"\",1)","v":""},{"$f":"IF(Runs_test!D20=OFFSET(Runs_test!D20,1,0),\"\",1)","v":1}]
[{"$f":"IF(Runs_test!A21=OFFSET(Runs_test!A21,1,0),\"\",1)","v":1},{"$f":"IF(Runs_test!D21=OFFSET(Runs_test!D21,1,0),\"\",1)","v":""}]
[{"$f":"IF(Runs_test!A22=OFFSET(Runs_test!A22,1,0),\"\",1)","v":1},{"$f":"IF(Runs_test!D22=OFFSET(Runs_test!D22,1,0),\"\",1)","v":1}]
[{"$f":"IF(Runs_test!A23=OFFSET(Runs_test!A23,1,0),\"\",1)","v":""},{"$f":"IF(Runs_test!D23=OFFSET(Runs_test!D23,1,0),\"\",1)","v":1}]
[{"$f":"IF(Runs_test!A24=OFFSET(Runs_test!A24,1,0),\"\",1)","v":""},{"$f":"IF(Runs_test!D24=OFFSET(Runs_test!D24,1,0),\"\",1)","v":1}]
[{"$f":"IF(Runs_test!A25=OFFSET(Runs_test!A25,1,0),\"\",1)","v":""},{"$f":"IF(Runs_test!D25=OFFSET(Runs_test!D25,1,0),\"\",1)","v":1}]
[{"$f":"IF(Runs_test!A26=OFFSET(Runs_test!A26,1,0),\"\",1)","v":""},{"$f":"IF(Runs_test!D26=OFFSET(Runs_test!D26,1,0),\"\",1)","v":""}]
[{"$f":"IF(Runs_test!A27=OFFSET(Runs_test!A27,1,0),\"\",1)","v":""},{"$f":"IF(Runs_test!D27=OFFSET(Runs_test!D27,1,0),\"\",1)","v":""}]
[{"$f":"IF(Runs_test!A28=OFFSET(Runs_test!A28,1,0),\"\",1)","v":""},{"$f":"IF(Runs_test!D28=OFFSET(Runs_test!D28,1,0),\"\",1)","v":""}]
[{"$f":"IF(Runs_test!A29=OFFSET(Runs_test!A29,1,0),\"\",1)","v":""},{"$f":"IF(Runs_test!D29=OFFSET(Runs_test!D29,1,0),\"\",1)","v":""}]
[{"$f":"IF(Runs_test!A30=OFFSET(Runs_test!A30,1,0),\"\",1)","v":""},{"$f":"IF(Runs_test!D30=OFFSET(Runs_test!D30,1,0),\"\",1)","v":""}]
[{"$f":"IF(Runs_test!A31=OFFSET(Runs_test!A31,1,0),\"\",1)","v":1},{"$f":"IF(Runs_test!D31=OFFSET(Runs_test!D31,1,0),\"\",1)","v":""}]
[{"$f":"IF(Runs_test!A32=OFFSET(Runs_test!A32,1,0),\"\",1)","v":1},{"$f":"IF(Runs_test!D32=OFFSET(Runs_test!D32,1,0),\"\",1)","v":""}]
[{"$f":"IF(Runs_test!A33=OFFSET(Runs_test!A33,1,0),\"\",1)","v":1},{"$f":"IF(Runs_test!D33=OFFSET(Runs_test!D33,1,0),\"\",1)","v":1}]
[{"$f":"IF(Runs_test!A34=OFFSET(Runs_test!A34,1,0),\"\",1)","v":""},{"$f":"IF(Runs_test!D34=OFFSET(Runs_test!D34,1,0),\"\",1)","v":1}]
[{"$f":"IF(Runs_test!A35=OFFSET(Runs_test!A35,1,0),\"\",1)","v":1},{"$f":"IF(Runs_test!D35=OFFSET(Runs_test!D35,1,0),\"\",1)","v":""}]
[{"$f":"IF(Runs_test!A36=OFFSET(Runs_test!A36,1,0),\"\",1)","v":1},{"$f":"IF(Runs_test!D36=OFFSET(Runs_test!D36,1,0),\"\",1)","v":""}]
[{"$f":"IF(Runs_test!A37=OFFSET(Runs_test!A37,1,0),\"\",1)","v":""},{"$f":"IF(Runs_test!D37=OFFSET(Runs_test!D37,1,0),\"\",1)","v":""}]
[{"$f":"IF(Runs_test!A38=OFFSET(Runs_test!A38,1,0),\"\",1)","v":1},{"$f":"IF(Runs_test!D38=OFFSET(Runs_test!D38,1,0),\"\",1)","v":""}]
[{"$f":"IF(Runs_test!A39=OFFSET(Runs_test!A39,1,0),\"\",1)","v":""},{"$f":"IF(Runs_test!D39=OFFSET(Runs_test!D39,1,0),\"\",1)","v":""}]
[{"$f":"IF(Runs_test!A40=OFFSET(Runs_test!A40,1,0),\"\",1)","v":""},{"$f":"IF(Runs_test!D40=OFFSET(Runs_test!D40,1,0),\"\",1)","v":""}]
[{"$f":"IF(Runs_test!A41=OFFSET(Runs_test!A41,1,0),\"\",1)","v":""},{"$f":"IF(Runs_test!D41=OFFSET(Runs_test!D41,1,0),\"\",1)","v":1}]
[{"$f":"IF(Runs_test!A42=OFFSET(Runs_test!A42,1,0),\"\",1)","v":1},{"$f":"IF(Runs_test!D42=OFFSET(Runs_test!D42,1,0),\"\",1)","v":1}]
[{"$f":"IF(Runs_test!A43=OFFSET(Runs_test!A43,1,0),\"\",1)","v":1},{"$f":"IF(Runs_test!D43=OFFSET(Runs_test!D43,1,0),\"\",1)","v":""}]
[{"$f":"IF(Runs_test!A44=OFFSET(Runs_test!A44,1,0),\"\",1)","v":""},{"$f":"IF(Runs_test!D44=OFFSET(Runs_test!D44,1,0),\"\",1)","v":""}]
[{"$f":"IF(Runs_test!A45=OFFSET(Runs_test!A45,1,0),\"\",1)","v":1},{"$f":"IF(Runs_test!D45=OFFSET(Runs_test!D45,1,0),\"\",1)","v":1}]
[{"$f":"IF(Runs_test!A46=OFFSET(Runs_test!A46,1,0),\"\",1)","v":""},{"$f":"IF(Runs_test!D46=OFFSET(Runs_test!D46,1,0),\"\",1)","v":""}]
[{"$f":"IF(Runs_test!A47=OFFSET(Runs_test!A47,1,0),\"\",1)","v":1},{"$f":"IF(Runs_test!D47=OFFSET(Runs_test!D47,1,0),\"\",1)","v":1}]
[{"$f":"IF(Runs_test!A48=OFFSET(Runs_test!A48,1,0),\"\",1)","v":1},{"$f":"IF(Runs_test!D48=OFFSET(Runs_test!D48,1,0),\"\",1)","v":""}]
[{"$f":"IF(Runs_test!A49=OFFSET(Runs_test!A49,1,0),\"\",1)","v":1},{"$f":"IF(Runs_test!D49=OFFSET(Runs_test!D49,1,0),\"\",1)","v":1}]
[{"$f":"IF(Runs_test!A50=OFFSET(Runs_test!A50,1,0),\"\",1)","v":1},{"$f":"IF(Runs_test!D50=OFFSET(Runs_test!D50,1,0),\"\",1)","v":1}]
[{"$f":"IF(Runs_test!A51=OFFSET(Runs_test!A51,1,0),\"\",1)","v":1},{"$f":"IF(Runs_test!D51=OFFSET(Runs_test!D51,1,0),\"\",1)","v":""}]
[{"$f":"IF(Runs_test!A52=OFFSET(Runs_test!A52,1,0),\"\",1)","v":""},{"$f":"IF(Runs_test!D52=OFFSET(Runs_test!D52,1,0),\"\",1)","v":""}]
[{"$f":"IF(Runs_test!A53=OFFSET(Runs_test!A53,1,0),\"\",1)","v":""},{"$f":"IF(Runs_test!D53=OFFSET(Runs_test!D53,1,0),\"\",1)","v":""}]
[{"$f":"IF(Runs_test!A54=OFFSET(Runs_test!A54,1,0),\"\",1)","v":1},{"$f":"IF(Runs_test!D54=OFFSET(Runs_test!D54,1,0),\"\",1)","v":""}]
[{"$f":"IF(Runs_test!A55=OFFSET(Runs_test!A55,1,0),\"\",1)","v":1},{"$f":"IF(Runs_test!D55=OFFSET(Runs_test!D55,1,0),\"\",1)","v":1}]
[{"$f":"IF(Runs_test!A56=OFFSET(Runs_test!A56,1,0),\"\",1)","v":""},{"$f":"IF(Runs_test!D56=OFFSET(Runs_test!D56,1,0),\"\",1)","v":1}]
[{"$f":"IF(Runs_test!A57=OFFSET(Runs_test!A57,1,0),\"\",1)","v":""},{"$f":"IF(Runs_test!D57=OFFSET(Runs_test!D57,1,0),\"\",1)","v":1}]
[{"$f":"IF(Runs_test!A58=OFFSET(Runs_test!A58,1,0),\"\",1)","v":1},{"$f":"IF(Runs_test!D58=OFFSET(Runs_test!D58,1,0),\"\",1)","v":1}]
[{"$f":"IF(Runs_test!A59=OFFSET(Runs_test!A59,1,0),\"\",1)","v":1},{"$f":"IF(Runs_test!D59=OFFSET(Runs_test!D59,1,0),\"\",1)","v":1}]
[{"$f":"IF(Runs_test!A60=OFFSET(Runs_test!A60,1,0),\"\",1)","v":""},{"$f":"IF(Runs_test!D60=OFFSET(Runs_test!D60,1,0),\"\",1)","v":1}]
[{"$f":"IF(Runs_test!A61=OFFSET(Runs_test!A61,1,0),\"\",1)","v":""},{"$f":"IF(Runs_test!D61=OFFSET(Runs_test!D61,1,0),\"\",1)","v":""}]
[{"$f":"IF(Runs_test!A62=OFFSET(Runs_test!A62,1,0),\"\",1)","v":""},{"$f":"IF(Runs_test!D62=OFFSET(Runs_test!D62,1,0),\"\",1)","v":""}]
[{"$f":"IF(Runs_test!A63=OFFSET(Runs_test!A63,1,0),\"\",1)","v":""},{"$f":"IF(Runs_test!D63=OFFSET(Runs_test!D63,1,0),\"\",1)","v":""}]
[{"$f":"IF(Runs_test!A64=OFFSET(Runs_test!A64,1,0),\"\",1)","v":""},{"$f":"IF(Runs_test!D64=OFFSET(Runs_test!D64,1,0),\"\",1)","v":""}]
[{"$f":"IF(Runs_test!A65=OFFSET(Runs_test!A65,1,0),\"\",1)","v":""},{"$f":"IF(Runs_test!D65=OFFSET(Runs_test!D65,1,0),\"\",1)","v":1}]
[{"$f":"IF(Runs_test!A66=OFFSET(Runs_test!A66,1,0),\"\",1)","v":1},{"$f":"IF(Runs_test!D66=OFFSET(Runs_test!D66,1,0),\"\",1)","v":1}]
[{"$f":"IF(Runs_test!A67=OFFSET(Runs_test!A67,1,0),\"\",1)","v":1},{"$f":"IF(Runs_test!D67=OFFSET(Runs_test!D67,1,0),\"\",1)","v":""}]
[{"$f":"IF(Runs_test!A68=OFFSET(Runs_test!A68,1,0),\"\",1)","v":""},{"$f":"IF(Runs_test!D68=OFFSET(Runs_test!D68,1,0),\"\",1)","v":""}]
[{"$f":"IF(Runs_test!A69=OFFSET(Runs_test!A69,1,0),\"\",1)","v":1},{"$f":"IF(Runs_test!D69=OFFSET(Runs_test!D69,1,0),\"\",1)","v":""}]
[{"$f":"IF(Runs_test!A70=OFFSET(Runs_test!A70,1,0),\"\",1)","v":1},{"$f":"IF(Runs_test!D70=OFFSET(Runs_test!D70,1,0),\"\",1)","v":""}]
[{"$f":"IF(Runs_test!A71=OFFSET(Runs_test!A71,1,0),\"\",1)","v":1},{"$f":"IF(Runs_test!D71=OFFSET(Runs_test!D71,1,0),\"\",1)","v":""}]
[{"$f":"IF(Runs_test!A72=OFFSET(Runs_test!A72,1,0),\"\",1)","v":1},{"$f":"IF(Runs_test!D72=OFFSET(Runs_test!D72,1,0),\"\",1)","v":""}]
[{"$f":"IF(Runs_test!A73=OFFSET(Runs_test!A73,1,0),\"\",1)","v":""},{"$f":"IF(Runs_test!D73=OFFSET(Runs_test!D73,1,0),\"\",1)","v":""}]
[{"$f":"IF(Runs_test!A74=OFFSET(Runs_test!A74,1,0),\"\",1)","v":""},{"$f":"IF(Runs_test!D74=OFFSET(Runs_test!D74,1,0),\"\",1)","v":""}]
[{"$f":"IF(Runs_test!A75=OFFSET(Runs_test!A75,1,0),\"\",1)","v":""},{"$f":"IF(Runs_test!D75=OFFSET(Runs_test!D75,1,0),\"\",1)","v":""}]
[{"$f":"IF(Runs_test!A76=OFFSET(Runs_test!A76,1,0),\"\",1)","v":1},{"$f":"IF(Runs_test!D76=OFFSET(Runs_test!D76,1,0),\"\",1)","v":""}]
[{"$f":"IF(Runs_test!A77=OFFSET(Runs_test!A77,1,0),\"\",1)","v":""},{"$f":"IF(Runs_test!D77=OFFSET(Runs_test!D77,1,0),\"\",1)","v":""}]
[{"$f":"IF(Runs_test!A78=OFFSET(Runs_test!A78,1,0),\"\",1)","v":1},{"$f":"IF(Runs_test!D78=OFFSET(Runs_test!D78,1,0),\"\",1)","v":""}]
[{"$f":"IF(Runs_test!A79=OFFSET(Runs_test!A79,1,0),\"\",1)","v":""},{"$f":"IF(Runs_test!D79=OFFSET(Runs_test!D79,1,0),\"\",1)","v":1}]
[{"$f":"IF(Runs_test!A80=OFFSET(Runs_test!A80,1,0),\"\",1)","v":""},{"$f":"IF(Runs_test!D80=OFFSET(Runs_test!D80,1,0),\"\",1)","v":1}]
[{"$f":"IF(Runs_test!A81=OFFSET(Runs_test!A81,1,0),\"\",1)","v":""},{"$f":"IF(Runs_test!D81=OFFSET(Runs_test!D81,1,0),\"\",1)","v":""}]
[{"$f":"IF(Runs_test!A82=OFFSET(Runs_test!A82,1,0),\"\",1)","v":""},{"$f":"IF(Runs_test!D82=OFFSET(Runs_test!D82,1,0),\"\",1)","v":""}]
[{"$f":"IF(Runs_test!A83=OFFSET(Runs_test!A83,1,0),\"\",1)","v":""},{"$f":"IF(Runs_test!D83=OFFSET(Runs_test!D83,1,0),\"\",1)","v":1}]
[{"$f":"IF(Runs_test!A84=OFFSET(Runs_test!A84,1,0),\"\",1)","v":1},{"$f":"IF(Runs_test!D84=OFFSET(Runs_test!D84,1,0),\"\",1)","v":1}]
[{"$f":"IF(Runs_test!A85=OFFSET(Runs_test!A85,1,0),\"\",1)","v":1},{"$f":"IF(Runs_test!D85=OFFSET(Runs_test!D85,1,0),\"\",1)","v":""}]
[{"$f":"IF(Runs_test!A86=OFFSET(Runs_test!A86,1,0),\"\",1)","v":""},{"$f":"IF(Runs_test!D86=OFFSET(Runs_test!D86,1,0),\"\",1)","v":1}]
[{"$f":"IF(Runs_test!A87=OFFSET(Runs_test!A87,1,0),\"\",1)","v":""},{"$f":"IF(Runs_test!D87=OFFSET(Runs_test!D87,1,0),\"\",1)","v":1}]
[{"$f":"IF(Runs_test!A88=OFFSET(Runs_test!A88,1,0),\"\",1)","v":1},{"$f":"IF(Runs_test!D88=OFFSET(Runs_test!D88,1,0),\"\",1)","v":1}]
[{"$f":"IF(Runs_test!A89=OFFSET(Runs_test!A89,1,0),\"\",1)","v":1},{"$f":"IF(Runs_test!D89=OFFSET(Runs_test!D89,1,0),\"\",1)","v":1}]
[{"$f":"IF(Runs_test!A90=OFFSET(Runs_test!A90,1,0),\"\",1)","v":""},{"$f":"IF(Runs_test!D90=OFFSET(Runs_test!D90,1,0),\"\",1)","v":""}]
[{"$f":"IF(Runs_test!A91=OFFSET(Runs_test!A91,1,0),\"\",1)","v":""},{"$f":"IF(Runs_test!D91=OFFSET(Runs_test!D91,1,0),\"\",1)","v":""}]
[{"$f":"IF(Runs_test!A92=OFFSET(Runs_test!A92,1,0),\"\",1)","v":""},{"$f":"IF(Runs_test!D92=OFFSET(Runs_test!D92,1,0),\"\",1)","v":""}]
[{"$f":"IF(Runs_test!A93=OFFSET(Runs_test!A93,1,0),\"\",1)","v":""},{"$f":"IF(Runs_test!D93=OFFSET(Runs_test!D93,1,0),\"\",1)","v":1}]
[{"$f":"IF(Runs_test!A94=OFFSET(Runs_test!A94,1,0),\"\",1)","v":""},{"$f":"IF(Runs_test!D94=OFFSET(Runs_test!D94,1,0),\"\",1)","v":1}]
[{"$f":"IF(Runs_test!A95=OFFSET(Runs_test!A95,1,0),\"\",1)","v":1},{"$f":"IF(Runs_test!D95=OFFSET(Runs_test!D95,1,0),\"\",1)","v":1}]
[{"$f":"IF(Runs_test!A96=OFFSET(Runs_test!A96,1,0),\"\",1)","v":1},{"$f":"IF(Runs_test!D96=OFFSET(Runs_test!D96,1,0),\"\",1)","v":""}]
[{"$f":"IF(Runs_test!A97=OFFSET(Runs_test!A97,1,0),\"\",1)","v":1},{"$f":"IF(Runs_test!D97=OFFSET(Runs_test!D97,1,0),\"\",1)","v":""}]
[{"$f":"IF(Runs_test!A98=OFFSET(Runs_test!A98,1,0),\"\",1)","v":1},{"$f":"IF(Runs_test!D98=OFFSET(Runs_test!D98,1,0),\"\",1)","v":""}]
[{"$f":"IF(Runs_test!A99=OFFSET(Runs_test!A99,1,0),\"\",1)","v":""},{"$f":"IF(Runs_test!D99=OFFSET(Runs_test!D99,1,0),\"\",1)","v":1}]
[{"$f":"IF(Runs_test!A100=OFFSET(Runs_test!A100,1,0),\"\",1)","v":""},{"$f":"IF(Runs_test!D100=OFFSET(Runs_test!D100,1,0),\"\",1)","v":1}]
[{"$f":"IF(Runs_test!A101=OFFSET(Runs_test!A101,1,0),\"\",1)","v":""},{"$f":"IF(Runs_test!D101=OFFSET(Runs_test!D101,1,0),\"\",1)","v":1}]
[{"$f":"IF(Runs_test!A102=OFFSET(Runs_test!A102,1,0),\"\",1)","v":""},{"$f":"IF(Runs_test!D102=OFFSET(Runs_test!D102,1,0),\"\",1)","v":""}]
[{"$f":"IF(Runs_test!A103=OFFSET(Runs_test!A103,1,0),\"\",1)","v":1},{"$f":"IF(Runs_test!D103=OFFSET(Runs_test!D103,1,0),\"\",1)","v":""}]
[{"$f":"IF(Runs_test!A104=OFFSET(Runs_test!A104,1,0),\"\",1)","v":1},{"$f":"IF(Runs_test!D104=OFFSET(Runs_test!D104,1,0),\"\",1)","v":""}]
[{"$f":"IF(Runs_test!A105=OFFSET(Runs_test!A105,1,0),\"\",1)","v":1},{"$f":"IF(Runs_test!D105=OFFSET(Runs_test!D105,1,0),\"\",1)","v":""}]
[{"$f":"IF(Runs_test!A106=OFFSET(Runs_test!A106,1,0),\"\",1)","v":1},{"$f":"IF(Runs_test!D106=OFFSET(Runs_test!D106,1,0),\"\",1)","v":""}]
[{"$f":"IF(Runs_test!A107=OFFSET(Runs_test!A107,1,0),\"\",1)","v":""},{"$f":"IF(Runs_test!D107=OFFSET(Runs_test!D107,1,0),\"\",1)","v":""}]
[{"$f":"IF(Runs_test!A108=OFFSET(Runs_test!A108,1,0),\"\",1)","v":""},{"$f":"IF(Runs_test!D108=OFFSET(Runs_test!D108,1,0),\"\",1)","v":1}]
[{"$f":"IF(Runs_test!A109=OFFSET(Runs_test!A109,1,0),\"\",1)","v":""},{"$f":"IF(Runs_test!D109=OFFSET(Runs_test!D109,1,0),\"\",1)","v":1}]
[{"$f":"IF(Runs_test!A110=OFFSET(Runs_test!A110,1,0),\"\",1)","v":""},{"$f":"IF(Runs_test!D110=OFFSET(Runs_test!D110,1,0),\"\",1)","v":""}]
[{"$f":"IF(Runs_test!A111=OFFSET(Runs_test!A111,1,0),\"\",1)","v":1},{"$f":"IF(Runs_test!D111=OFFSET(Runs_test!D111,1,0),\"\",1)","v":""}]
[{"$f":"IF(Runs_test!A112=OFFSET(Runs_test!A112,1,0),\"\",1)","v":1},{"$f":"IF(Runs_test!D112=OFFSET(Runs_test!D112,1,0),\"\",1)","v":""}]
[{"$f":"IF(Runs_test!A113=OFFSET(Runs_test!A113,1,0),\"\",1)","v":""},{"$f":"IF(Runs_test!D113=OFFSET(Runs_test!D113,1,0),\"\",1)","v":""}]
[{"$f":"IF(Runs_test!A114=OFFSET(Runs_test!A114,1,0),\"\",1)","v":""},{"$f":"IF(Runs_test!D114=OFFSET(Runs_test!D114,1,0),\"\",1)","v":""}]
[{"$f":"IF(Runs_test!A115=OFFSET(Runs_test!A115,1,0),\"\",1)","v":1},{"$f":"IF(Runs_test!D115=OFFSET(Runs_test!D115,1,0),\"\",1)","v":1}]
[{"$f":"IF(Runs_test!A116=OFFSET(Runs_test!A116,1,0),\"\",1)","v":1},{"$f":"IF(Runs_test!D116=OFFSET(Runs_test!D116,1,0),\"\",1)","v":1}]
[{"$f":"IF(Runs_test!A117=OFFSET(Runs_test!A117,1,0),\"\",1)","v":""},{"$f":"IF(Runs_test!D117=OFFSET(Runs_test!D117,1,0),\"\",1)","v":""}]
[{"$f":"IF(Runs_test!A118=OFFSET(Runs_test!A118,1,0),\"\",1)","v":""},{"$f":"IF(Runs_test!D118=OFFSET(Runs_test!D118,1,0),\"\",1)","v":""}]
[{"$f":"IF(Runs_test!A119=OFFSET(Runs_test!A119,1,0),\"\",1)","v":""},{"$f":"IF(Runs_test!D119=OFFSET(Runs_test!D119,1,0),\"\",1)","v":""}]
[{"$f":"IF(Runs_test!A120=OFFSET(Runs_test!A120,1,0),\"\",1)","v":""},{"$f":"IF(Runs_test!D120=OFFSET(Runs_test!D120,1,0),\"\",1)","v":""}]
[{"$f":"IF(Runs_test!A121=OFFSET(Runs_test!A121,1,0),\"\",1)","v":1},{"$f":"IF(Runs_test!D121=OFFSET(Runs_test!D121,1,0),\"\",1)","v":""}]
[{"$f":"IF(Runs_test!A122=OFFSET(Runs_test!A122,1,0),\"\",1)","v":""},{"$f":"IF(Runs_test!D122=OFFSET(Runs_test!D122,1,0),\"\",1)","v":""}]
[{"$f":"IF(Runs_test!A123=OFFSET(Runs_test!A123,1,0),\"\",1)","v":1},{"$f":"IF(Runs_test!D123=OFFSET(Runs_test!D123,1,0),\"\",1)","v":""}]
[{"$f":"IF(Runs_test!A124=OFFSET(Runs_test!A124,1,0),\"\",1)","v":""},{"$f":"IF(Runs_test!D124=OFFSET(Runs_test!D124,1,0),\"\",1)","v":1}]
[{"$f":"IF(Runs_test!A125=OFFSET(Runs_test!A125,1,0),\"\",1)","v":""},{"$f":"IF(Runs_test!D125=OFFSET(Runs_test!D125,1,0),\"\",1)","v":1}]
[{"$f":"IF(Runs_test!A126=OFFSET(Runs_test!A126,1,0),\"\",1)","v":""},{"$f":"IF(Runs_test!D126=OFFSET(Runs_test!D126,1,0),\"\",1)","v":""}]
[{"$f":"IF(Runs_test!A127=OFFSET(Runs_test!A127,1,0),\"\",1)","v":""},{"$f":"IF(Runs_test!D127=OFFSET(Runs_test!D127,1,0),\"\",1)","v":""}]
[{"$f":"IF(Runs_test!A128=OFFSET(Runs_test!A128,1,0),\"\",1)","v":""},{"$f":"IF(Runs_test!D128=OFFSET(Runs_test!D128,1,0),\"\",1)","v":1}]
[{"$f":"IF(Runs_test!A129=OFFSET(Runs_test!A129,1,0),\"\",1)","v":1},{"$f":"IF(Runs_test!D129=OFFSET(Runs_test!D129,1,0),\"\",1)","v":""}]
[{"$f":"IF(Runs_test!A130=OFFSET(Runs_test!A130,1,0),\"\",1)","v":1},{"$f":"IF(Runs_test!D130=OFFSET(Runs_test!D130,1,0),\"\",1)","v":1}]
[{"$f":"IF(Runs_test!A131=OFFSET(Runs_test!A131,1,0),\"\",1)","v":""},{"$f":"IF(Runs_test!D131=OFFSET(Runs_test!D131,1,0),\"\",1)","v":""}]
[{"$f":"IF(Runs_test!A132=OFFSET(Runs_test!A132,1,0),\"\",1)","v":1},{"$f":"IF(Runs_test!D132=OFFSET(Runs_test!D132,1,0),\"\",1)","v":""}]
[{"$f":"IF(Runs_test!A133=OFFSET(Runs_test!A133,1,0),\"\",1)","v":1},{"$f":"IF(Runs_test!D133=OFFSET(Runs_test!D133,1,0),\"\",1)","v":""}]
[{"$f":"IF(Runs_test!A134=OFFSET(Runs_test!A134,1,0),\"\",1)","v":""},{"$f":"IF(Runs_test!D134=OFFSET(Runs_test!D134,1,0),\"\",1)","v":""}]
[{"$f":"IF(Runs_test!A135=OFFSET(Runs_test!A135,1,0),\"\",1)","v":1},{"$f":"IF(Runs_test!D135=OFFSET(Runs_test!D135,1,0),\"\",1)","v":""}]
[{"$f":"IF(Runs_test!A136=OFFSET(Runs_test!A136,1,0),\"\",1)","v":1},{"$f":"IF(Runs_test!D136=OFFSET(Runs_test!D136,1,0),\"\",1)","v":1}]
[{"$f":"IF(Runs_test!A137=OFFSET(Runs_test!A137,1,0),\"\",1)","v":1},{"$f":"IF(Runs_test!D137=OFFSET(Runs_test!D137,1,0),\"\",1)","v":""}]
[{"$f":"IF(Runs_test!A138=OFFSET(Runs_test!A138,1,0),\"\",1)","v":1},{"$f":"IF(Runs_test!D138=OFFSET(Runs_test!D138,1,0),\"\",1)","v":""}]
[{"$f":"IF(Runs_test!A139=OFFSET(Runs_test!A139,1,0),\"\",1)","v":""},{"$f":"IF(Runs_test!D139=OFFSET(Runs_test!D139,1,0),\"\",1)","v":1}]
[{"$f":"IF(Runs_test!A140=OFFSET(Runs_test!A140,1,0),\"\",1)","v":""},{"$f":"IF(Runs_test!D140=OFFSET(Runs_test!D140,1,0),\"\",1)","v":""}]
[{"$f":"IF(Runs_test!A141=OFFSET(Runs_test!A141,1,0),\"\",1)","v":""},{"$f":"IF(Runs_test!D141=OFFSET(Runs_test!D141,1,0),\"\",1)","v":""}]
[{"$f":"IF(Runs_test!A142=OFFSET(Runs_test!A142,1,0),\"\",1)","v":""},{"$f":"IF(Runs_test!D142=OFFSET(Runs_test!D142,1,0),\"\",1)","v":""}]
[{"$f":"IF(Runs_test!A143=OFFSET(Runs_test!A143,1,0),\"\",1)","v":""},{"$f":"IF(Runs_test!D143=OFFSET(Runs_test!D143,1,0),\"\",1)","v":""}]
[{"$f":"IF(Runs_test!A144=OFFSET(Runs_test!A144,1,0),\"\",1)","v":""},{"$f":"IF(Runs_test!D144=OFFSET(Runs_test!D144,1,0),\"\",1)","v":""}]
[{"$f":"IF(Runs_test!A145=OFFSET(Runs_test!A145,1,0),\"\",1)","v":""},{"$f":"IF(Runs_test!D145=OFFSET(Runs_test!D145,1,0),\"\",1)","v":""}]
[{"$f":"IF(Runs_test!A146=OFFSET(Runs_test!A146,1,0),\"\",1)","v":""},{"$f":"IF(Runs_test!D146=OFFSET(Runs_test!D146,1,0),\"\",1)","v":""}]
[{"$f":"IF(Runs_test!A147=OFFSET(Runs_test!A147,1,0),\"\",1)","v":""},{"$f":"IF(Runs_test!D147=OFFSET(Runs_test!D147,1,0),\"\",1)","v":""}]
[{"$f":"IF(Runs_test!A148=OFFSET(Runs_test!A148,1,0),\"\",1)","v":""},{"$f":"IF(Runs_test!D148=OFFSET(Runs_test!D148,1,0),\"\",1)","v":1}]
[{"$f":"IF(Runs_test!A149=OFFSET(Runs_test!A149,1,0),\"\",1)","v":1},{"$f":"IF(Runs_test!D149=OFFSET(Runs_test!D149,1,0),\"\",1)","v":1}]
[{"$f":"IF(Runs_test!A150=OFFSET(Runs_test!A150,1,0),\"\",1)","v":1},{"$f":"IF(Runs_test!D150=OFFSET(Runs_test!D150,1,0),\"\",1)","v":1}]
[{"$f":"IF(Runs_test!A151=OFFSET(Runs_test!A151,1,0),\"\",1)","v":1},{"$f":"IF(Runs_test!D151=OFFSET(Runs_test!D151,1,0),\"\",1)","v":1}]
[{"$f":"IF(Runs_test!A152=OFFSET(Runs_test!A152,1,0),\"\",1)","v":1},{"$f":"IF(Runs_test!D152=OFFSET(Runs_test!D152,1,0),\"\",1)","v":""}]
[{"$f":"IF(Runs_test!A153=OFFSET(Runs_test!A153,1,0),\"\",1)","v":""},{"$f":"IF(Runs_test!D153=OFFSET(Runs_test!D153,1,0),\"\",1)","v":""}]
[{"$f":"IF(Runs_test!A154=OFFSET(Runs_test!A154,1,0),\"\",1)","v":""},{"$f":"IF(Runs_test!D154=OFFSET(Runs_test!D154,1,0),\"\",1)","v":1}]
[{"$f":"IF(Runs_test!A155=OFFSET(Runs_test!A155,1,0),\"\",1)","v":1},{"$f":"IF(Runs_test!D155=OFFSET(Runs_test!D155,1,0),\"\",1)","v":1}]
[{"$f":"IF(Runs_test!A156=OFFSET(Runs_test!A156,1,0),\"\",1)","v":1},{"$f":"IF(Runs_test!D156=OFFSET(Runs_test!D156,1,0),\"\",1)","v":1}]
[{"$f":"IF(Runs_test!A157=OFFSET(Runs_test!A157,1,0),\"\",1)","v":""},{"$f":"IF(Runs_test!D157=OFFSET(Runs_test!D157,1,0),\"\",1)","v":1}]
[{"$f":"IF(Runs_test!A158=OFFSET(Runs_test!A158,1,0),\"\",1)","v":""},{"$f":"IF(Runs_test!D158=OFFSET(Runs_test!D158,1,0),\"\",1)","v":1}]
[{"$f":"IF(Runs_test!A159=OFFSET(Runs_test!A159,1,0),\"\",1)","v":""},{"$f":"IF(Runs_test!D159=OFFSET(Runs_test!D159,1,0),\"\",1)","v":1}]
[{"$f":"IF(Runs_test!A160=OFFSET(Runs_test!A160,1,0),\"\",1)","v":""},{"$f":"IF(Runs_test!D160=OFFSET(Runs_test!D160,1,0),\"\",1)","v":""}]
[{"$f":"IF(Runs_test!A161=OFFSET(Runs_test!A161,1,0),\"\",1)","v":""},{"$f":"IF(Runs_test!D161=OFFSET(Runs_test!D161,1,0),\"\",1)","v":""}]
[{"$f":"IF(Runs_test!A162=OFFSET(Runs_test!A162,1,0),\"\",1)","v":""},{"$f":"IF(Runs_test!D162=OFFSET(Runs_test!D162,1,0),\"\",1)","v":""}]
[{"$f":"IF(Runs_test!A163=OFFSET(Runs_test!A163,1,0),\"\",1)","v":1},{"$f":"IF(Runs_test!D163=OFFSET(Runs_test!D163,1,0),\"\",1)","v":1}]
[{"$f":"IF(Runs_test!A164=OFFSET(Runs_test!A164,1,0),\"\",1)","v":1},{"$f":"IF(Runs_test!D164=OFFSET(Runs_test!D164,1,0),\"\",1)","v":1}]
[{"$f":"IF(Runs_test!A165=OFFSET(Runs_test!A165,1,0),\"\",1)","v":""},{"$f":"IF(Runs_test!D165=OFFSET(Runs_test!D165,1,0),\"\",1)","v":""}]
[{"$f":"IF(Runs_test!A166=OFFSET(Runs_test!A166,1,0),\"\",1)","v":1},{"$f":"IF(Runs_test!D166=OFFSET(Runs_test!D166,1,0),\"\",1)","v":""}]
[{"$f":"IF(Runs_test!A167=OFFSET(Runs_test!A167,1,0),\"\",1)","v":1},{"$f":"IF(Runs_test!D167=OFFSET(Runs_test!D167,1,0),\"\",1)","v":1}]
[{"$f":"IF(Runs_test!A168=OFFSET(Runs_test!A168,1,0),\"\",1)","v":""},{"$f":"IF(Runs_test!D168=OFFSET(Runs_test!D168,1,0),\"\",1)","v":1}]
[{"$f":"IF(Runs_test!A169=OFFSET(Runs_test!A169,1,0),\"\",1)","v":""},{"$f":"IF(Runs_test!D169=OFFSET(Runs_test!D169,1,0),\"\",1)","v":""}]
[{"$f":"IF(Runs_test!A170=OFFSET(Runs_test!A170,1,0),\"\",1)","v":""},{"$f":"IF(Runs_test!D170=OFFSET(Runs_test!D170,1,0),\"\",1)","v":""}]
[{"$f":"IF(Runs_test!A171=OFFSET(Runs_test!A171,1,0),\"\",1)","v":""},{"$f":"IF(Runs_test!D171=OFFSET(Runs_test!D171,1,0),\"\",1)","v":""}]
[{"$f":"IF(Runs_test!A172=OFFSET(Runs_test!A172,1,0),\"\",1)","v":1},{"$f":"IF(Runs_test!D172=OFFSET(Runs_test!D172,1,0),\"\",1)","v":""}]
[{"$f":"IF(Runs_test!A173=OFFSET(Runs_test!A173,1,0),\"\",1)","v":1},{"$f":"IF(Runs_test!D173=OFFSET(Runs_test!D173,1,0),\"\",1)","v":""}]
[{"$f":"IF(Runs_test!A174=OFFSET(Runs_test!A174,1,0),\"\",1)","v":""},{"$f":"IF(Runs_test!D174=OFFSET(Runs_test!D174,1,0),\"\",1)","v":1}]
[{"$f":"IF(Runs_test!A175=OFFSET(Runs_test!A175,1,0),\"\",1)","v":""},{"$f":"IF(Runs_test!D175=OFFSET(Runs_test!D175,1,0),\"\",1)","v":1}]
[{"$f":"IF(Runs_test!A176=OFFSET(Runs_test!A176,1,0),\"\",1)","v":""},{"$f":"IF(Runs_test!D176=OFFSET(Runs_test!D176,1,0),\"\",1)","v":""}]
[{"$f":"IF(Runs_test!A177=OFFSET(Runs_test!A177,1,0),\"\",1)","v":""},{"$f":"IF(Runs_test!D177=OFFSET(Runs_test!D177,1,0),\"\",1)","v":""}]
[{"$f":"IF(Runs_test!A178=OFFSET(Runs_test!A178,1,0),\"\",1)","v":""},{"$f":"IF(Runs_test!D178=OFFSET(Runs_test!D178,1,0),\"\",1)","v":""}]
[{"$f":"IF(Runs_test!A179=OFFSET(Runs_test!A179,1,0),\"\",1)","v":1},{"$f":"IF(Runs_test!D179=OFFSET(Runs_test!D179,1,0),\"\",1)","v":""}]
[{"$f":"IF(Runs_test!A180=OFFSET(Runs_test!A180,1,0),\"\",1)","v":1},{"$f":"IF(Runs_test!D180=OFFSET(Runs_test!D180,1,0),\"\",1)","v":""}]
[{"$f":"IF(Runs_test!A181=OFFSET(Runs_test!A181,1,0),\"\",1)","v":1},{"$f":"IF(Runs_test!D181=OFFSET(Runs_test!D181,1,0),\"\",1)","v":""}]
[{"$f":"IF(Runs_test!A182=OFFSET(Runs_test!A182,1,0),\"\",1)","v":1},{"$f":"IF(Runs_test!D182=OFFSET(Runs_test!D182,1,0),\"\",1)","v":""}]
[{"$f":"IF(Runs_test!A183=OFFSET(Runs_test!A183,1,0),\"\",1)","v":""},{"$f":"IF(Runs_test!D183=OFFSET(Runs_test!D183,1,0),\"\",1)","v":1}]
[{"$f":"IF(Runs_test!A184=OFFSET(Runs_test!A184,1,0),\"\",1)","v":""},{"$f":"IF(Runs_test!D184=OFFSET(Runs_test!D184,1,0),\"\",1)","v":1}]
[{"$f":"IF(Runs_test!A185=OFFSET(Runs_test!A185,1,0),\"\",1)","v":1},{"$f":"IF(Runs_test!D185=OFFSET(Runs_test!D185,1,0),\"\",1)","v":""}]
[{"$f":"IF(Runs_test!A186=OFFSET(Runs_test!A186,1,0),\"\",1)","v":1},{"$f":"IF(Runs_test!D186=OFFSET(Runs_test!D186,1,0),\"\",1)","v":1}]
[{"$f":"IF(Runs_test!A187=OFFSET(Runs_test!A187,1,0),\"\",1)","v":1},{"$f":"IF(Runs_test!D187=OFFSET(Runs_test!D187,1,0),\"\",1)","v":1}]
[{"$f":"IF(Runs_test!A188=OFFSET(Runs_test!A188,1,0),\"\",1)","v":1},{"$f":"IF(Runs_test!D188=OFFSET(Runs_test!D188,1,0),\"\",1)","v":""}]
[{"$f":"IF(Runs_test!A189=OFFSET(Runs_test!A189,1,0),\"\",1)","v":""},{"$f":"IF(Runs_test!D189=OFFSET(Runs_test!D189,1,0),\"\",1)","v":""}]
[{"$f":"IF(Runs_test!A190=OFFSET(Runs_test!A190,1,0),\"\",1)","v":""},{"$f":"IF(Runs_test!D190=OFFSET(Runs_test!D190,1,0),\"\",1)","v":""}]
[{"$f":"IF(Runs_test!A191=OFFSET(Runs_test!A191,1,0),\"\",1)","v":""},{"$f":"IF(Runs_test!D191=OFFSET(Runs_test!D191,1,0),\"\",1)","v":""}]
[{"$f":"IF(Runs_test!A192=OFFSET(Runs_test!A192,1,0),\"\",1)","v":""},{"$f":"IF(Runs_test!D192=OFFSET(Runs_test!D192,1,0),\"\",1)","v":""}]
[{"$f":"IF(Runs_test!A193=OFFSET(Runs_test!A193,1,0),\"\",1)","v":1},{"$f":"IF(Runs_test!D193=OFFSET(Runs_test!D193,1,0),\"\",1)","v":""}]
[{"$f":"IF(Runs_test!A194=OFFSET(Runs_test!A194,1,0),\"\",1)","v":1},{"$f":"IF(Runs_test!D194=OFFSET(Runs_test!D194,1,0),\"\",1)","v":""}]
[{"$f":"IF(Runs_test!A195=OFFSET(Runs_test!A195,1,0),\"\",1)","v":1},{"$f":"IF(Runs_test!D195=OFFSET(Runs_test!D195,1,0),\"\",1)","v":1}]
[{"$f":"IF(Runs_test!A196=OFFSET(Runs_test!A196,1,0),\"\",1)","v":1},{"$f":"IF(Runs_test!D196=OFFSET(Runs_test!D196,1,0),\"\",1)","v":1}]
[{"$f":"IF(Runs_test!A197=OFFSET(Runs_test!A197,1,0),\"\",1)","v":1},{"$f":"IF(Runs_test!D197=OFFSET(Runs_test!D197,1,0),\"\",1)","v":""}]
[{"$f":"IF(Runs_test!A198=OFFSET(Runs_test!A198,1,0),\"\",1)","v":1},{"$f":"IF(Runs_test!D198=OFFSET(Runs_test!D198,1,0),\"\",1)","v":""}]
[{"$f":"IF(Runs_test!A199=OFFSET(Runs_test!A199,1,0),\"\",1)","v":""},{"$f":"IF(Runs_test!D199=OFFSET(Runs_test!D199,1,0),\"\",1)","v":""}]
[{"$f":"IF(Runs_test!A200=OFFSET(Runs_test!A200,1,0),\"\",1)","v":1},{"$f":"IF(Runs_test!D200=OFFSET(Runs_test!D200,1,0),\"\",1)","v":""}]
[{"$f":"IF(Runs_test!A201=OFFSET(Runs_test!A201,1,0),\"\",1)","v":1},{"$f":"IF(Runs_test!D201=OFFSET(Runs_test!D201,1,0),\"\",1)","v":""}]
[{"$f":"IF(Runs_test!A202=OFFSET(Runs_test!A202,1,0),\"\",1)","v":""},{"$f":"IF(Runs_test!D202=OFFSET(Runs_test!D202,1,0),\"\",1)","v":""}]
[{"$f":"IF(Runs_test!A203=OFFSET(Runs_test!A203,1,0),\"\",1)","v":""},{"$f":"IF(Runs_test!D203=OFFSET(Runs_test!D203,1,0),\"\",1)","v":1}]
[{"$f":"IF(Runs_test!A204=OFFSET(Runs_test!A204,1,0),\"\",1)","v":1},{"$f":"IF(Runs_test!D204=OFFSET(Runs_test!D204,1,0),\"\",1)","v":""}]
[{"$f":"IF(Runs_test!A205=OFFSET(Runs_test!A205,1,0),\"\",1)","v":1},{"$f":"IF(Runs_test!D205=OFFSET(Runs_test!D205,1,0),\"\",1)","v":1}]
[{"$f":"IF(Runs_test!A206=OFFSET(Runs_test!A206,1,0),\"\",1)","v":""},{"$f":"IF(Runs_test!D206=OFFSET(Runs_test!D206,1,0),\"\",1)","v":""}]
[{"$f":"IF(Runs_test!A207=OFFSET(Runs_test!A207,1,0),\"\",1)","v":1},{"$f":"IF(Runs_test!D207=OFFSET(Runs_test!D207,1,0),\"\",1)","v":""}]
[{"$f":"IF(Runs_test!A208=OFFSET(Runs_test!A208,1,0),\"\",1)","v":1},{"$f":"IF(Runs_test!D208=OFFSET(Runs_test!D208,1,0),\"\",1)","v":""}]
[{"$f":"IF(Runs_test!A209=OFFSET(Runs_test!A209,1,0),\"\",1)","v":""},{"$f":"IF(Runs_test!D209=OFFSET(Runs_test!D209,1,0),\"\",1)","v":""}]
[{"$f":"IF(Runs_test!A210=OFFSET(Runs_test!A210,1,0),\"\",1)","v":""},{"$f":"IF(Runs_test!D210=OFFSET(Runs_test!D210,1,0),\"\",1)","v":""}]
[{"$f":"IF(Runs_test!A211=OFFSET(Runs_test!A211,1,0),\"\",1)","v":""},{"$f":"IF(Runs_test!D211=OFFSET(Runs_test!D211,1,0),\"\",1)","v":1}]
[{"$f":"IF(Runs_test!A212=OFFSET(Runs_test!A212,1,0),\"\",1)","v":""},{"$f":"IF(Runs_test!D212=OFFSET(Runs_test!D212,1,0),\"\",1)","v":1}]
[{"$f":"IF(Runs_test!A213=OFFSET(Runs_test!A213,1,0),\"\",1)","v":1},{"$f":"IF(Runs_test!D213=OFFSET(Runs_test!D213,1,0),\"\",1)","v":1}]
[{"$f":"IF(Runs_test!A214=OFFSET(Runs_test!A214,1,0),\"\",1)","v":1},{"$f":"IF(Runs_test!D214=OFFSET(Runs_test!D214,1,0),\"\",1)","v":""}]
[{"$f":"IF(Runs_test!A215=OFFSET(Runs_test!A215,1,0),\"\",1)","v":""},{"$f":"IF(Runs_test!D215=OFFSET(Runs_test!D215,1,0),\"\",1)","v":""}]
[{"$f":"IF(Runs_test!A216=OFFSET(Runs_test!A216,1,0),\"\",1)","v":""},{"$f":"IF(Runs_test!D216=OFFSET(Runs_test!D216,1,0),\"\",1)","v":1}]
[{"$f":"IF(Runs_test!A217=OFFSET(Runs_test!A217,1,0),\"\",1)","v":1},{"$f":"IF(Runs_test!D217=OFFSET(Runs_test!D217,1,0),\"\",1)","v":1}]
[{"$f":"IF(Runs_test!A218=OFFSET(Runs_test!A218,1,0),\"\",1)","v":1},{"$f":"IF(Runs_test!D218=OFFSET(Runs_test!D218,1,0),\"\",1)","v":1}]
[{"$f":"IF(Runs_test!A219=OFFSET(Runs_test!A219,1,0),\"\",1)","v":""},{"$f":"IF(Runs_test!D219=OFFSET(Runs_test!D219,1,0),\"\",1)","v":""}]
[{"$f":"IF(Runs_test!A220=OFFSET(Runs_test!A220,1,0),\"\",1)","v":1},{"$f":"IF(Runs_test!D220=OFFSET(Runs_test!D220,1,0),\"\",1)","v":1}]
[{"$f":"IF(Runs_test!A221=OFFSET(Runs_test!A221,1,0),\"\",1)","v":1},{"$f":"IF(Runs_test!D221=OFFSET(Runs_test!D221,1,0),\"\",1)","v":""}]
[{"$f":"IF(Runs_test!A222=OFFSET(Runs_test!A222,1,0),\"\",1)","v":1},{"$f":"IF(Runs_test!D222=OFFSET(Runs_test!D222,1,0),\"\",1)","v":1}]
[{"$f":"IF(Runs_test!A223=OFFSET(Runs_test!A223,1,0),\"\",1)","v":""},{"$f":"IF(Runs_test!D223=OFFSET(Runs_test!D223,1,0),\"\",1)","v":""}]
[{"$f":"IF(Runs_test!A224=OFFSET(Runs_test!A224,1,0),\"\",1)","v":1},{"$f":"IF(Runs_test!D224=OFFSET(Runs_test!D224,1,0),\"\",1)","v":""}]
[{"$f":"IF(Runs_test!A225=OFFSET(Runs_test!A225,1,0),\"\",1)","v":""},{"$f":"IF(Runs_test!D225=OFFSET(Runs_test!D225,1,0),\"\",1)","v":""}]
[{"$f":"IF(Runs_test!A226=OFFSET(Runs_test!A226,1,0),\"\",1)","v":""},{"$f":"IF(Runs_test!D226=OFFSET(Runs_test!D226,1,0),\"\",1)","v":""}]
[{"$f":"IF(Runs_test!A227=OFFSET(Runs_test!A227,1,0),\"\",1)","v":""},{"$f":"IF(Runs_test!D227=OFFSET(Runs_test!D227,1,0),\"\",1)","v":""}]
[{"$f":"IF(Runs_test!A228=OFFSET(Runs_test!A228,1,0),\"\",1)","v":1},{"$f":"IF(Runs_test!D228=OFFSET(Runs_test!D228,1,0),\"\",1)","v":""}]
[{"$f":"IF(Runs_test!A229=OFFSET(Runs_test!A229,1,0),\"\",1)","v":1},{"$f":"IF(Runs_test!D229=OFFSET(Runs_test!D229,1,0),\"\",1)","v":1}]
[{"$f":"IF(Runs_test!A230=OFFSET(Runs_test!A230,1,0),\"\",1)","v":""},{"$f":"IF(Runs_test!D230=OFFSET(Runs_test!D230,1,0),\"\",1)","v":1}]
[{"$f":"IF(Runs_test!A231=OFFSET(Runs_test!A231,1,0),\"\",1)","v":""},{"$f":"IF(Runs_test!D231=OFFSET(Runs_test!D231,1,0),\"\",1)","v":1}]
[{"$f":"IF(Runs_test!A232=OFFSET(Runs_test!A232,1,0),\"\",1)","v":""},{"$f":"IF(Runs_test!D232=OFFSET(Runs_test!D232,1,0),\"\",1)","v":1}]
[{"$f":"IF(Runs_test!A233=OFFSET(Runs_test!A233,1,0),\"\",1)","v":1},{"$f":"IF(Runs_test!D233=OFFSET(Runs_test!D233,1,0),\"\",1)","v":1}]
[{"$f":"IF(Runs_test!A234=OFFSET(Runs_test!A234,1,0),\"\",1)","v":1},{"$f":"IF(Runs_test!D234=OFFSET(Runs_test!D234,1,0),\"\",1)","v":1}]
[{"$f":"IF(Runs_test!A235=OFFSET(Runs_test!A235,1,0),\"\",1)","v":1},{"$f":"IF(Runs_test!D235=OFFSET(Runs_test!D235,1,0),\"\",1)","v":1}]
[{"$f":"IF(Runs_test!A236=OFFSET(Runs_test!A236,1,0),\"\",1)","v":1},{"$f":"IF(Runs_test!D236=OFFSET(Runs_test!D236,1,0),\"\",1)","v":1}]
[{"$f":"IF(Runs_test!A237=OFFSET(Runs_test!A237,1,0),\"\",1)","v":""},{"$f":"IF(Runs_test!D237=OFFSET(Runs_test!D237,1,0),\"\",1)","v":""}]
[{"$f":"IF(Runs_test!A238=OFFSET(Runs_test!A238,1,0),\"\",1)","v":""},{"$f":"IF(Runs_test!D238=OFFSET(Runs_test!D238,1,0),\"\",1)","v":""}]
[{"$f":"IF(Runs_test!A239=OFFSET(Runs_test!A239,1,0),\"\",1)","v":""},{"$f":"IF(Runs_test!D239=OFFSET(Runs_test!D239,1,0),\"\",1)","v":""}]
[{"$f":"IF(Runs_test!A240=OFFSET(Runs_test!A240,1,0),\"\",1)","v":""},{"$f":"IF(Runs_test!D240=OFFSET(Runs_test!D240,1,0),\"\",1)","v":""}]
[{"$f":"IF(Runs_test!A241=OFFSET(Runs_test!A241,1,0),\"\",1)","v":""},{"$f":"IF(Runs_test!D241=OFFSET(Runs_test!D241,1,0),\"\",1)","v":""}]
[{"$f":"IF(Runs_test!A242=OFFSET(Runs_test!A242,1,0),\"\",1)","v":1},{"$f":"IF(Runs_test!D242=OFFSET(Runs_test!D242,1,0),\"\",1)","v":""}]
[{"$f":"IF(Runs_test!A243=OFFSET(Runs_test!A243,1,0),\"\",1)","v":1},{"$f":"IF(Runs_test!D243=OFFSET(Runs_test!D243,1,0),\"\",1)","v":""}]
[{"$f":"IF(Runs_test!A244=OFFSET(Runs_test!A244,1,0),\"\",1)","v":""},{"$f":"IF(Runs_test!D244=OFFSET(Runs_test!D244,1,0),\"\",1)","v":1}]
[{"$f":"IF(Runs_test!A245=OFFSET(Runs_test!A245,1,0),\"\",1)","v":""},{"$f":"IF(Runs_test!D245=OFFSET(Runs_test!D245,1,0),\"\",1)","v":1}]
[{"$f":"IF(Runs_test!A246=OFFSET(Runs_test!A246,1,0),\"\",1)","v":""},{"$f":"IF(Runs_test!D246=OFFSET(Runs_test!D246,1,0),\"\",1)","v":""}]
[{"$f":"IF(Runs_test!A247=OFFSET(Runs_test!A247,1,0),\"\",1)","v":""},{"$f":"IF(Runs_test!D247=OFFSET(Runs_test!D247,1,0),\"\",1)","v":""}]
[{"$f":"IF(Runs_test!A248=OFFSET(Runs_test!A248,1,0),\"\",1)","v":""},{"$f":"IF(Runs_test!D248=OFFSET(Runs_test!D248,1,0),\"\",1)","v":1}]
[{"$f":"IF(Runs_test!A249=OFFSET(Runs_test!A249,1,0),\"\",1)","v":1},{"$f":"IF(Runs_test!D249=OFFSET(Runs_test!D249,1,0),\"\",1)","v":1}]
[{"$f":"IF(Runs_test!A250=OFFSET(Runs_test!A250,1,0),\"\",1)","v":""},{"$f":"IF(Runs_test!D250=OFFSET(Runs_test!D250,1,0),\"\",1)","v":1}]
[{"$f":"IF(Runs_test!A251=OFFSET(Runs_test!A251,1,0),\"\",1)","v":1},{"$f":"IF(Runs_test!D251=OFFSET(Runs_test!D251,1,0),\"\",1)","v":1}]
[{"$f":"IF(Runs_test!A252=OFFSET(Runs_test!A252,1,0),\"\",1)","v":""},{"$f":"IF(Runs_test!D252=OFFSET(Runs_test!D252,1,0),\"\",1)","v":""}]
[{"$f":"IF(Runs_test!A253=OFFSET(Runs_test!A253,1,0),\"\",1)","v":""},{"$f":"IF(Runs_test!D253=OFFSET(Runs_test!D253,1,0),\"\",1)","v":""}]
[{"$f":"IF(Runs_test!A254=OFFSET(Runs_test!A254,1,0),\"\",1)","v":""},{"$f":"IF(Runs_test!D254=OFFSET(Runs_test!D254,1,0),\"\",1)","v":""}]
[{"$f":"IF(Runs_test!A255=OFFSET(Runs_test!A255,1,0),\"\",1)","v":""},{"$f":"IF(Runs_test!D255=OFFSET(Runs_test!D255,1,0),\"\",1)","v":""}]
[{"$f":"IF(Runs_test!A256=OFFSET(Runs_test!A256,1,0),\"\",1)","v":1},{"$f":"IF(Runs_test!D256=OFFSET(Runs_test!D256,1,0),\"\",1)","v":1}]
[{"$f":"IF(Runs_test!A257=OFFSET(Runs_test!A257,1,0),\"\",1)","v":1},{"$f":"IF(Runs_test!D257=OFFSET(Runs_test!D257,1,0),\"\",1)","v":1}]
[{"$f":"IF(Runs_test!A258=OFFSET(Runs_test!A258,1,0),\"\",1)","v":1},{"$f":"IF(Runs_test!D258=OFFSET(Runs_test!D258,1,0),\"\",1)","v":""}]
[{"$f":"IF(Runs_test!A259=OFFSET(Runs_test!A259,1,0),\"\",1)","v":1},{"$f":"IF(Runs_test!D259=OFFSET(Runs_test!D259,1,0),\"\",1)","v":1}]
[{"$f":"IF(Runs_test!A260=OFFSET(Runs_test!A260,1,0),\"\",1)","v":""},{"$f":"IF(Runs_test!D260=OFFSET(Runs_test!D260,1,0),\"\",1)","v":""}]
[{"$f":"IF(Runs_test!A261=OFFSET(Runs_test!A261,1,0),\"\",1)","v":""},{"$f":"IF(Runs_test!D261=OFFSET(Runs_test!D261,1,0),\"\",1)","v":""}]
[{"$f":"IF(Runs_test!A262=OFFSET(Runs_test!A262,1,0),\"\",1)","v":""},{"$f":"IF(Runs_test!D262=OFFSET(Runs_test!D262,1,0),\"\",1)","v":1}]
[{"$f":"IF(Runs_test!A263=OFFSET(Runs_test!A263,1,0),\"\",1)","v":""},{"$f":"IF(Runs_test!D263=OFFSET(Runs_test!D263,1,0),\"\",1)","v":""}]
[{"$f":"IF(Runs_test!A264=OFFSET(Runs_test!A264,1,0),\"\",1)","v":1},{"$f":"IF(Runs_test!D264=OFFSET(Runs_test!D264,1,0),\"\",1)","v":""}]
[{"$f":"IF(Runs_test!A265=OFFSET(Runs_test!A265,1,0),\"\",1)","v":1},{"$f":"IF(Runs_test!D265=OFFSET(Runs_test!D265,1,0),\"\",1)","v":1}]
[{"$f":"IF(Runs_test!A266=OFFSET(Runs_test!A266,1,0),\"\",1)","v":""},{"$f":"IF(Runs_test!D266=OFFSET(Runs_test!D266,1,0),\"\",1)","v":""}]
[{"$f":"IF(Runs_test!A267=OFFSET(Runs_test!A267,1,0),\"\",1)","v":1},{"$f":"IF(Runs_test!D267=OFFSET(Runs_test!D267,1,0),\"\",1)","v":""}]
[{"$f":"IF(Runs_test!A268=OFFSET(Runs_test!A268,1,0),\"\",1)","v":1},{"$f":"IF(Runs_test!D268=OFFSET(Runs_test!D268,1,0),\"\",1)","v":1}]
[{"$f":"IF(Runs_test!A269=OFFSET(Runs_test!A269,1,0),\"\",1)","v":""},{"$f":"IF(Runs_test!D269=OFFSET(Runs_test!D269,1,0),\"\",1)","v":""}]
[{"$f":"IF(Runs_test!A270=OFFSET(Runs_test!A270,1,0),\"\",1)","v":""},{"$f":"IF(Runs_test!D270=OFFSET(Runs_test!D270,1,0),\"\",1)","v":""}]
[{"$f":"IF(Runs_test!A271=OFFSET(Runs_test!A271,1,0),\"\",1)","v":""},{"$f":"IF(Runs_test!D271=OFFSET(Runs_test!D271,1,0),\"\",1)","v":""}]
[{"$f":"IF(Runs_test!A272=OFFSET(Runs_test!A272,1,0),\"\",1)","v":""},{"$f":"IF(Runs_test!D272=OFFSET(Runs_test!D272,1,0),\"\",1)","v":""}]
[{"$f":"IF(Runs_test!A273=OFFSET(Runs_test!A273,1,0),\"\",1)","v":1},{"$f":"IF(Runs_test!D273=OFFSET(Runs_test!D273,1,0),\"\",1)","v":""}]
[{"$f":"IF(Runs_test!A274=OFFSET(Runs_test!A274,1,0),\"\",1)","v":1},{"$f":"IF(Runs_test!D274=OFFSET(Runs_test!D274,1,0),\"\",1)","v":""}]
[{"$f":"IF(Runs_test!A275=OFFSET(Runs_test!A275,1,0),\"\",1)","v":""},{"$f":"IF(Runs_test!D275=OFFSET(Runs_test!D275,1,0),\"\",1)","v":1}]
[{"$f":"IF(Runs_test!A276=OFFSET(Runs_test!A276,1,0),\"\",1)","v":""},{"$f":"IF(Runs_test!D276=OFFSET(Runs_test!D276,1,0),\"\",1)","v":1}]
[{"$f":"IF(Runs_test!A277=OFFSET(Runs_test!A277,1,0),\"\",1)","v":""},{"$f":"IF(Runs_test!D277=OFFSET(Runs_test!D277,1,0),\"\",1)","v":1}]
[{"$f":"IF(Runs_test!A278=OFFSET(Runs_test!A278,1,0),\"\",1)","v":1},{"$f":"IF(Runs_test!D278=OFFSET(Runs_test!D278,1,0),\"\",1)","v":1}]
[{"$f":"IF(Runs_test!A279=OFFSET(Runs_test!A279,1,0),\"\",1)","v":1},{"$f":"IF(Runs_test!D279=OFFSET(Runs_test!D279,1,0),\"\",1)","v":""}]
[{"$f":"IF(Runs_test!A280=OFFSET(Runs_test!A280,1,0),\"\",1)","v":""},{"$f":"IF(Runs_test!D280=OFFSET(Runs_test!D280,1,0),\"\",1)","v":""}]
[{"$f":"IF(Runs_test!A281=OFFSET(Runs_test!A281,1,0),\"\",1)","v":""},{"$f":"IF(Runs_test!D281=OFFSET(Runs_test!D281,1,0),\"\",1)","v":""}]
[{"$f":"IF(Runs_test!A282=OFFSET(Runs_test!A282,1,0),\"\",1)","v":""},{"$f":"IF(Runs_test!D282=OFFSET(Runs_test!D282,1,0),\"\",1)","v":""}]
[{"$f":"IF(Runs_test!A283=OFFSET(Runs_test!A283,1,0),\"\",1)","v":""},{"$f":"IF(Runs_test!D283=OFFSET(Runs_test!D283,1,0),\"\",1)","v":""}]
[{"$f":"IF(Runs_test!A284=OFFSET(Runs_test!A284,1,0),\"\",1)","v":""},{"$f":"IF(Runs_test!D284=OFFSET(Runs_test!D284,1,0),\"\",1)","v":""}]
[{"$f":"IF(Runs_test!A285=OFFSET(Runs_test!A285,1,0),\"\",1)","v":1},{"$f":"IF(Runs_test!D285=OFFSET(Runs_test!D285,1,0),\"\",1)","v":""}]
[{"$f":"IF(Runs_test!A286=OFFSET(Runs_test!A286,1,0),\"\",1)","v":1},{"$f":"IF(Runs_test!D286=OFFSET(Runs_test!D286,1,0),\"\",1)","v":""}]
[{"$f":"IF(Runs_test!A287=OFFSET(Runs_test!A287,1,0),\"\",1)","v":1},{"$f":"IF(Runs_test!D287=OFFSET(Runs_test!D287,1,0),\"\",1)","v":""}]
[{"$f":"IF(Runs_test!A288=OFFSET(Runs_test!A288,1,0),\"\",1)","v":1},{"$f":"IF(Runs_test!D288=OFFSET(Runs_test!D288,1,0),\"\",1)","v":""}]
[{"$f":"IF(Runs_test!A289=OFFSET(Runs_test!A289,1,0),\"\",1)","v":""},{"$f":"IF(Runs_test!D289=OFFSET(Runs_test!D289,1,0),\"\",1)","v":""}]
[{"$f":"IF(Runs_test!A290=OFFSET(Runs_test!A290,1,0),\"\",1)","v":""},{"$f":"IF(Runs_test!D290=OFFSET(Runs_test!D290,1,0),\"\",1)","v":""}]
[{"$f":"IF(Runs_test!A291=OFFSET(Runs_test!A291,1,0),\"\",1)","v":1},{"$f":"IF(Runs_test!D291=OFFSET(Runs_test!D291,1,0),\"\",1)","v":""}]
[{"$f":"IF(Runs_test!A292=OFFSET(Runs_test!A292,1,0),\"\",1)","v":1},{"$f":"IF(Runs_test!D292=OFFSET(Runs_test!D292,1,0),\"\",1)","v":1}]
[{"$f":"IF(Runs_test!A293=OFFSET(Runs_test!A293,1,0),\"\",1)","v":""},{"$f":"IF(Runs_test!D293=OFFSET(Runs_test!D293,1,0),\"\",1)","v":1}]
[{"$f":"IF(Runs_test!A294=OFFSET(Runs_test!A294,1,0),\"\",1)","v":""},{"$f":"IF(Runs_test!D294=OFFSET(Runs_test!D294,1,0),\"\",1)","v":1}]
[{"$f":"IF(Runs_test!A295=OFFSET(Runs_test!A295,1,0),\"\",1)","v":1},{"$f":"IF(Runs_test!D295=OFFSET(Runs_test!D295,1,0),\"\",1)","v":""}]
[{"$f":"IF(Runs_test!A296=OFFSET(Runs_test!A296,1,0),\"\",1)","v":""},{"$f":"IF(Runs_test!D296=OFFSET(Runs_test!D296,1,0),\"\",1)","v":1}]
[{"$f":"IF(Runs_test!A297=OFFSET(Runs_test!A297,1,0),\"\",1)","v":1},{"$f":"IF(Runs_test!D297=OFFSET(Runs_test!D297,1,0),\"\",1)","v":1}]
[{"$f":"IF(Runs_test!A298=OFFSET(Runs_test!A298,1,0),\"\",1)","v":""},{"$f":"IF(Runs_test!D298=OFFSET(Runs_test!D298,1,0),\"\",1)","v":""}]
[{"$f":"IF(Runs_test!A299=OFFSET(Runs_test!A299,1,0),\"\",1)","v":""},{"$f":"IF(Runs_test!D299=OFFSET(Runs_test!D299,1,0),\"\",1)","v":""}]
[{"$f":"IF(Runs_test!A300=OFFSET(Runs_test!A300,1,0),\"\",1)","v":""},{"$f":"IF(Runs_test!D300=OFFSET(Runs_test!D300,1,0),\"\",1)","v":""}]
[{"$f":"IF(Runs_test!A301=OFFSET(Runs_test!A301,1,0),\"\",1)","v":""},{"$f":"IF(Runs_test!D301=OFFSET(Runs_test!D301,1,0),\"\",1)","v":""}]
[{"$f":"IF(Runs_test!A302=OFFSET(Runs_test!A302,1,0),\"\",1)","v":""},{"$f":"IF(Runs_test!D302=OFFSET(Runs_test!D302,1,0),\"\",1)","v":""}]
[{"$f":"IF(Runs_test!A303=OFFSET(Runs_test!A303,1,0),\"\",1)","v":""},{"$f":"IF(Runs_test!D303=OFFSET(Runs_test!D303,1,0),\"\",1)","v":""}]
[{"$f":"IF(Runs_test!A304=OFFSET(Runs_test!A304,1,0),\"\",1)","v":""},{"$f":"IF(Runs_test!D304=OFFSET(Runs_test!D304,1,0),\"\",1)","v":""}]
[{"$f":"IF(Runs_test!A305=OFFSET(Runs_test!A305,1,0),\"\",1)","v":""},{"$f":"IF(Runs_test!D305=OFFSET(Runs_test!D305,1,0),\"\",1)","v":""}]
[{"$f":"IF(Runs_test!A306=OFFSET(Runs_test!A306,1,0),\"\",1)","v":""},{"$f":"IF(Runs_test!D306=OFFSET(Runs_test!D306,1,0),\"\",1)","v":""}]
[{"$f":"IF(Runs_test!A307=OFFSET(Runs_test!A307,1,0),\"\",1)","v":""},{"$f":"IF(Runs_test!D307=OFFSET(Runs_test!D307,1,0),\"\",1)","v":""}]
[{"$f":"IF(Runs_test!A308=OFFSET(Runs_test!A308,1,0),\"\",1)","v":""},{"$f":"IF(Runs_test!D308=OFFSET(Runs_test!D308,1,0),\"\",1)","v":""}]
[{"$f":"IF(Runs_test!A309=OFFSET(Runs_test!A309,1,0),\"\",1)","v":""},{"$f":"IF(Runs_test!D309=OFFSET(Runs_test!D309,1,0),\"\",1)","v":""}]
[{"$f":"IF(Runs_test!A310=OFFSET(Runs_test!A310,1,0),\"\",1)","v":""},{"$f":"IF(Runs_test!D310=OFFSET(Runs_test!D310,1,0),\"\",1)","v":""}]
[{"$f":"IF(Runs_test!A311=OFFSET(Runs_test!A311,1,0),\"\",1)","v":""},{"$f":"IF(Runs_test!D311=OFFSET(Runs_test!D311,1,0),\"\",1)","v":""}]
[{"$f":"IF(Runs_test!A312=OFFSET(Runs_test!A312,1,0),\"\",1)","v":""},{"$f":"IF(Runs_test!D312=OFFSET(Runs_test!D312,1,0),\"\",1)","v":""}]
[{"$f":"IF(Runs_test!A313=OFFSET(Runs_test!A313,1,0),\"\",1)","v":""},{"$f":"IF(Runs_test!D313=OFFSET(Runs_test!D313,1,0),\"\",1)","v":""}]
[{"$f":"IF(Runs_test!A314=OFFSET(Runs_test!A314,1,0),\"\",1)","v":""},{"$f":"IF(Runs_test!D314=OFFSET(Runs_test!D314,1,0),\"\",1)","v":""}]
[{"$f":"IF(Runs_test!A315=OFFSET(Runs_test!A315,1,0),\"\",1)","v":""},{"$f":"IF(Runs_test!D315=OFFSET(Runs_test!D315,1,0),\"\",1)","v":""}]
[{"$f":"IF(Runs_test!A316=OFFSET(Runs_test!A316,1,0),\"\",1)","v":""},{"$f":"IF(Runs_test!D316=OFFSET(Runs_test!D316,1,0),\"\",1)","v":""}]
[{"$f":"IF(Runs_test!A317=OFFSET(Runs_test!A317,1,0),\"\",1)","v":""},{"$f":"IF(Runs_test!D317=OFFSET(Runs_test!D317,1,0),\"\",1)","v":""}]
[{"$f":"IF(Runs_test!A318=OFFSET(Runs_test!A318,1,0),\"\",1)","v":""},{"$f":"IF(Runs_test!D318=OFFSET(Runs_test!D318,1,0),\"\",1)","v":""}]
[{"$f":"IF(Runs_test!A319=OFFSET(Runs_test!A319,1,0),\"\",1)","v":""},{"$f":"IF(Runs_test!D319=OFFSET(Runs_test!D319,1,0),\"\",1)","v":""}]
[{"$f":"IF(Runs_test!A320=OFFSET(Runs_test!A320,1,0),\"\",1)","v":""},{"$f":"IF(Runs_test!D320=OFFSET(Runs_test!D320,1,0),\"\",1)","v":""}]
[{"$f":"IF(Runs_test!A321=OFFSET(Runs_test!A321,1,0),\"\",1)","v":""},{"$f":"IF(Runs_test!D321=OFFSET(Runs_test!D321,1,0),\"\",1)","v":""}]
[{"$f":"IF(Runs_test!A322=OFFSET(Runs_test!A322,1,0),\"\",1)","v":""},{"$f":"IF(Runs_test!D322=OFFSET(Runs_test!D322,1,0),\"\",1)","v":""}]
[{"$f":"IF(Runs_test!A323=OFFSET(Runs_test!A323,1,0),\"\",1)","v":""},{"$f":"IF(Runs_test!D323=OFFSET(Runs_test!D323,1,0),\"\",1)","v":""}]
[{"$f":"IF(Runs_test!A324=OFFSET(Runs_test!A324,1,0),\"\",1)","v":""},{"$f":"IF(Runs_test!D324=OFFSET(Runs_test!D324,1,0),\"\",1)","v":""}]
[{"$f":"IF(Runs_test!A325=OFFSET(Runs_test!A325,1,0),\"\",1)","v":""},{"$f":"IF(Runs_test!D325=OFFSET(Runs_test!D325,1,0),\"\",1)","v":""}]
[{"$f":"IF(Runs_test!A326=OFFSET(Runs_test!A326,1,0),\"\",1)","v":""},{"$f":"IF(Runs_test!D326=OFFSET(Runs_test!D326,1,0),\"\",1)","v":""}]
[{"$f":"IF(Runs_test!A327=OFFSET(Runs_test!A327,1,0),\"\",1)","v":""},{"$f":"IF(Runs_test!D327=OFFSET(Runs_test!D327,1,0),\"\",1)","v":""}]
[{"$f":"IF(Runs_test!A328=OFFSET(Runs_test!A328,1,0),\"\",1)","v":""},{"$f":"IF(Runs_test!D328=OFFSET(Runs_test!D328,1,0),\"\",1)","v":""}]
[{"$f":"IF(Runs_test!A329=OFFSET(Runs_test!A329,1,0),\"\",1)","v":""},{"$f":"IF(Runs_test!D329=OFFSET(Runs_test!D329,1,0),\"\",1)","v":""}]
[{"$f":"IF(Runs_test!A330=OFFSET(Runs_test!A330,1,0),\"\",1)","v":""},{"$f":"IF(Runs_test!D330=OFFSET(Runs_test!D330,1,0),\"\",1)","v":""}]
[{"$f":"IF(Runs_test!A331=OFFSET(Runs_test!A331,1,0),\"\",1)","v":""},{"$f":"IF(Runs_test!D331=OFFSET(Runs_test!D331,1,0),\"\",1)","v":""}]
[{"$f":"IF(Runs_test!A332=OFFSET(Runs_test!A332,1,0),\"\",1)","v":""},{"$f":"IF(Runs_test!D332=OFFSET(Runs_test!D332,1,0),\"\",1)","v":""}]
[{"$f":"IF(Runs_test!A333=OFFSET(Runs_test!A333,1,0),\"\",1)","v":""},{"$f":"IF(Runs_test!D333=OFFSET(Runs_test!D333,1,0),\"\",1)","v":""}]
[{"$f":"IF(Runs_test!A334=OFFSET(Runs_test!A334,1,0),\"\",1)","v":""},{"$f":"IF(Runs_test!D334=OFFSET(Runs_test!D334,1,0),\"\",1)","v":""}]
[{"$f":"IF(Runs_test!A335=OFFSET(Runs_test!A335,1,0),\"\",1)","v":""},{"$f":"IF(Runs_test!D335=OFFSET(Runs_test!D335,1,0),\"\",1)","v":""}]
[{"$f":"IF(Runs_test!A336=OFFSET(Runs_test!A336,1,0),\"\",1)","v":""},{"$f":"IF(Runs_test!D336=OFFSET(Runs_test!D336,1,0),\"\",1)","v":""}]
[{"$f":"IF(Runs_test!A337=OFFSET(Runs_test!A337,1,0),\"\",1)","v":""},{"$f":"IF(Runs_test!D337=OFFSET(Runs_test!D337,1,0),\"\",1)","v":""}]
[{"$f":"IF(Runs_test!A338=OFFSET(Runs_test!A338,1,0),\"\",1)","v":""},{"$f":"IF(Runs_test!D338=OFFSET(Runs_test!D338,1,0),\"\",1)","v":""}]
[{"$f":"IF(Runs_test!A339=OFFSET(Runs_test!A339,1,0),\"\",1)","v":""},{"$f":"IF(Runs_test!D339=OFFSET(Runs_test!D339,1,0),\"\",1)","v":""}]
[{"$f":"IF(Runs_test!A340=OFFSET(Runs_test!A340,1,0),\"\",1)","v":""},{"$f":"IF(Runs_test!D340=OFFSET(Runs_test!D340,1,0),\"\",1)","v":""}]
[{"$f":"IF(Runs_test!A341=OFFSET(Runs_test!A341,1,0),\"\",1)","v":""},{"$f":"IF(Runs_test!D341=OFFSET(Runs_test!D341,1,0),\"\",1)","v":""}]
[{"$f":"IF(Runs_test!A342=OFFSET(Runs_test!A342,1,0),\"\",1)","v":""},{"$f":"IF(Runs_test!D342=OFFSET(Runs_test!D342,1,0),\"\",1)","v":""}]
[{"$f":"IF(Runs_test!A343=OFFSET(Runs_test!A343,1,0),\"\",1)","v":""},{"$f":"IF(Runs_test!D343=OFFSET(Runs_test!D343,1,0),\"\",1)","v":""}]
[{"$f":"IF(Runs_test!A344=OFFSET(Runs_test!A344,1,0),\"\",1)","v":""},{"$f":"IF(Runs_test!D344=OFFSET(Runs_test!D344,1,0),\"\",1)","v":""}]
[{"$f":"IF(Runs_test!A345=OFFSET(Runs_test!A345,1,0),\"\",1)","v":""},{"$f":"IF(Runs_test!D345=OFFSET(Runs_test!D345,1,0),\"\",1)","v":""}]
[{"$f":"IF(Runs_test!A346=OFFSET(Runs_test!A346,1,0),\"\",1)","v":""},{"$f":"IF(Runs_test!D346=OFFSET(Runs_test!D346,1,0),\"\",1)","v":""}]
[{"$f":"IF(Runs_test!A347=OFFSET(Runs_test!A347,1,0),\"\",1)","v":""},{"$f":"IF(Runs_test!D347=OFFSET(Runs_test!D347,1,0),\"\",1)","v":""}]
[{"$f":"IF(Runs_test!A348=OFFSET(Runs_test!A348,1,0),\"\",1)","v":""},{"$f":"IF(Runs_test!D348=OFFSET(Runs_test!D348,1,0),\"\",1)","v":""}]
[{"$f":"IF(Runs_test!A349=OFFSET(Runs_test!A349,1,0),\"\",1)","v":""},{"$f":"IF(Runs_test!D349=OFFSET(Runs_test!D349,1,0),\"\",1)","v":""}]
[{"$f":"IF(Runs_test!A350=OFFSET(Runs_test!A350,1,0),\"\",1)","v":""},{"$f":"IF(Runs_test!D350=OFFSET(Runs_test!D350,1,0),\"\",1)","v":""}]
[{"$f":"IF(Runs_test!A351=OFFSET(Runs_test!A351,1,0),\"\",1)","v":""},{"$f":"IF(Runs_test!D351=OFFSET(Runs_test!D351,1,0),\"\",1)","v":""}]
[{"$f":"IF(Runs_test!A352=OFFSET(Runs_test!A352,1,0),\"\",1)","v":""},{"$f":"IF(Runs_test!D352=OFFSET(Runs_test!D352,1,0),\"\",1)","v":""}]
[{"$f":"IF(Runs_test!A353=OFFSET(Runs_test!A353,1,0),\"\",1)","v":""},{"$f":"IF(Runs_test!D353=OFFSET(Runs_test!D353,1,0),\"\",1)","v":""}]
[{"$f":"IF(Runs_test!A354=OFFSET(Runs_test!A354,1,0),\"\",1)","v":""},{"$f":"IF(Runs_test!D354=OFFSET(Runs_test!D354,1,0),\"\",1)","v":""}]
[{"$f":"IF(Runs_test!A355=OFFSET(Runs_test!A355,1,0),\"\",1)","v":""},{"$f":"IF(Runs_test!D355=OFFSET(Runs_test!D355,1,0),\"\",1)","v":""}]
[{"$f":"IF(Runs_test!A356=OFFSET(Runs_test!A356,1,0),\"\",1)","v":""},{"$f":"IF(Runs_test!D356=OFFSET(Runs_test!D356,1,0),\"\",1)","v":""}]
[{"$f":"IF(Runs_test!A357=OFFSET(Runs_test!A357,1,0),\"\",1)","v":""},{"$f":"IF(Runs_test!D357=OFFSET(Runs_test!D357,1,0),\"\",1)","v":""}]
[{"$f":"IF(Runs_test!A358=OFFSET(Runs_test!A358,1,0),\"\",1)","v":""},{"$f":"IF(Runs_test!D358=OFFSET(Runs_test!D358,1,0),\"\",1)","v":""}]
[{"$f":"IF(Runs_test!A359=OFFSET(Runs_test!A359,1,0),\"\",1)","v":""},{"$f":"IF(Runs_test!D359=OFFSET(Runs_test!D359,1,0),\"\",1)","v":""}]
[{"$f":"IF(Runs_test!A360=OFFSET(Runs_test!A360,1,0),\"\",1)","v":""},{"$f":"IF(Runs_test!D360=OFFSET(Runs_test!D360,1,0),\"\",1)","v":""}]
[{"$f":"IF(Runs_test!A361=OFFSET(Runs_test!A361,1,0),\"\",1)","v":""},{"$f":"IF(Runs_test!D361=OFFSET(Runs_test!D361,1,0),\"\",1)","v":""}]
[{"$f":"IF(Runs_test!A362=OFFSET(Runs_test!A362,1,0),\"\",1)","v":""},{"$f":"IF(Runs_test!D362=OFFSET(Runs_test!D362,1,0),\"\",1)","v":""}]
[{"$f":"IF(Runs_test!A363=OFFSET(Runs_test!A363,1,0),\"\",1)","v":""},{"$f":"IF(Runs_test!D363=OFFSET(Runs_test!D363,1,0),\"\",1)","v":""}]
[{"$f":"IF(Runs_test!A364=OFFSET(Runs_test!A364,1,0),\"\",1)","v":""},{"$f":"IF(Runs_test!D364=OFFSET(Runs_test!D364,1,0),\"\",1)","v":""}]
[{"$f":"IF(Runs_test!A365=OFFSET(Runs_test!A365,1,0),\"\",1)","v":""},{"$f":"IF(Runs_test!D365=OFFSET(Runs_test!D365,1,0),\"\",1)","v":""}]
[{"$f":"IF(Runs_test!A366=OFFSET(Runs_test!A366,1,0),\"\",1)","v":""},{"$f":"IF(Runs_test!D366=OFFSET(Runs_test!D366,1,0),\"\",1)","v":""}]
[{"$f":"IF(Runs_test!A367=OFFSET(Runs_test!A367,1,0),\"\",1)","v":""},{"$f":"IF(Runs_test!D367=OFFSET(Runs_test!D367,1,0),\"\",1)","v":""}]
[{"$f":"IF(Runs_test!A368=OFFSET(Runs_test!A368,1,0),\"\",1)","v":""},{"$f":"IF(Runs_test!D368=OFFSET(Runs_test!D368,1,0),\"\",1)","v":""}]
[{"$f":"IF(Runs_test!A369=OFFSET(Runs_test!A369,1,0),\"\",1)","v":""},{"$f":"IF(Runs_test!D369=OFFSET(Runs_test!D369,1,0),\"\",1)","v":""}]
[{"$f":"IF(Runs_test!A370=OFFSET(Runs_test!A370,1,0),\"\",1)","v":""},{"$f":"IF(Runs_test!D370=OFFSET(Runs_test!D370,1,0),\"\",1)","v":""}]
[{"$f":"IF(Runs_test!A371=OFFSET(Runs_test!A371,1,0),\"\",1)","v":""},{"$f":"IF(Runs_test!D371=OFFSET(Runs_test!D371,1,0),\"\",1)","v":""}]
[{"$f":"IF(Runs_test!A372=OFFSET(Runs_test!A372,1,0),\"\",1)","v":""},{"$f":"IF(Runs_test!D372=OFFSET(Runs_test!D372,1,0),\"\",1)","v":""}]
[{"$f":"IF(Runs_test!A373=OFFSET(Runs_test!A373,1,0),\"\",1)","v":""},{"$f":"IF(Runs_test!D373=OFFSET(Runs_test!D373,1,0),\"\",1)","v":""}]
[{"$f":"IF(Runs_test!A374=OFFSET(Runs_test!A374,1,0),\"\",1)","v":""},{"$f":"IF(Runs_test!D374=OFFSET(Runs_test!D374,1,0),\"\",1)","v":""}]
[{"$f":"IF(Runs_test!A375=OFFSET(Runs_test!A375,1,0),\"\",1)","v":""},{"$f":"IF(Runs_test!D375=OFFSET(Runs_test!D375,1,0),\"\",1)","v":""}]
[{"$f":"IF(Runs_test!A376=OFFSET(Runs_test!A376,1,0),\"\",1)","v":""},{"$f":"IF(Runs_test!D376=OFFSET(Runs_test!D376,1,0),\"\",1)","v":""}]
[{"$f":"IF(Runs_test!A377=OFFSET(Runs_test!A377,1,0),\"\",1)","v":""},{"$f":"IF(Runs_test!D377=OFFSET(Runs_test!D377,1,0),\"\",1)","v":""}]
[{"$f":"IF(Runs_test!A378=OFFSET(Runs_test!A378,1,0),\"\",1)","v":""},{"$f":"IF(Runs_test!D378=OFFSET(Runs_test!D378,1,0),\"\",1)","v":""}]
[{"$f":"IF(Runs_test!A379=OFFSET(Runs_test!A379,1,0),\"\",1)","v":""},{"$f":"IF(Runs_test!D379=OFFSET(Runs_test!D379,1,0),\"\",1)","v":""}]
[{"$f":"IF(Runs_test!A380=OFFSET(Runs_test!A380,1,0),\"\",1)","v":""},{"$f":"IF(Runs_test!D380=OFFSET(Runs_test!D380,1,0),\"\",1)","v":""}]
[{"$f":"IF(Runs_test!A381=OFFSET(Runs_test!A381,1,0),\"\",1)","v":""},{"$f":"IF(Runs_test!D381=OFFSET(Runs_test!D381,1,0),\"\",1)","v":""}]
[{"$f":"IF(Runs_test!A382=OFFSET(Runs_test!A382,1,0),\"\",1)","v":""},{"$f":"IF(Runs_test!D382=OFFSET(Runs_test!D382,1,0),\"\",1)","v":""}]
[{"$f":"IF(Runs_test!A383=OFFSET(Runs_test!A383,1,0),\"\",1)","v":""},{"$f":"IF(Runs_test!D383=OFFSET(Runs_test!D383,1,0),\"\",1)","v":""}]
[{"$f":"IF(Runs_test!A384=OFFSET(Runs_test!A384,1,0),\"\",1)","v":""},{"$f":"IF(Runs_test!D384=OFFSET(Runs_test!D384,1,0),\"\",1)","v":""}]
[{"$f":"IF(Runs_test!A385=OFFSET(Runs_test!A385,1,0),\"\",1)","v":""},{"$f":"IF(Runs_test!D385=OFFSET(Runs_test!D385,1,0),\"\",1)","v":""}]
[{"$f":"IF(Runs_test!A386=OFFSET(Runs_test!A386,1,0),\"\",1)","v":""},{"$f":"IF(Runs_test!D386=OFFSET(Runs_test!D386,1,0),\"\",1)","v":""}]
[{"$f":"IF(Runs_test!A387=OFFSET(Runs_test!A387,1,0),\"\",1)","v":""},{"$f":"IF(Runs_test!D387=OFFSET(Runs_test!D387,1,0),\"\",1)","v":""}]
[{"$f":"IF(Runs_test!A388=OFFSET(Runs_test!A388,1,0),\"\",1)","v":""},{"$f":"IF(Runs_test!D388=OFFSET(Runs_test!D388,1,0),\"\",1)","v":""}]
[{"$f":"IF(Runs_test!A389=OFFSET(Runs_test!A389,1,0),\"\",1)","v":""},{"$f":"IF(Runs_test!D389=OFFSET(Runs_test!D389,1,0),\"\",1)","v":""}]
[{"$f":"IF(Runs_test!A390=OFFSET(Runs_test!A390,1,0),\"\",1)","v":""},{"$f":"IF(Runs_test!D390=OFFSET(Runs_test!D390,1,0),\"\",1)","v":""}]
[{"$f":"IF(Runs_test!A391=OFFSET(Runs_test!A391,1,0),\"\",1)","v":""},{"$f":"IF(Runs_test!D391=OFFSET(Runs_test!D391,1,0),\"\",1)","v":""}]
[{"$f":"IF(Runs_test!A392=OFFSET(Runs_test!A392,1,0),\"\",1)","v":""},{"$f":"IF(Runs_test!D392=OFFSET(Runs_test!D392,1,0),\"\",1)","v":""}]
[{"$f":"IF(Runs_test!A393=OFFSET(Runs_test!A393,1,0),\"\",1)","v":""},{"$f":"IF(Runs_test!D393=OFFSET(Runs_test!D393,1,0),\"\",1)","v":""}]
[{"$f":"IF(Runs_test!A394=OFFSET(Runs_test!A394,1,0),\"\",1)","v":""},{"$f":"IF(Runs_test!D394=OFFSET(Runs_test!D394,1,0),\"\",1)","v":""}]
[{"$f":"IF(Runs_test!A395=OFFSET(Runs_test!A395,1,0),\"\",1)","v":""},{"$f":"IF(Runs_test!D395=OFFSET(Runs_test!D395,1,0),\"\",1)","v":""}]
[{"$f":"IF(Runs_test!A396=OFFSET(Runs_test!A396,1,0),\"\",1)","v":""},{"$f":"IF(Runs_test!D396=OFFSET(Runs_test!D396,1,0),\"\",1)","v":""}]
[{"$f":"IF(Runs_test!A397=OFFSET(Runs_test!A397,1,0),\"\",1)","v":""},{"$f":"IF(Runs_test!D397=OFFSET(Runs_test!D397,1,0),\"\",1)","v":""}]
[{"$f":"IF(Runs_test!A398=OFFSET(Runs_test!A398,1,0),\"\",1)","v":""},{"$f":"IF(Runs_test!D398=OFFSET(Runs_test!D398,1,0),\"\",1)","v":""}]
[{"$f":"IF(Runs_test!A399=OFFSET(Runs_test!A399,1,0),\"\",1)","v":""},{"$f":"IF(Runs_test!D399=OFFSET(Runs_test!D399,1,0),\"\",1)","v":""}]
[{"$f":"IF(Runs_test!A400=OFFSET(Runs_test!A400,1,0),\"\",1)","v":""},{"$f":"IF(Runs_test!D400=OFFSET(Runs_test!D400,1,0),\"\",1)","v":""}]
[{"$f":"IF(Runs_test!A401=OFFSET(Runs_test!A401,1,0),\"\",1)","v":""},{"$f":"IF(Runs_test!D401=OFFSET(Runs_test!D401,1,0),\"\",1)","v":""}]
[{"$f":"IF(Runs_test!A402=OFFSET(Runs_test!A402,1,0),\"\",1)","v":""},{"$f":"IF(Runs_test!D402=OFFSET(Runs_test!D402,1,0),\"\",1)","v":""}]
[{"$f":"IF(Runs_test!A403=OFFSET(Runs_test!A403,1,0),\"\",1)","v":""},{"$f":"IF(Runs_test!D403=OFFSET(Runs_test!D403,1,0),\"\",1)","v":""}]
[{"$f":"IF(Runs_test!A404=OFFSET(Runs_test!A404,1,0),\"\",1)","v":""},{"$f":"IF(Runs_test!D404=OFFSET(Runs_test!D404,1,0),\"\",1)","v":""}]
[{"$f":"IF(Runs_test!A405=OFFSET(Runs_test!A405,1,0),\"\",1)","v":""},{"$f":"IF(Runs_test!D405=OFFSET(Runs_test!D405,1,0),\"\",1)","v":""}]
[{"$f":"IF(Runs_test!A406=OFFSET(Runs_test!A406,1,0),\"\",1)","v":""},{"$f":"IF(Runs_test!D406=OFFSET(Runs_test!D406,1,0),\"\",1)","v":""}]
[{"$f":"IF(Runs_test!A407=OFFSET(Runs_test!A407,1,0),\"\",1)","v":""},{"$f":"IF(Runs_test!D407=OFFSET(Runs_test!D407,1,0),\"\",1)","v":""}]
[{"$f":"IF(Runs_test!A408=OFFSET(Runs_test!A408,1,0),\"\",1)","v":""},{"$f":"IF(Runs_test!D408=OFFSET(Runs_test!D408,1,0),\"\",1)","v":""}]
[{"$f":"IF(Runs_test!A409=OFFSET(Runs_test!A409,1,0),\"\",1)","v":""},{"$f":"IF(Runs_test!D409=OFFSET(Runs_test!D409,1,0),\"\",1)","v":""}]
[{"$f":"IF(Runs_test!A410=OFFSET(Runs_test!A410,1,0),\"\",1)","v":""},{"$f":"IF(Runs_test!D410=OFFSET(Runs_test!D410,1,0),\"\",1)","v":""}]
[{"$f":"IF(Runs_test!A411=OFFSET(Runs_test!A411,1,0),\"\",1)","v":""},{"$f":"IF(Runs_test!D411=OFFSET(Runs_test!D411,1,0),\"\",1)","v":""}]
[{"$f":"IF(Runs_test!A412=OFFSET(Runs_test!A412,1,0),\"\",1)","v":""},{"$f":"IF(Runs_test!D412=OFFSET(Runs_test!D412,1,0),\"\",1)","v":""}]
[{"$f":"IF(Runs_test!A413=OFFSET(Runs_test!A413,1,0),\"\",1)","v":""},{"$f":"IF(Runs_test!D413=OFFSET(Runs_test!D413,1,0),\"\",1)","v":""}]
[{"$f":"IF(Runs_test!A414=OFFSET(Runs_test!A414,1,0),\"\",1)","v":""},{"$f":"IF(Runs_test!D414=OFFSET(Runs_test!D414,1,0),\"\",1)","v":""}]
[{"$f":"IF(Runs_test!A415=OFFSET(Runs_test!A415,1,0),\"\",1)","v":""},{"$f":"IF(Runs_test!D415=OFFSET(Runs_test!D415,1,0),\"\",1)","v":""}]
[{"$f":"IF(Runs_test!A416=OFFSET(Runs_test!A416,1,0),\"\",1)","v":""},{"$f":"IF(Runs_test!D416=OFFSET(Runs_test!D416,1,0),\"\",1)","v":""}]
[{"$f":"IF(Runs_test!A417=OFFSET(Runs_test!A417,1,0),\"\",1)","v":""},{"$f":"IF(Runs_test!D417=OFFSET(Runs_test!D417,1,0),\"\",1)","v":""}]
[{"$f":"IF(Runs_test!A418=OFFSET(Runs_test!A418,1,0),\"\",1)","v":""},{"$f":"IF(Runs_test!D418=OFFSET(Runs_test!D418,1,0),\"\",1)","v":""}]
[{"$f":"IF(Runs_test!A419=OFFSET(Runs_test!A419,1,0),\"\",1)","v":""},{"$f":"IF(Runs_test!D419=OFFSET(Runs_test!D419,1,0),\"\",1)","v":""}]
[{"$f":"IF(Runs_test!A420=OFFSET(Runs_test!A420,1,0),\"\",1)","v":""},{"$f":"IF(Runs_test!D420=OFFSET(Runs_test!D420,1,0),\"\",1)","v":""}]
[{"$f":"IF(Runs_test!A421=OFFSET(Runs_test!A421,1,0),\"\",1)","v":""},{"$f":"IF(Runs_test!D421=OFFSET(Runs_test!D421,1,0),\"\",1)","v":""}]
[{"$f":"IF(Runs_test!A422=OFFSET(Runs_test!A422,1,0),\"\",1)","v":""},{"$f":"IF(Runs_test!D422=OFFSET(Runs_test!D422,1,0),\"\",1)","v":""}]
[{"$f":"IF(Runs_test!A423=OFFSET(Runs_test!A423,1,0),\"\",1)","v":""},{"$f":"IF(Runs_test!D423=OFFSET(Runs_test!D423,1,0),\"\",1)","v":""}]
[{"$f":"IF(Runs_test!A424=OFFSET(Runs_test!A424,1,0),\"\",1)","v":""},{"$f":"IF(Runs_test!D424=OFFSET(Runs_test!D424,1,0),\"\",1)","v":""}]
[{"$f":"IF(Runs_test!A425=OFFSET(Runs_test!A425,1,0),\"\",1)","v":""},{"$f":"IF(Runs_test!D425=OFFSET(Runs_test!D425,1,0),\"\",1)","v":""}]
[{"$f":"IF(Runs_test!A426=OFFSET(Runs_test!A426,1,0),\"\",1)","v":""},{"$f":"IF(Runs_test!D426=OFFSET(Runs_test!D426,1,0),\"\",1)","v":""}]
[{"$f":"IF(Runs_test!A427=OFFSET(Runs_test!A427,1,0),\"\",1)","v":""},{"$f":"IF(Runs_test!D427=OFFSET(Runs_test!D427,1,0),\"\",1)","v":""}]
[{"$f":"IF(Runs_test!A428=OFFSET(Runs_test!A428,1,0),\"\",1)","v":""},{"$f":"IF(Runs_test!D428=OFFSET(Runs_test!D428,1,0),\"\",1)","v":""}]
[{"$f":"IF(Runs_test!A429=OFFSET(Runs_test!A429,1,0),\"\",1)","v":""},{"$f":"IF(Runs_test!D429=OFFSET(Runs_test!D429,1,0),\"\",1)","v":""}]
[{"$f":"IF(Runs_test!A430=OFFSET(Runs_test!A430,1,0),\"\",1)","v":""},{"$f":"IF(Runs_test!D430=OFFSET(Runs_test!D430,1,0),\"\",1)","v":""}]
[{"$f":"IF(Runs_test!A431=OFFSET(Runs_test!A431,1,0),\"\",1)","v":""},{"$f":"IF(Runs_test!D431=OFFSET(Runs_test!D431,1,0),\"\",1)","v":""}]
[{"$f":"IF(Runs_test!A432=OFFSET(Runs_test!A432,1,0),\"\",1)","v":""},{"$f":"IF(Runs_test!D432=OFFSET(Runs_test!D432,1,0),\"\",1)","v":""}]
[{"$f":"IF(Runs_test!A433=OFFSET(Runs_test!A433,1,0),\"\",1)","v":""},{"$f":"IF(Runs_test!D433=OFFSET(Runs_test!D433,1,0),\"\",1)","v":""}]
[{"$f":"IF(Runs_test!A434=OFFSET(Runs_test!A434,1,0),\"\",1)","v":""},{"$f":"IF(Runs_test!D434=OFFSET(Runs_test!D434,1,0),\"\",1)","v":""}]
[{"$f":"IF(Runs_test!A435=OFFSET(Runs_test!A435,1,0),\"\",1)","v":""},{"$f":"IF(Runs_test!D435=OFFSET(Runs_test!D435,1,0),\"\",1)","v":""}]
[{"$f":"IF(Runs_test!A436=OFFSET(Runs_test!A436,1,0),\"\",1)","v":""},{"$f":"IF(Runs_test!D436=OFFSET(Runs_test!D436,1,0),\"\",1)","v":""}]
[{"$f":"IF(Runs_test!A437=OFFSET(Runs_test!A437,1,0),\"\",1)","v":""},{"$f":"IF(Runs_test!D437=OFFSET(Runs_test!D437,1,0),\"\",1)","v":""}]
[{"$f":"IF(Runs_test!A438=OFFSET(Runs_test!A438,1,0),\"\",1)","v":""},{"$f":"IF(Runs_test!D438=OFFSET(Runs_test!D438,1,0),\"\",1)","v":""}]
[{"$f":"IF(Runs_test!A439=OFFSET(Runs_test!A439,1,0),\"\",1)","v":""},{"$f":"IF(Runs_test!D439=OFFSET(Runs_test!D439,1,0),\"\",1)","v":""}]
[{"$f":"IF(Runs_test!A440=OFFSET(Runs_test!A440,1,0),\"\",1)","v":""},{"$f":"IF(Runs_test!D440=OFFSET(Runs_test!D440,1,0),\"\",1)","v":""}]
[{"$f":"IF(Runs_test!A441=OFFSET(Runs_test!A441,1,0),\"\",1)","v":""},{"$f":"IF(Runs_test!D441=OFFSET(Runs_test!D441,1,0),\"\",1)","v":""}]
[{"$f":"IF(Runs_test!A442=OFFSET(Runs_test!A442,1,0),\"\",1)","v":""},{"$f":"IF(Runs_test!D442=OFFSET(Runs_test!D442,1,0),\"\",1)","v":""}]
[{"$f":"IF(Runs_test!A443=OFFSET(Runs_test!A443,1,0),\"\",1)","v":""},{"$f":"IF(Runs_test!D443=OFFSET(Runs_test!D443,1,0),\"\",1)","v":""}]
[{"$f":"IF(Runs_test!A444=OFFSET(Runs_test!A444,1,0),\"\",1)","v":""},{"$f":"IF(Runs_test!D444=OFFSET(Runs_test!D444,1,0),\"\",1)","v":""}]
[{"$f":"IF(Runs_test!A445=OFFSET(Runs_test!A445,1,0),\"\",1)","v":""},{"$f":"IF(Runs_test!D445=OFFSET(Runs_test!D445,1,0),\"\",1)","v":""}]
[{"$f":"IF(Runs_test!A446=OFFSET(Runs_test!A446,1,0),\"\",1)","v":""},{"$f":"IF(Runs_test!D446=OFFSET(Runs_test!D446,1,0),\"\",1)","v":""}]
[{"$f":"IF(Runs_test!A447=OFFSET(Runs_test!A447,1,0),\"\",1)","v":""},{"$f":"IF(Runs_test!D447=OFFSET(Runs_test!D447,1,0),\"\",1)","v":""}]
[{"$f":"IF(Runs_test!A448=OFFSET(Runs_test!A448,1,0),\"\",1)","v":""},{"$f":"IF(Runs_test!D448=OFFSET(Runs_test!D448,1,0),\"\",1)","v":""}]
[{"$f":"IF(Runs_test!A449=OFFSET(Runs_test!A449,1,0),\"\",1)","v":""},{"$f":"IF(Runs_test!D449=OFFSET(Runs_test!D449,1,0),\"\",1)","v":""}]
[{"$f":"IF(Runs_test!A450=OFFSET(Runs_test!A450,1,0),\"\",1)","v":""},{"$f":"IF(Runs_test!D450=OFFSET(Runs_test!D450,1,0),\"\",1)","v":""}]
[{"$f":"IF(Runs_test!A451=OFFSET(Runs_test!A451,1,0),\"\",1)","v":""},{"$f":"IF(Runs_test!D451=OFFSET(Runs_test!D451,1,0),\"\",1)","v":""}]
[{"$f":"IF(Runs_test!A452=OFFSET(Runs_test!A452,1,0),\"\",1)","v":""},{"$f":"IF(Runs_test!D452=OFFSET(Runs_test!D452,1,0),\"\",1)","v":""}]
[{"$f":"IF(Runs_test!A453=OFFSET(Runs_test!A453,1,0),\"\",1)","v":""},{"$f":"IF(Runs_test!D453=OFFSET(Runs_test!D453,1,0),\"\",1)","v":""}]
[{"$f":"IF(Runs_test!A454=OFFSET(Runs_test!A454,1,0),\"\",1)","v":""},{"$f":"IF(Runs_test!D454=OFFSET(Runs_test!D454,1,0),\"\",1)","v":""}]
[{"$f":"IF(Runs_test!A455=OFFSET(Runs_test!A455,1,0),\"\",1)","v":""},{"$f":"IF(Runs_test!D455=OFFSET(Runs_test!D455,1,0),\"\",1)","v":""}]
[{"$f":"IF(Runs_test!A456=OFFSET(Runs_test!A456,1,0),\"\",1)","v":""},{"$f":"IF(Runs_test!D456=OFFSET(Runs_test!D456,1,0),\"\",1)","v":""}]
[{"$f":"IF(Runs_test!A457=OFFSET(Runs_test!A457,1,0),\"\",1)","v":""},{"$f":"IF(Runs_test!D457=OFFSET(Runs_test!D457,1,0),\"\",1)","v":""}]
[{"$f":"IF(Runs_test!A458=OFFSET(Runs_test!A458,1,0),\"\",1)","v":""},{"$f":"IF(Runs_test!D458=OFFSET(Runs_test!D458,1,0),\"\",1)","v":""}]
[{"$f":"IF(Runs_test!A459=OFFSET(Runs_test!A459,1,0),\"\",1)","v":""},{"$f":"IF(Runs_test!D459=OFFSET(Runs_test!D459,1,0),\"\",1)","v":""}]
[{"$f":"IF(Runs_test!A460=OFFSET(Runs_test!A460,1,0),\"\",1)","v":""},{"$f":"IF(Runs_test!D460=OFFSET(Runs_test!D460,1,0),\"\",1)","v":""}]
[{"$f":"IF(Runs_test!A461=OFFSET(Runs_test!A461,1,0),\"\",1)","v":""},{"$f":"IF(Runs_test!D461=OFFSET(Runs_test!D461,1,0),\"\",1)","v":""}]
[{"$f":"IF(Runs_test!A462=OFFSET(Runs_test!A462,1,0),\"\",1)","v":""},{"$f":"IF(Runs_test!D462=OFFSET(Runs_test!D462,1,0),\"\",1)","v":""}]
[{"$f":"IF(Runs_test!A463=OFFSET(Runs_test!A463,1,0),\"\",1)","v":""},{"$f":"IF(Runs_test!D463=OFFSET(Runs_test!D463,1,0),\"\",1)","v":""}]
[{"$f":"IF(Runs_test!A464=OFFSET(Runs_test!A464,1,0),\"\",1)","v":""},{"$f":"IF(Runs_test!D464=OFFSET(Runs_test!D464,1,0),\"\",1)","v":""}]
[{"$f":"IF(Runs_test!A465=OFFSET(Runs_test!A465,1,0),\"\",1)","v":""},{"$f":"IF(Runs_test!D465=OFFSET(Runs_test!D465,1,0),\"\",1)","v":""}]
[{"$f":"IF(Runs_test!A466=OFFSET(Runs_test!A466,1,0),\"\",1)","v":""},{"$f":"IF(Runs_test!D466=OFFSET(Runs_test!D466,1,0),\"\",1)","v":""}]
[{"$f":"IF(Runs_test!A467=OFFSET(Runs_test!A467,1,0),\"\",1)","v":""},{"$f":"IF(Runs_test!D467=OFFSET(Runs_test!D467,1,0),\"\",1)","v":""}]
[{"$f":"IF(Runs_test!A468=OFFSET(Runs_test!A468,1,0),\"\",1)","v":""},{"$f":"IF(Runs_test!D468=OFFSET(Runs_test!D468,1,0),\"\",1)","v":""}]
[{"$f":"IF(Runs_test!A469=OFFSET(Runs_test!A469,1,0),\"\",1)","v":""},{"$f":"IF(Runs_test!D469=OFFSET(Runs_test!D469,1,0),\"\",1)","v":""}]
[{"$f":"IF(Runs_test!A470=OFFSET(Runs_test!A470,1,0),\"\",1)","v":""},{"$f":"IF(Runs_test!D470=OFFSET(Runs_test!D470,1,0),\"\",1)","v":""}]
[{"$f":"IF(Runs_test!A471=OFFSET(Runs_test!A471,1,0),\"\",1)","v":""},{"$f":"IF(Runs_test!D471=OFFSET(Runs_test!D471,1,0),\"\",1)","v":""}]
[{"$f":"IF(Runs_test!A472=OFFSET(Runs_test!A472,1,0),\"\",1)","v":""},{"$f":"IF(Runs_test!D472=OFFSET(Runs_test!D472,1,0),\"\",1)","v":""}]
[{"$f":"IF(Runs_test!A473=OFFSET(Runs_test!A473,1,0),\"\",1)","v":""},{"$f":"IF(Runs_test!D473=OFFSET(Runs_test!D473,1,0),\"\",1)","v":""}]
[{"$f":"IF(Runs_test!A474=OFFSET(Runs_test!A474,1,0),\"\",1)","v":""},{"$f":"IF(Runs_test!D474=OFFSET(Runs_test!D474,1,0),\"\",1)","v":""}]
[{"$f":"IF(Runs_test!A475=OFFSET(Runs_test!A475,1,0),\"\",1)","v":""},{"$f":"IF(Runs_test!D475=OFFSET(Runs_test!D475,1,0),\"\",1)","v":""}]
[{"$f":"IF(Runs_test!A476=OFFSET(Runs_test!A476,1,0),\"\",1)","v":""},{"$f":"IF(Runs_test!D476=OFFSET(Runs_test!D476,1,0),\"\",1)","v":""}]
[{"$f":"IF(Runs_test!A477=OFFSET(Runs_test!A477,1,0),\"\",1)","v":""},{"$f":"IF(Runs_test!D477=OFFSET(Runs_test!D477,1,0),\"\",1)","v":""}]
[{"$f":"IF(Runs_test!A478=OFFSET(Runs_test!A478,1,0),\"\",1)","v":""},{"$f":"IF(Runs_test!D478=OFFSET(Runs_test!D478,1,0),\"\",1)","v":""}]
[{"$f":"IF(Runs_test!A479=OFFSET(Runs_test!A479,1,0),\"\",1)","v":""},{"$f":"IF(Runs_test!D479=OFFSET(Runs_test!D479,1,0),\"\",1)","v":""}]
[{"$f":"IF(Runs_test!A480=OFFSET(Runs_test!A480,1,0),\"\",1)","v":""},{"$f":"IF(Runs_test!D480=OFFSET(Runs_test!D480,1,0),\"\",1)","v":""}]
[{"$f":"IF(Runs_test!A481=OFFSET(Runs_test!A481,1,0),\"\",1)","v":""},{"$f":"IF(Runs_test!D481=OFFSET(Runs_test!D481,1,0),\"\",1)","v":""}]
[{"$f":"IF(Runs_test!A482=OFFSET(Runs_test!A482,1,0),\"\",1)","v":""},{"$f":"IF(Runs_test!D482=OFFSET(Runs_test!D482,1,0),\"\",1)","v":""}]
[{"$f":"IF(Runs_test!A483=OFFSET(Runs_test!A483,1,0),\"\",1)","v":""},{"$f":"IF(Runs_test!D483=OFFSET(Runs_test!D483,1,0),\"\",1)","v":""}]
[{"$f":"IF(Runs_test!A484=OFFSET(Runs_test!A484,1,0),\"\",1)","v":""},{"$f":"IF(Runs_test!D484=OFFSET(Runs_test!D484,1,0),\"\",1)","v":""}]
[{"$f":"IF(Runs_test!A485=OFFSET(Runs_test!A485,1,0),\"\",1)","v":""},{"$f":"IF(Runs_test!D485=OFFSET(Runs_test!D485,1,0),\"\",1)","v":""}]
[{"$f":"IF(Runs_test!A486=OFFSET(Runs_test!A486,1,0),\"\",1)","v":""},{"$f":"IF(Runs_test!D486=OFFSET(Runs_test!D486,1,0),\"\",1)","v":""}]
[{"$f":"IF(Runs_test!A487=OFFSET(Runs_test!A487,1,0),\"\",1)","v":""},{"$f":"IF(Runs_test!D487=OFFSET(Runs_test!D487,1,0),\"\",1)","v":""}]
[{"$f":"IF(Runs_test!A488=OFFSET(Runs_test!A488,1,0),\"\",1)","v":""},{"$f":"IF(Runs_test!D488=OFFSET(Runs_test!D488,1,0),\"\",1)","v":""}]
[{"$f":"IF(Runs_test!A489=OFFSET(Runs_test!A489,1,0),\"\",1)","v":""},{"$f":"IF(Runs_test!D489=OFFSET(Runs_test!D489,1,0),\"\",1)","v":""}]
[{"$f":"IF(Runs_test!A490=OFFSET(Runs_test!A490,1,0),\"\",1)","v":""},{"$f":"IF(Runs_test!D490=OFFSET(Runs_test!D490,1,0),\"\",1)","v":""}]
[{"$f":"IF(Runs_test!A491=OFFSET(Runs_test!A491,1,0),\"\",1)","v":""},{"$f":"IF(Runs_test!D491=OFFSET(Runs_test!D491,1,0),\"\",1)","v":""}]
[{"$f":"IF(Runs_test!A492=OFFSET(Runs_test!A492,1,0),\"\",1)","v":""},{"$f":"IF(Runs_test!D492=OFFSET(Runs_test!D492,1,0),\"\",1)","v":""}]
[{"$f":"IF(Runs_test!A493=OFFSET(Runs_test!A493,1,0),\"\",1)","v":""},{"$f":"IF(Runs_test!D493=OFFSET(Runs_test!D493,1,0),\"\",1)","v":""}]
[{"$f":"IF(Runs_test!A494=OFFSET(Runs_test!A494,1,0),\"\",1)","v":""},{"$f":"IF(Runs_test!D494=OFFSET(Runs_test!D494,1,0),\"\",1)","v":""}]
[{"$f":"IF(Runs_test!A495=OFFSET(Runs_test!A495,1,0),\"\",1)","v":""},{"$f":"IF(Runs_test!D495=OFFSET(Runs_test!D495,1,0),\"\",1)","v":""}]
[{"$f":"IF(Runs_test!A496=OFFSET(Runs_test!A496,1,0),\"\",1)","v":""},{"$f":"IF(Runs_test!D496=OFFSET(Runs_test!D496,1,0),\"\",1)","v":""}]
[{"$f":"IF(Runs_test!A497=OFFSET(Runs_test!A497,1,0),\"\",1)","v":""},{"$f":"IF(Runs_test!D497=OFFSET(Runs_test!D497,1,0),\"\",1)","v":""}]
[{"$f":"IF(Runs_test!A498=OFFSET(Runs_test!A498,1,0),\"\",1)","v":""},{"$f":"IF(Runs_test!D498=OFFSET(Runs_test!D498,1,0),\"\",1)","v":""}]
[{"$f":"IF(Runs_test!A499=OFFSET(Runs_test!A499,1,0),\"\",1)","v":""},{"$f":"IF(Runs_test!D499=OFFSET(Runs_test!D499,1,0),\"\",1)","v":""}]
[{"$f":"IF(Runs_test!A500=OFFSET(Runs_test!A500,1,0),\"\",1)","v":""},{"$f":"IF(Runs_test!D500=OFFSET(Runs_test!D500,1,0),\"\",1)","v":""}]
[{"$f":"IF(Runs_test!A501=OFFSET(Runs_test!A501,1,0),\"\",1)","v":""},{"$f":"IF(Runs_test!D501=OFFSET(Runs_test!D501,1,0),\"\",1)","v":""}]
[{"$f":"IF(Runs_test!A502=OFFSET(Runs_test!A502,1,0),\"\",1)","v":""},{"$f":"IF(Runs_test!D502=OFFSET(Runs_test!D502,1,0),\"\",1)","v":""}]
[{"$f":"IF(Runs_test!A503=OFFSET(Runs_test!A503,1,0),\"\",1)","v":""},{"$f":"IF(Runs_test!D503=OFFSET(Runs_test!D503,1,0),\"\",1)","v":""}]
[{"$f":"IF(Runs_test!A504=OFFSET(Runs_test!A504,1,0),\"\",1)","v":""},{"$f":"IF(Runs_test!D504=OFFSET(Runs_test!D504,1,0),\"\",1)","v":""}]
[{"$f":"IF(Runs_test!A505=OFFSET(Runs_test!A505,1,0),\"\",1)","v":""},{"$f":"IF(Runs_test!D505=OFFSET(Runs_test!D505,1,0),\"\",1)","v":""}]
[{"$f":"IF(Runs_test!A506=OFFSET(Runs_test!A506,1,0),\"\",1)","v":""},{"$f":"IF(Runs_test!D506=OFFSET(Runs_test!D506,1,0),\"\",1)","v":""}]
[{"$f":"IF(Runs_test!A507=OFFSET(Runs_test!A507,1,0),\"\",1)","v":""},{"$f":"IF(Runs_test!D507=OFFSET(Runs_test!D507,1,0),\"\",1)","v":""}]
[{"$f":"IF(Runs_test!A508=OFFSET(Runs_test!A508,1,0),\"\",1)","v":""},{"$f":"IF(Runs_test!D508=OFFSET(Runs_test!D508,1,0),\"\",1)","v":""}]
[{"$f":"IF(Runs_test!A509=OFFSET(Runs_test!A509,1,0),\"\",1)","v":""},{"$f":"IF(Runs_test!D509=OFFSET(Runs_test!D509,1,0),\"\",1)","v":""}]
[{"$f":"IF(Runs_test!A510=OFFSET(Runs_test!A510,1,0),\"\",1)","v":""},{"$f":"IF(Runs_test!D510=OFFSET(Runs_test!D510,1,0),\"\",1)","v":""}]
[{"$f":"IF(Runs_test!A511=OFFSET(Runs_test!A511,1,0),\"\",1)","v":""},{"$f":"IF(Runs_test!D511=OFFSET(Runs_test!D511,1,0),\"\",1)","v":""}]
[{"$f":"IF(Runs_test!A512=OFFSET(Runs_test!A512,1,0),\"\",1)","v":""},{"$f":"IF(Runs_test!D512=OFFSET(Runs_test!D512,1,0),\"\",1)","v":""}]
[{"$f":"IF(Runs_test!A513=OFFSET(Runs_test!A513,1,0),\"\",1)","v":""},{"$f":"IF(Runs_test!D513=OFFSET(Runs_test!D513,1,0),\"\",1)","v":""}]
[{"$f":"IF(Runs_test!A514=OFFSET(Runs_test!A514,1,0),\"\",1)","v":""},{"$f":"IF(Runs_test!D514=OFFSET(Runs_test!D514,1,0),\"\",1)","v":""}]
[{"$f":"IF(Runs_test!A515=OFFSET(Runs_test!A515,1,0),\"\",1)","v":""},{"$f":"IF(Runs_test!D515=OFFSET(Runs_test!D515,1,0),\"\",1)","v":""}]
[{"$f":"IF(Runs_test!A516=OFFSET(Runs_test!A516,1,0),\"\",1)","v":""},{"$f":"IF(Runs_test!D516=OFFSET(Runs_test!D516,1,0),\"\",1)","v":""}]
[{"$f":"IF(Runs_test!A517=OFFSET(Runs_test!A517,1,0),\"\",1)","v":""},{"$f":"IF(Runs_test!D517=OFFSET(Runs_test!D517,1,0),\"\",1)","v":""}]
[{"$f":"IF(Runs_test!A518=OFFSET(Runs_test!A518,1,0),\"\",1)","v":""},{"$f":"IF(Runs_test!D518=OFFSET(Runs_test!D518,1,0),\"\",1)","v":""}]
[{"$f":"IF(Runs_test!A519=OFFSET(Runs_test!A519,1,0),\"\",1)","v":""},{"$f":"IF(Runs_test!D519=OFFSET(Runs_test!D519,1,0),\"\",1)","v":""}]
[{"$f":"IF(Runs_test!A520=OFFSET(Runs_test!A520,1,0),\"\",1)","v":""},{"$f":"IF(Runs_test!D520=OFFSET(Runs_test!D520,1,0),\"\",1)","v":""}]
[{"$f":"IF(Runs_test!A521=OFFSET(Runs_test!A521,1,0),\"\",1)","v":""},{"$f":"IF(Runs_test!D521=OFFSET(Runs_test!D521,1,0),\"\",1)","v":""}]
[{"$f":"IF(Runs_test!A522=OFFSET(Runs_test!A522,1,0),\"\",1)","v":""},{"$f":"IF(Runs_test!D522=OFFSET(Runs_test!D522,1,0),\"\",1)","v":""}]
[{"$f":"IF(Runs_test!A523=OFFSET(Runs_test!A523,1,0),\"\",1)","v":""},{"$f":"IF(Runs_test!D523=OFFSET(Runs_test!D523,1,0),\"\",1)","v":""}]
[{"$f":"IF(Runs_test!A524=OFFSET(Runs_test!A524,1,0),\"\",1)","v":""},{"$f":"IF(Runs_test!D524=OFFSET(Runs_test!D524,1,0),\"\",1)","v":""}]
[{"$f":"IF(Runs_test!A525=OFFSET(Runs_test!A525,1,0),\"\",1)","v":""},{"$f":"IF(Runs_test!D525=OFFSET(Runs_test!D525,1,0),\"\",1)","v":""}]
[{"$f":"IF(Runs_test!A526=OFFSET(Runs_test!A526,1,0),\"\",1)","v":""},{"$f":"IF(Runs_test!D526=OFFSET(Runs_test!D526,1,0),\"\",1)","v":""}]
[{"$f":"IF(Runs_test!A527=OFFSET(Runs_test!A527,1,0),\"\",1)","v":""},{"$f":"IF(Runs_test!D527=OFFSET(Runs_test!D527,1,0),\"\",1)","v":""}]
[{"$f":"IF(Runs_test!A528=OFFSET(Runs_test!A528,1,0),\"\",1)","v":""},{"$f":"IF(Runs_test!D528=OFFSET(Runs_test!D528,1,0),\"\",1)","v":""}]
[{"$f":"IF(Runs_test!A529=OFFSET(Runs_test!A529,1,0),\"\",1)","v":""},{"$f":"IF(Runs_test!D529=OFFSET(Runs_test!D529,1,0),\"\",1)","v":""}]
[{"$f":"IF(Runs_test!A530=OFFSET(Runs_test!A530,1,0),\"\",1)","v":""},{"$f":"IF(Runs_test!D530=OFFSET(Runs_test!D530,1,0),\"\",1)","v":""}]
[{"$f":"IF(Runs_test!A531=OFFSET(Runs_test!A531,1,0),\"\",1)","v":""},{"$f":"IF(Runs_test!D531=OFFSET(Runs_test!D531,1,0),\"\",1)","v":""}]
[{"$f":"IF(Runs_test!A532=OFFSET(Runs_test!A532,1,0),\"\",1)","v":""},{"$f":"IF(Runs_test!D532=OFFSET(Runs_test!D532,1,0),\"\",1)","v":""}]
[{"$f":"IF(Runs_test!A533=OFFSET(Runs_test!A533,1,0),\"\",1)","v":""},{"$f":"IF(Runs_test!D533=OFFSET(Runs_test!D533,1,0),\"\",1)","v":""}]
[{"$f":"IF(Runs_test!A534=OFFSET(Runs_test!A534,1,0),\"\",1)","v":""},{"$f":"IF(Runs_test!D534=OFFSET(Runs_test!D534,1,0),\"\",1)","v":""}]
[{"$f":"IF(Runs_test!A535=OFFSET(Runs_test!A535,1,0),\"\",1)","v":""},{"$f":"IF(Runs_test!D535=OFFSET(Runs_test!D535,1,0),\"\",1)","v":""}]
[{"$f":"IF(Runs_test!A536=OFFSET(Runs_test!A536,1,0),\"\",1)","v":""},{"$f":"IF(Runs_test!D536=OFFSET(Runs_test!D536,1,0),\"\",1)","v":""}]
[{"$f":"IF(Runs_test!A537=OFFSET(Runs_test!A537,1,0),\"\",1)","v":""},{"$f":"IF(Runs_test!D537=OFFSET(Runs_test!D537,1,0),\"\",1)","v":""}]
[{"$f":"IF(Runs_test!A538=OFFSET(Runs_test!A538,1,0),\"\",1)","v":""},{"$f":"IF(Runs_test!D538=OFFSET(Runs_test!D538,1,0),\"\",1)","v":""}]
[{"$f":"IF(Runs_test!A539=OFFSET(Runs_test!A539,1,0),\"\",1)","v":""},{"$f":"IF(Runs_test!D539=OFFSET(Runs_test!D539,1,0),\"\",1)","v":""}]
[{"$f":"IF(Runs_test!A540=OFFSET(Runs_test!A540,1,0),\"\",1)","v":""},{"$f":"IF(Runs_test!D540=OFFSET(Runs_test!D540,1,0),\"\",1)","v":""}]
[{"$f":"IF(Runs_test!A541=OFFSET(Runs_test!A541,1,0),\"\",1)","v":""},{"$f":"IF(Runs_test!D541=OFFSET(Runs_test!D541,1,0),\"\",1)","v":""}]
[{"$f":"IF(Runs_test!A542=OFFSET(Runs_test!A542,1,0),\"\",1)","v":""},{"$f":"IF(Runs_test!D542=OFFSET(Runs_test!D542,1,0),\"\",1)","v":""}]
[{"$f":"IF(Runs_test!A543=OFFSET(Runs_test!A543,1,0),\"\",1)","v":""},{"$f":"IF(Runs_test!D543=OFFSET(Runs_test!D543,1,0),\"\",1)","v":""}]
[{"$f":"IF(Runs_test!A544=OFFSET(Runs_test!A544,1,0),\"\",1)","v":""},{"$f":"IF(Runs_test!D544=OFFSET(Runs_test!D544,1,0),\"\",1)","v":""}]
[{"$f":"IF(Runs_test!A545=OFFSET(Runs_test!A545,1,0),\"\",1)","v":""},{"$f":"IF(Runs_test!D545=OFFSET(Runs_test!D545,1,0),\"\",1)","v":""}]
[{"$f":"IF(Runs_test!A546=OFFSET(Runs_test!A546,1,0),\"\",1)","v":""},{"$f":"IF(Runs_test!D546=OFFSET(Runs_test!D546,1,0),\"\",1)","v":""}]
[{"$f":"IF(Runs_test!A547=OFFSET(Runs_test!A547,1,0),\"\",1)","v":""},{"$f":"IF(Runs_test!D547=OFFSET(Runs_test!D547,1,0),\"\",1)","v":""}]
[{"$f":"IF(Runs_test!A548=OFFSET(Runs_test!A548,1,0),\"\",1)","v":""},{"$f":"IF(Runs_test!D548=OFFSET(Runs_test!D548,1,0),\"\",1)","v":""}]
[{"$f":"IF(Runs_test!A549=OFFSET(Runs_test!A549,1,0),\"\",1)","v":""},{"$f":"IF(Runs_test!D549=OFFSET(Runs_test!D549,1,0),\"\",1)","v":""}]
[{"$f":"IF(Runs_test!A550=OFFSET(Runs_test!A550,1,0),\"\",1)","v":""},{"$f":"IF(Runs_test!D550=OFFSET(Runs_test!D550,1,0),\"\",1)","v":""}]
[{"$f":"IF(Runs_test!A551=OFFSET(Runs_test!A551,1,0),\"\",1)","v":""},{"$f":"IF(Runs_test!D551=OFFSET(Runs_test!D551,1,0),\"\",1)","v":""}]
[{"$f":"IF(Runs_test!A552=OFFSET(Runs_test!A552,1,0),\"\",1)","v":""},{"$f":"IF(Runs_test!D552=OFFSET(Runs_test!D552,1,0),\"\",1)","v":""}]
[{"$f":"IF(Runs_test!A553=OFFSET(Runs_test!A553,1,0),\"\",1)","v":""},{"$f":"IF(Runs_test!D553=OFFSET(Runs_test!D553,1,0),\"\",1)","v":""}]
[{"$f":"IF(Runs_test!A554=OFFSET(Runs_test!A554,1,0),\"\",1)","v":""},{"$f":"IF(Runs_test!D554=OFFSET(Runs_test!D554,1,0),\"\",1)","v":""}]
[{"$f":"IF(Runs_test!A555=OFFSET(Runs_test!A555,1,0),\"\",1)","v":""},{"$f":"IF(Runs_test!D555=OFFSET(Runs_test!D555,1,0),\"\",1)","v":""}]
[{"$f":"IF(Runs_test!A556=OFFSET(Runs_test!A556,1,0),\"\",1)","v":""},{"$f":"IF(Runs_test!D556=OFFSET(Runs_test!D556,1,0),\"\",1)","v":""}]
[{"$f":"IF(Runs_test!A557=OFFSET(Runs_test!A557,1,0),\"\",1)","v":""},{"$f":"IF(Runs_test!D557=OFFSET(Runs_test!D557,1,0),\"\",1)","v":""}]
[{"$f":"IF(Runs_test!A558=OFFSET(Runs_test!A558,1,0),\"\",1)","v":""},{"$f":"IF(Runs_test!D558=OFFSET(Runs_test!D558,1,0),\"\",1)","v":""}]
[{"$f":"IF(Runs_test!A559=OFFSET(Runs_test!A559,1,0),\"\",1)","v":""},{"$f":"IF(Runs_test!D559=OFFSET(Runs_test!D559,1,0),\"\",1)","v":""}]
[{"$f":"IF(Runs_test!A560=OFFSET(Runs_test!A560,1,0),\"\",1)","v":""},{"$f":"IF(Runs_test!D560=OFFSET(Runs_test!D560,1,0),\"\",1)","v":""}]
[{"$f":"IF(Runs_test!A561=OFFSET(Runs_test!A561,1,0),\"\",1)","v":""},{"$f":"IF(Runs_test!D561=OFFSET(Runs_test!D561,1,0),\"\",1)","v":""}]
[{"$f":"IF(Runs_test!A562=OFFSET(Runs_test!A562,1,0),\"\",1)","v":""},{"$f":"IF(Runs_test!D562=OFFSET(Runs_test!D562,1,0),\"\",1)","v":""}]
[{"$f":"IF(Runs_test!A563=OFFSET(Runs_test!A563,1,0),\"\",1)","v":""},{"$f":"IF(Runs_test!D563=OFFSET(Runs_test!D563,1,0),\"\",1)","v":""}]
[{"$f":"IF(Runs_test!A564=OFFSET(Runs_test!A564,1,0),\"\",1)","v":""},{"$f":"IF(Runs_test!D564=OFFSET(Runs_test!D564,1,0),\"\",1)","v":""}]
[{"$f":"IF(Runs_test!A565=OFFSET(Runs_test!A565,1,0),\"\",1)","v":""},{"$f":"IF(Runs_test!D565=OFFSET(Runs_test!D565,1,0),\"\",1)","v":""}]
[{"$f":"IF(Runs_test!A566=OFFSET(Runs_test!A566,1,0),\"\",1)","v":""},{"$f":"IF(Runs_test!D566=OFFSET(Runs_test!D566,1,0),\"\",1)","v":""}]
[{"$f":"IF(Runs_test!A567=OFFSET(Runs_test!A567,1,0),\"\",1)","v":""},{"$f":"IF(Runs_test!D567=OFFSET(Runs_test!D567,1,0),\"\",1)","v":""}]
[{"$f":"IF(Runs_test!A568=OFFSET(Runs_test!A568,1,0),\"\",1)","v":""},{"$f":"IF(Runs_test!D568=OFFSET(Runs_test!D568,1,0),\"\",1)","v":""}]
[{"$f":"IF(Runs_test!A569=OFFSET(Runs_test!A569,1,0),\"\",1)","v":""},{"$f":"IF(Runs_test!D569=OFFSET(Runs_test!D569,1,0),\"\",1)","v":""}]
[{"$f":"IF(Runs_test!A570=OFFSET(Runs_test!A570,1,0),\"\",1)","v":""},{"$f":"IF(Runs_test!D570=OFFSET(Runs_test!D570,1,0),\"\",1)","v":""}]
[{"$f":"IF(Runs_test!A571=OFFSET(Runs_test!A571,1,0),\"\",1)","v":""},{"$f":"IF(Runs_test!D571=OFFSET(Runs_test!D571,1,0),\"\",1)","v":""}]
[{"$f":"IF(Runs_test!A572=OFFSET(Runs_test!A572,1,0),\"\",1)","v":""},{"$f":"IF(Runs_test!D572=OFFSET(Runs_test!D572,1,0),\"\",1)","v":""}]
[{"$f":"IF(Runs_test!A573=OFFSET(Runs_test!A573,1,0),\"\",1)","v":""},{"$f":"IF(Runs_test!D573=OFFSET(Runs_test!D573,1,0),\"\",1)","v":""}]
[{"$f":"IF(Runs_test!A574=OFFSET(Runs_test!A574,1,0),\"\",1)","v":""},{"$f":"IF(Runs_test!D574=OFFSET(Runs_test!D574,1,0),\"\",1)","v":""}]
[{"$f":"IF(Runs_test!A575=OFFSET(Runs_test!A575,1,0),\"\",1)","v":""},{"$f":"IF(Runs_test!D575=OFFSET(Runs_test!D575,1,0),\"\",1)","v":""}]
[{"$f":"IF(Runs_test!A576=OFFSET(Runs_test!A576,1,0),\"\",1)","v":""},{"$f":"IF(Runs_test!D576=OFFSET(Runs_test!D576,1,0),\"\",1)","v":""}]
[{"$f":"IF(Runs_test!A577=OFFSET(Runs_test!A577,1,0),\"\",1)","v":""},{"$f":"IF(Runs_test!D577=OFFSET(Runs_test!D577,1,0),\"\",1)","v":""}]
[{"$f":"IF(Runs_test!A578=OFFSET(Runs_test!A578,1,0),\"\",1)","v":""},{"$f":"IF(Runs_test!D578=OFFSET(Runs_test!D578,1,0),\"\",1)","v":""}]
[{"$f":"IF(Runs_test!A579=OFFSET(Runs_test!A579,1,0),\"\",1)","v":""},{"$f":"IF(Runs_test!D579=OFFSET(Runs_test!D579,1,0),\"\",1)","v":""}]
[{"$f":"IF(Runs_test!A580=OFFSET(Runs_test!A580,1,0),\"\",1)","v":""},{"$f":"IF(Runs_test!D580=OFFSET(Runs_test!D580,1,0),\"\",1)","v":""}]
[{"$f":"IF(Runs_test!A581=OFFSET(Runs_test!A581,1,0),\"\",1)","v":""},{"$f":"IF(Runs_test!D581=OFFSET(Runs_test!D581,1,0),\"\",1)","v":""}]
[{"$f":"IF(Runs_test!A582=OFFSET(Runs_test!A582,1,0),\"\",1)","v":""},{"$f":"IF(Runs_test!D582=OFFSET(Runs_test!D582,1,0),\"\",1)","v":""}]
[{"$f":"IF(Runs_test!A583=OFFSET(Runs_test!A583,1,0),\"\",1)","v":""},{"$f":"IF(Runs_test!D583=OFFSET(Runs_test!D583,1,0),\"\",1)","v":""}]
[{"$f":"IF(Runs_test!A584=OFFSET(Runs_test!A584,1,0),\"\",1)","v":""},{"$f":"IF(Runs_test!D584=OFFSET(Runs_test!D584,1,0),\"\",1)","v":""}]
[{"$f":"IF(Runs_test!A585=OFFSET(Runs_test!A585,1,0),\"\",1)","v":""},{"$f":"IF(Runs_test!D585=OFFSET(Runs_test!D585,1,0),\"\",1)","v":""}]
[{"$f":"IF(Runs_test!A586=OFFSET(Runs_test!A586,1,0),\"\",1)","v":""},{"$f":"IF(Runs_test!D586=OFFSET(Runs_test!D586,1,0),\"\",1)","v":""}]
[{"$f":"IF(Runs_test!A587=OFFSET(Runs_test!A587,1,0),\"\",1)","v":""},{"$f":"IF(Runs_test!D587=OFFSET(Runs_test!D587,1,0),\"\",1)","v":""}]
[{"$f":"IF(Runs_test!A588=OFFSET(Runs_test!A588,1,0),\"\",1)","v":""},{"$f":"IF(Runs_test!D588=OFFSET(Runs_test!D588,1,0),\"\",1)","v":""}]
[{"$f":"IF(Runs_test!A589=OFFSET(Runs_test!A589,1,0),\"\",1)","v":""},{"$f":"IF(Runs_test!D589=OFFSET(Runs_test!D589,1,0),\"\",1)","v":""}]
[{"$f":"IF(Runs_test!A590=OFFSET(Runs_test!A590,1,0),\"\",1)","v":""},{"$f":"IF(Runs_test!D590=OFFSET(Runs_test!D590,1,0),\"\",1)","v":""}]
[{"$f":"IF(Runs_test!A591=OFFSET(Runs_test!A591,1,0),\"\",1)","v":""},{"$f":"IF(Runs_test!D591=OFFSET(Runs_test!D591,1,0),\"\",1)","v":""}]
[{"$f":"IF(Runs_test!A592=OFFSET(Runs_test!A592,1,0),\"\",1)","v":""},{"$f":"IF(Runs_test!D592=OFFSET(Runs_test!D592,1,0),\"\",1)","v":""}]
[{"$f":"IF(Runs_test!A593=OFFSET(Runs_test!A593,1,0),\"\",1)","v":""},{"$f":"IF(Runs_test!D593=OFFSET(Runs_test!D593,1,0),\"\",1)","v":""}]
[{"$f":"IF(Runs_test!A594=OFFSET(Runs_test!A594,1,0),\"\",1)","v":""},{"$f":"IF(Runs_test!D594=OFFSET(Runs_test!D594,1,0),\"\",1)","v":""}]
[{"$f":"IF(Runs_test!A595=OFFSET(Runs_test!A595,1,0),\"\",1)","v":""},{"$f":"IF(Runs_test!D595=OFFSET(Runs_test!D595,1,0),\"\",1)","v":""}]
[{"$f":"IF(Runs_test!A596=OFFSET(Runs_test!A596,1,0),\"\",1)","v":""},{"$f":"IF(Runs_test!D596=OFFSET(Runs_test!D596,1,0),\"\",1)","v":""}]
[{"$f":"IF(Runs_test!A597=OFFSET(Runs_test!A597,1,0),\"\",1)","v":""},{"$f":"IF(Runs_test!D597=OFFSET(Runs_test!D597,1,0),\"\",1)","v":""}]
[{"$f":"IF(Runs_test!A598=OFFSET(Runs_test!A598,1,0),\"\",1)","v":""},{"$f":"IF(Runs_test!D598=OFFSET(Runs_test!D598,1,0),\"\",1)","v":""}]
[{"$f":"IF(Runs_test!A599=OFFSET(Runs_test!A599,1,0),\"\",1)","v":""},{"$f":"IF(Runs_test!D599=OFFSET(Runs_test!D599,1,0),\"\",1)","v":""}]
[{"$f":"IF(Runs_test!A600=OFFSET(Runs_test!A600,1,0),\"\",1)","v":""},{"$f":"IF(Runs_test!D600=OFFSET(Runs_test!D600,1,0),\"\",1)","v":""}]
[{"$f":"IF(Runs_test!A601=OFFSET(Runs_test!A601,1,0),\"\",1)","v":""},{"$f":"IF(Runs_test!D601=OFFSET(Runs_test!D601,1,0),\"\",1)","v":""}]
[{"$f":"IF(Runs_test!A602=OFFSET(Runs_test!A602,1,0),\"\",1)","v":""},{"$f":"IF(Runs_test!D602=OFFSET(Runs_test!D602,1,0),\"\",1)","v":""}]
[{"$f":"IF(Runs_test!A603=OFFSET(Runs_test!A603,1,0),\"\",1)","v":""},{"$f":"IF(Runs_test!D603=OFFSET(Runs_test!D603,1,0),\"\",1)","v":""}]
[{"$f":"IF(Runs_test!A604=OFFSET(Runs_test!A604,1,0),\"\",1)","v":""},{"$f":"IF(Runs_test!D604=OFFSET(Runs_test!D604,1,0),\"\",1)","v":""}]
[{"$f":"IF(Runs_test!A605=OFFSET(Runs_test!A605,1,0),\"\",1)","v":""},{"$f":"IF(Runs_test!D605=OFFSET(Runs_test!D605,1,0),\"\",1)","v":""}]
[{"$f":"IF(Runs_test!A606=OFFSET(Runs_test!A606,1,0),\"\",1)","v":""},{"$f":"IF(Runs_test!D606=OFFSET(Runs_test!D606,1,0),\"\",1)","v":""}]
[{"$f":"IF(Runs_test!A607=OFFSET(Runs_test!A607,1,0),\"\",1)","v":""},{"$f":"IF(Runs_test!D607=OFFSET(Runs_test!D607,1,0),\"\",1)","v":""}]
[{"$f":"IF(Runs_test!A608=OFFSET(Runs_test!A608,1,0),\"\",1)","v":""},{"$f":"IF(Runs_test!D608=OFFSET(Runs_test!D608,1,0),\"\",1)","v":""}]
[{"$f":"IF(Runs_test!A609=OFFSET(Runs_test!A609,1,0),\"\",1)","v":""},{"$f":"IF(Runs_test!D609=OFFSET(Runs_test!D609,1,0),\"\",1)","v":""}]
[{"$f":"IF(Runs_test!A610=OFFSET(Runs_test!A610,1,0),\"\",1)","v":""},{"$f":"IF(Runs_test!D610=OFFSET(Runs_test!D610,1,0),\"\",1)","v":""}]
[{"$f":"IF(Runs_test!A611=OFFSET(Runs_test!A611,1,0),\"\",1)","v":""},{"$f":"IF(Runs_test!D611=OFFSET(Runs_test!D611,1,0),\"\",1)","v":""}]
[{"$f":"IF(Runs_test!A612=OFFSET(Runs_test!A612,1,0),\"\",1)","v":""},{"$f":"IF(Runs_test!D612=OFFSET(Runs_test!D612,1,0),\"\",1)","v":""}]
[{"$f":"IF(Runs_test!A613=OFFSET(Runs_test!A613,1,0),\"\",1)","v":""},{"$f":"IF(Runs_test!D613=OFFSET(Runs_test!D613,1,0),\"\",1)","v":""}]
[{"$f":"IF(Runs_test!A614=OFFSET(Runs_test!A614,1,0),\"\",1)","v":""},{"$f":"IF(Runs_test!D614=OFFSET(Runs_test!D614,1,0),\"\",1)","v":""}]
[{"$f":"IF(Runs_test!A615=OFFSET(Runs_test!A615,1,0),\"\",1)","v":""},{"$f":"IF(Runs_test!D615=OFFSET(Runs_test!D615,1,0),\"\",1)","v":""}]
[{"$f":"IF(Runs_test!A616=OFFSET(Runs_test!A616,1,0),\"\",1)","v":""},{"$f":"IF(Runs_test!D616=OFFSET(Runs_test!D616,1,0),\"\",1)","v":""}]
[{"$f":"IF(Runs_test!A617=OFFSET(Runs_test!A617,1,0),\"\",1)","v":""},{"$f":"IF(Runs_test!D617=OFFSET(Runs_test!D617,1,0),\"\",1)","v":""}]
[{"$f":"IF(Runs_test!A618=OFFSET(Runs_test!A618,1,0),\"\",1)","v":""},{"$f":"IF(Runs_test!D618=OFFSET(Runs_test!D618,1,0),\"\",1)","v":""}]
[{"$f":"IF(Runs_test!A619=OFFSET(Runs_test!A619,1,0),\"\",1)","v":""},{"$f":"IF(Runs_test!D619=OFFSET(Runs_test!D619,1,0),\"\",1)","v":""}]
[{"$f":"IF(Runs_test!A620=OFFSET(Runs_test!A620,1,0),\"\",1)","v":""},{"$f":"IF(Runs_test!D620=OFFSET(Runs_test!D620,1,0),\"\",1)","v":""}]
[{"$f":"IF(Runs_test!A621=OFFSET(Runs_test!A621,1,0),\"\",1)","v":""},{"$f":"IF(Runs_test!D621=OFFSET(Runs_test!D621,1,0),\"\",1)","v":""}]
[{"$f":"IF(Runs_test!A622=OFFSET(Runs_test!A622,1,0),\"\",1)","v":""},{"$f":"IF(Runs_test!D622=OFFSET(Runs_test!D622,1,0),\"\",1)","v":""}]
[{"$f":"IF(Runs_test!A623=OFFSET(Runs_test!A623,1,0),\"\",1)","v":""},{"$f":"IF(Runs_test!D623=OFFSET(Runs_test!D623,1,0),\"\",1)","v":""}]
[{"$f":"IF(Runs_test!A624=OFFSET(Runs_test!A624,1,0),\"\",1)","v":""},{"$f":"IF(Runs_test!D624=OFFSET(Runs_test!D624,1,0),\"\",1)","v":""}]
[{"$f":"IF(Runs_test!A625=OFFSET(Runs_test!A625,1,0),\"\",1)","v":""},{"$f":"IF(Runs_test!D625=OFFSET(Runs_test!D625,1,0),\"\",1)","v":""}]
[{"$f":"IF(Runs_test!A626=OFFSET(Runs_test!A626,1,0),\"\",1)","v":""},{"$f":"IF(Runs_test!D626=OFFSET(Runs_test!D626,1,0),\"\",1)","v":""}]
[{"$f":"IF(Runs_test!A627=OFFSET(Runs_test!A627,1,0),\"\",1)","v":""},{"$f":"IF(Runs_test!D627=OFFSET(Runs_test!D627,1,0),\"\",1)","v":""}]
[{"$f":"IF(Runs_test!A628=OFFSET(Runs_test!A628,1,0),\"\",1)","v":""},{"$f":"IF(Runs_test!D628=OFFSET(Runs_test!D628,1,0),\"\",1)","v":""}]
[{"$f":"IF(Runs_test!A629=OFFSET(Runs_test!A629,1,0),\"\",1)","v":""},{"$f":"IF(Runs_test!D629=OFFSET(Runs_test!D629,1,0),\"\",1)","v":""}]
[{"$f":"IF(Runs_test!A630=OFFSET(Runs_test!A630,1,0),\"\",1)","v":""},{"$f":"IF(Runs_test!D630=OFFSET(Runs_test!D630,1,0),\"\",1)","v":""}]
[{"$f":"IF(Runs_test!A631=OFFSET(Runs_test!A631,1,0),\"\",1)","v":""},{"$f":"IF(Runs_test!D631=OFFSET(Runs_test!D631,1,0),\"\",1)","v":""}]
[{"$f":"IF(Runs_test!A632=OFFSET(Runs_test!A632,1,0),\"\",1)","v":""},{"$f":"IF(Runs_test!D632=OFFSET(Runs_test!D632,1,0),\"\",1)","v":""}]
[{"$f":"IF(Runs_test!A633=OFFSET(Runs_test!A633,1,0),\"\",1)","v":""},{"$f":"IF(Runs_test!D633=OFFSET(Runs_test!D633,1,0),\"\",1)","v":""}]
[{"$f":"IF(Runs_test!A634=OFFSET(Runs_test!A634,1,0),\"\",1)","v":""},{"$f":"IF(Runs_test!D634=OFFSET(Runs_test!D634,1,0),\"\",1)","v":""}]
[{"$f":"IF(Runs_test!A635=OFFSET(Runs_test!A635,1,0),\"\",1)","v":""},{"$f":"IF(Runs_test!D635=OFFSET(Runs_test!D635,1,0),\"\",1)","v":""}]
[{"$f":"IF(Runs_test!A636=OFFSET(Runs_test!A636,1,0),\"\",1)","v":""},{"$f":"IF(Runs_test!D636=OFFSET(Runs_test!D636,1,0),\"\",1)","v":""}]
[{"$f":"IF(Runs_test!A637=OFFSET(Runs_test!A637,1,0),\"\",1)","v":""},{"$f":"IF(Runs_test!D637=OFFSET(Runs_test!D637,1,0),\"\",1)","v":""}]
[{"$f":"IF(Runs_test!A638=OFFSET(Runs_test!A638,1,0),\"\",1)","v":""},{"$f":"IF(Runs_test!D638=OFFSET(Runs_test!D638,1,0),\"\",1)","v":""}]
[{"$f":"IF(Runs_test!A639=OFFSET(Runs_test!A639,1,0),\"\",1)","v":""},{"$f":"IF(Runs_test!D639=OFFSET(Runs_test!D639,1,0),\"\",1)","v":""}]
[{"$f":"IF(Runs_test!A640=OFFSET(Runs_test!A640,1,0),\"\",1)","v":""},{"$f":"IF(Runs_test!D640=OFFSET(Runs_test!D640,1,0),\"\",1)","v":""}]
[{"$f":"IF(Runs_test!A641=OFFSET(Runs_test!A641,1,0),\"\",1)","v":""},{"$f":"IF(Runs_test!D641=OFFSET(Runs_test!D641,1,0),\"\",1)","v":""}]
[{"$f":"IF(Runs_test!A642=OFFSET(Runs_test!A642,1,0),\"\",1)","v":""},{"$f":"IF(Runs_test!D642=OFFSET(Runs_test!D642,1,0),\"\",1)","v":""}]
[{"$f":"IF(Runs_test!A643=OFFSET(Runs_test!A643,1,0),\"\",1)","v":""},{"$f":"IF(Runs_test!D643=OFFSET(Runs_test!D643,1,0),\"\",1)","v":""}]
[{"$f":"IF(Runs_test!A644=OFFSET(Runs_test!A644,1,0),\"\",1)","v":""},{"$f":"IF(Runs_test!D644=OFFSET(Runs_test!D644,1,0),\"\",1)","v":""}]
[{"$f":"IF(Runs_test!A645=OFFSET(Runs_test!A645,1,0),\"\",1)","v":""},{"$f":"IF(Runs_test!D645=OFFSET(Runs_test!D645,1,0),\"\",1)","v":""}]
[{"$f":"IF(Runs_test!A646=OFFSET(Runs_test!A646,1,0),\"\",1)","v":""},{"$f":"IF(Runs_test!D646=OFFSET(Runs_test!D646,1,0),\"\",1)","v":""}]
[{"$f":"IF(Runs_test!A647=OFFSET(Runs_test!A647,1,0),\"\",1)","v":""},{"$f":"IF(Runs_test!D647=OFFSET(Runs_test!D647,1,0),\"\",1)","v":""}]
[{"$f":"IF(Runs_test!A648=OFFSET(Runs_test!A648,1,0),\"\",1)","v":""},{"$f":"IF(Runs_test!D648=OFFSET(Runs_test!D648,1,0),\"\",1)","v":""}]
[{"$f":"IF(Runs_test!A649=OFFSET(Runs_test!A649,1,0),\"\",1)","v":""},{"$f":"IF(Runs_test!D649=OFFSET(Runs_test!D649,1,0),\"\",1)","v":""}]
[{"$f":"IF(Runs_test!A650=OFFSET(Runs_test!A650,1,0),\"\",1)","v":""},{"$f":"IF(Runs_test!D650=OFFSET(Runs_test!D650,1,0),\"\",1)","v":""}]
[{"$f":"IF(Runs_test!A651=OFFSET(Runs_test!A651,1,0),\"\",1)","v":""},{"$f":"IF(Runs_test!D651=OFFSET(Runs_test!D651,1,0),\"\",1)","v":""}]
[{"$f":"IF(Runs_test!A652=OFFSET(Runs_test!A652,1,0),\"\",1)","v":""},{"$f":"IF(Runs_test!D652=OFFSET(Runs_test!D652,1,0),\"\",1)","v":""}]
[{"$f":"IF(Runs_test!A653=OFFSET(Runs_test!A653,1,0),\"\",1)","v":""},{"$f":"IF(Runs_test!D653=OFFSET(Runs_test!D653,1,0),\"\",1)","v":""}]
[{"$f":"IF(Runs_test!A654=OFFSET(Runs_test!A654,1,0),\"\",1)","v":""},{"$f":"IF(Runs_test!D654=OFFSET(Runs_test!D654,1,0),\"\",1)","v":""}]
[{"$f":"IF(Runs_test!A655=OFFSET(Runs_test!A655,1,0),\"\",1)","v":""},{"$f":"IF(Runs_test!D655=OFFSET(Runs_test!D655,1,0),\"\",1)","v":""}]
[{"$f":"IF(Runs_test!A656=OFFSET(Runs_test!A656,1,0),\"\",1)","v":""},{"$f":"IF(Runs_test!D656=OFFSET(Runs_test!D656,1,0),\"\",1)","v":""}]
[{"$f":"IF(Runs_test!A657=OFFSET(Runs_test!A657,1,0),\"\",1)","v":""},{"$f":"IF(Runs_test!D657=OFFSET(Runs_test!D657,1,0),\"\",1)","v":""}]
[{"$f":"IF(Runs_test!A658=OFFSET(Runs_test!A658,1,0),\"\",1)","v":""},{"$f":"IF(Runs_test!D658=OFFSET(Runs_test!D658,1,0),\"\",1)","v":""}]
[{"$f":"IF(Runs_test!A659=OFFSET(Runs_test!A659,1,0),\"\",1)","v":""},{"$f":"IF(Runs_test!D659=OFFSET(Runs_test!D659,1,0),\"\",1)","v":""}]
[{"$f":"IF(Runs_test!A660=OFFSET(Runs_test!A660,1,0),\"\",1)","v":""},{"$f":"IF(Runs_test!D660=OFFSET(Runs_test!D660,1,0),\"\",1)","v":""}]
[{"$f":"IF(Runs_test!A661=OFFSET(Runs_test!A661,1,0),\"\",1)","v":""},{"$f":"IF(Runs_test!D661=OFFSET(Runs_test!D661,1,0),\"\",1)","v":""}]
[{"$f":"IF(Runs_test!A662=OFFSET(Runs_test!A662,1,0),\"\",1)","v":""},{"$f":"IF(Runs_test!D662=OFFSET(Runs_test!D662,1,0),\"\",1)","v":""}]
[{"$f":"IF(Runs_test!A663=OFFSET(Runs_test!A663,1,0),\"\",1)","v":""},{"$f":"IF(Runs_test!D663=OFFSET(Runs_test!D663,1,0),\"\",1)","v":""}]
[{"$f":"IF(Runs_test!A664=OFFSET(Runs_test!A664,1,0),\"\",1)","v":""},{"$f":"IF(Runs_test!D664=OFFSET(Runs_test!D664,1,0),\"\",1)","v":""}]
[{"$f":"IF(Runs_test!A665=OFFSET(Runs_test!A665,1,0),\"\",1)","v":""},{"$f":"IF(Runs_test!D665=OFFSET(Runs_test!D665,1,0),\"\",1)","v":""}]
[{"$f":"IF(Runs_test!A666=OFFSET(Runs_test!A666,1,0),\"\",1)","v":""},{"$f":"IF(Runs_test!D666=OFFSET(Runs_test!D666,1,0),\"\",1)","v":""}]
[{"$f":"IF(Runs_test!A667=OFFSET(Runs_test!A667,1,0),\"\",1)","v":""},{"$f":"IF(Runs_test!D667=OFFSET(Runs_test!D667,1,0),\"\",1)","v":""}]
[{"$f":"IF(Runs_test!A668=OFFSET(Runs_test!A668,1,0),\"\",1)","v":""},{"$f":"IF(Runs_test!D668=OFFSET(Runs_test!D668,1,0),\"\",1)","v":""}]
[{"$f":"IF(Runs_test!A669=OFFSET(Runs_test!A669,1,0),\"\",1)","v":""},{"$f":"IF(Runs_test!D669=OFFSET(Runs_test!D669,1,0),\"\",1)","v":""}]
[{"$f":"IF(Runs_test!A670=OFFSET(Runs_test!A670,1,0),\"\",1)","v":""},{"$f":"IF(Runs_test!D670=OFFSET(Runs_test!D670,1,0),\"\",1)","v":""}]
[{"$f":"IF(Runs_test!A671=OFFSET(Runs_test!A671,1,0),\"\",1)","v":""},{"$f":"IF(Runs_test!D671=OFFSET(Runs_test!D671,1,0),\"\",1)","v":""}]
[{"$f":"IF(Runs_test!A672=OFFSET(Runs_test!A672,1,0),\"\",1)","v":""},{"$f":"IF(Runs_test!D672=OFFSET(Runs_test!D672,1,0),\"\",1)","v":""}]
[{"$f":"IF(Runs_test!A673=OFFSET(Runs_test!A673,1,0),\"\",1)","v":""},{"$f":"IF(Runs_test!D673=OFFSET(Runs_test!D673,1,0),\"\",1)","v":""}]
[{"$f":"IF(Runs_test!A674=OFFSET(Runs_test!A674,1,0),\"\",1)","v":""},{"$f":"IF(Runs_test!D674=OFFSET(Runs_test!D674,1,0),\"\",1)","v":""}]
[{"$f":"IF(Runs_test!A675=OFFSET(Runs_test!A675,1,0),\"\",1)","v":""},{"$f":"IF(Runs_test!D675=OFFSET(Runs_test!D675,1,0),\"\",1)","v":""}]
[{"$f":"IF(Runs_test!A676=OFFSET(Runs_test!A676,1,0),\"\",1)","v":""},{"$f":"IF(Runs_test!D676=OFFSET(Runs_test!D676,1,0),\"\",1)","v":""}]
[{"$f":"IF(Runs_test!A677=OFFSET(Runs_test!A677,1,0),\"\",1)","v":""},{"$f":"IF(Runs_test!D677=OFFSET(Runs_test!D677,1,0),\"\",1)","v":""}]
[{"$f":"IF(Runs_test!A678=OFFSET(Runs_test!A678,1,0),\"\",1)","v":""},{"$f":"IF(Runs_test!D678=OFFSET(Runs_test!D678,1,0),\"\",1)","v":""}]
[{"$f":"IF(Runs_test!A679=OFFSET(Runs_test!A679,1,0),\"\",1)","v":""},{"$f":"IF(Runs_test!D679=OFFSET(Runs_test!D679,1,0),\"\",1)","v":""}]
[{"$f":"IF(Runs_test!A680=OFFSET(Runs_test!A680,1,0),\"\",1)","v":""},{"$f":"IF(Runs_test!D680=OFFSET(Runs_test!D680,1,0),\"\",1)","v":""}]
[{"$f":"IF(Runs_test!A681=OFFSET(Runs_test!A681,1,0),\"\",1)","v":""},{"$f":"IF(Runs_test!D681=OFFSET(Runs_test!D681,1,0),\"\",1)","v":""}]
[{"$f":"IF(Runs_test!A682=OFFSET(Runs_test!A682,1,0),\"\",1)","v":""},{"$f":"IF(Runs_test!D682=OFFSET(Runs_test!D682,1,0),\"\",1)","v":""}]
[{"$f":"IF(Runs_test!A683=OFFSET(Runs_test!A683,1,0),\"\",1)","v":""},{"$f":"IF(Runs_test!D683=OFFSET(Runs_test!D683,1,0),\"\",1)","v":""}]
[{"$f":"IF(Runs_test!A684=OFFSET(Runs_test!A684,1,0),\"\",1)","v":""},{"$f":"IF(Runs_test!D684=OFFSET(Runs_test!D684,1,0),\"\",1)","v":""}]
[{"$f":"IF(Runs_test!A685=OFFSET(Runs_test!A685,1,0),\"\",1)","v":""},{"$f":"IF(Runs_test!D685=OFFSET(Runs_test!D685,1,0),\"\",1)","v":""}]
[{"$f":"IF(Runs_test!A686=OFFSET(Runs_test!A686,1,0),\"\",1)","v":""},{"$f":"IF(Runs_test!D686=OFFSET(Runs_test!D686,1,0),\"\",1)","v":""}]
[{"$f":"IF(Runs_test!A687=OFFSET(Runs_test!A687,1,0),\"\",1)","v":""},{"$f":"IF(Runs_test!D687=OFFSET(Runs_test!D687,1,0),\"\",1)","v":""}]
[{"$f":"IF(Runs_test!A688=OFFSET(Runs_test!A688,1,0),\"\",1)","v":""},{"$f":"IF(Runs_test!D688=OFFSET(Runs_test!D688,1,0),\"\",1)","v":""}]
[{"$f":"IF(Runs_test!A689=OFFSET(Runs_test!A689,1,0),\"\",1)","v":""},{"$f":"IF(Runs_test!D689=OFFSET(Runs_test!D689,1,0),\"\",1)","v":""}]
[{"$f":"IF(Runs_test!A690=OFFSET(Runs_test!A690,1,0),\"\",1)","v":""},{"$f":"IF(Runs_test!D690=OFFSET(Runs_test!D690,1,0),\"\",1)","v":""}]
[{"$f":"IF(Runs_test!A691=OFFSET(Runs_test!A691,1,0),\"\",1)","v":""},{"$f":"IF(Runs_test!D691=OFFSET(Runs_test!D691,1,0),\"\",1)","v":""}]
[{"$f":"IF(Runs_test!A692=OFFSET(Runs_test!A692,1,0),\"\",1)","v":""},{"$f":"IF(Runs_test!D692=OFFSET(Runs_test!D692,1,0),\"\",1)","v":""}]
[{"$f":"IF(Runs_test!A693=OFFSET(Runs_test!A693,1,0),\"\",1)","v":""},{"$f":"IF(Runs_test!D693=OFFSET(Runs_test!D693,1,0),\"\",1)","v":""}]
[{"$f":"IF(Runs_test!A694=OFFSET(Runs_test!A694,1,0),\"\",1)","v":""},{"$f":"IF(Runs_test!D694=OFFSET(Runs_test!D694,1,0),\"\",1)","v":""}]
[{"$f":"IF(Runs_test!A695=OFFSET(Runs_test!A695,1,0),\"\",1)","v":""},{"$f":"IF(Runs_test!D695=OFFSET(Runs_test!D695,1,0),\"\",1)","v":""}]
[{"$f":"IF(Runs_test!A696=OFFSET(Runs_test!A696,1,0),\"\",1)","v":""},{"$f":"IF(Runs_test!D696=OFFSET(Runs_test!D696,1,0),\"\",1)","v":""}]
[{"$f":"IF(Runs_test!A697=OFFSET(Runs_test!A697,1,0),\"\",1)","v":""},{"$f":"IF(Runs_test!D697=OFFSET(Runs_test!D697,1,0),\"\",1)","v":""}]
[{"$f":"IF(Runs_test!A698=OFFSET(Runs_test!A698,1,0),\"\",1)","v":""},{"$f":"IF(Runs_test!D698=OFFSET(Runs_test!D698,1,0),\"\",1)","v":""}]
[{"$f":"IF(Runs_test!A699=OFFSET(Runs_test!A699,1,0),\"\",1)","v":""},{"$f":"IF(Runs_test!D699=OFFSET(Runs_test!D699,1,0),\"\",1)","v":""}]
[{"$f":"IF(Runs_test!A700=OFFSET(Runs_test!A700,1,0),\"\",1)","v":""},{"$f":"IF(Runs_test!D700=OFFSET(Runs_test!D700,1,0),\"\",1)","v":""}]
[{"$f":"IF(Runs_test!A701=OFFSET(Runs_test!A701,1,0),\"\",1)","v":""},{"$f":"IF(Runs_test!D701=OFFSET(Runs_test!D701,1,0),\"\",1)","v":""}]
[{"$f":"IF(Runs_test!A702=OFFSET(Runs_test!A702,1,0),\"\",1)","v":""},{"$f":"IF(Runs_test!D702=OFFSET(Runs_test!D702,1,0),\"\",1)","v":""}]
[{"$f":"IF(Runs_test!A703=OFFSET(Runs_test!A703,1,0),\"\",1)","v":""},{"$f":"IF(Runs_test!D703=OFFSET(Runs_test!D703,1,0),\"\",1)","v":""}]
[{"$f":"IF(Runs_test!A704=OFFSET(Runs_test!A704,1,0),\"\",1)","v":""},{"$f":"IF(Runs_test!D704=OFFSET(Runs_test!D704,1,0),\"\",1)","v":""}]
[{"$f":"IF(Runs_test!A705=OFFSET(Runs_test!A705,1,0),\"\",1)","v":""},{"$f":"IF(Runs_test!D705=OFFSET(Runs_test!D705,1,0),\"\",1)","v":""}]
[{"$f":"IF(Runs_test!A706=OFFSET(Runs_test!A706,1,0),\"\",1)","v":""},{"$f":"IF(Runs_test!D706=OFFSET(Runs_test!D706,1,0),\"\",1)","v":""}]
[{"$f":"IF(Runs_test!A707=OFFSET(Runs_test!A707,1,0),\"\",1)","v":""},{"$f":"IF(Runs_test!D707=OFFSET(Runs_test!D707,1,0),\"\",1)","v":""}]
[{"$f":"IF(Runs_test!A708=OFFSET(Runs_test!A708,1,0),\"\",1)","v":""},{"$f":"IF(Runs_test!D708=OFFSET(Runs_test!D708,1,0),\"\",1)","v":""}]
[{"$f":"IF(Runs_test!A709=OFFSET(Runs_test!A709,1,0),\"\",1)","v":""},{"$f":"IF(Runs_test!D709=OFFSET(Runs_test!D709,1,0),\"\",1)","v":""}]
[{"$f":"IF(Runs_test!A710=OFFSET(Runs_test!A710,1,0),\"\",1)","v":""},{"$f":"IF(Runs_test!D710=OFFSET(Runs_test!D710,1,0),\"\",1)","v":""}]
[{"$f":"IF(Runs_test!A711=OFFSET(Runs_test!A711,1,0),\"\",1)","v":""},{"$f":"IF(Runs_test!D711=OFFSET(Runs_test!D711,1,0),\"\",1)","v":""}]
[{"$f":"IF(Runs_test!A712=OFFSET(Runs_test!A712,1,0),\"\",1)","v":""},{"$f":"IF(Runs_test!D712=OFFSET(Runs_test!D712,1,0),\"\",1)","v":""}]
[{"$f":"IF(Runs_test!A713=OFFSET(Runs_test!A713,1,0),\"\",1)","v":""},{"$f":"IF(Runs_test!D713=OFFSET(Runs_test!D713,1,0),\"\",1)","v":""}]
[{"$f":"IF(Runs_test!A714=OFFSET(Runs_test!A714,1,0),\"\",1)","v":""},{"$f":"IF(Runs_test!D714=OFFSET(Runs_test!D714,1,0),\"\",1)","v":""}]
[{"$f":"IF(Runs_test!A715=OFFSET(Runs_test!A715,1,0),\"\",1)","v":""},{"$f":"IF(Runs_test!D715=OFFSET(Runs_test!D715,1,0),\"\",1)","v":""}]
[{"$f":"IF(Runs_test!A716=OFFSET(Runs_test!A716,1,0),\"\",1)","v":""},{"$f":"IF(Runs_test!D716=OFFSET(Runs_test!D716,1,0),\"\",1)","v":""}]
[{"$f":"IF(Runs_test!A717=OFFSET(Runs_test!A717,1,0),\"\",1)","v":""},{"$f":"IF(Runs_test!D717=OFFSET(Runs_test!D717,1,0),\"\",1)","v":""}]
[{"$f":"IF(Runs_test!A718=OFFSET(Runs_test!A718,1,0),\"\",1)","v":""},{"$f":"IF(Runs_test!D718=OFFSET(Runs_test!D718,1,0),\"\",1)","v":""}]
[{"$f":"IF(Runs_test!A719=OFFSET(Runs_test!A719,1,0),\"\",1)","v":""},{"$f":"IF(Runs_test!D719=OFFSET(Runs_test!D719,1,0),\"\",1)","v":""}]
[{"$f":"IF(Runs_test!A720=OFFSET(Runs_test!A720,1,0),\"\",1)","v":""},{"$f":"IF(Runs_test!D720=OFFSET(Runs_test!D720,1,0),\"\",1)","v":""}]
[{"$f":"IF(Runs_test!A721=OFFSET(Runs_test!A721,1,0),\"\",1)","v":""},{"$f":"IF(Runs_test!D721=OFFSET(Runs_test!D721,1,0),\"\",1)","v":""}]
[{"$f":"IF(Runs_test!A722=OFFSET(Runs_test!A722,1,0),\"\",1)","v":""},{"$f":"IF(Runs_test!D722=OFFSET(Runs_test!D722,1,0),\"\",1)","v":""}]
[{"$f":"IF(Runs_test!A723=OFFSET(Runs_test!A723,1,0),\"\",1)","v":""},{"$f":"IF(Runs_test!D723=OFFSET(Runs_test!D723,1,0),\"\",1)","v":""}]
[{"$f":"IF(Runs_test!A724=OFFSET(Runs_test!A724,1,0),\"\",1)","v":""},{"$f":"IF(Runs_test!D724=OFFSET(Runs_test!D724,1,0),\"\",1)","v":""}]
[{"$f":"IF(Runs_test!A725=OFFSET(Runs_test!A725,1,0),\"\",1)","v":""},{"$f":"IF(Runs_test!D725=OFFSET(Runs_test!D725,1,0),\"\",1)","v":""}]
[{"$f":"IF(Runs_test!A726=OFFSET(Runs_test!A726,1,0),\"\",1)","v":""},{"$f":"IF(Runs_test!D726=OFFSET(Runs_test!D726,1,0),\"\",1)","v":""}]
[{"$f":"IF(Runs_test!A727=OFFSET(Runs_test!A727,1,0),\"\",1)","v":""},{"$f":"IF(Runs_test!D727=OFFSET(Runs_test!D727,1,0),\"\",1)","v":""}]
[{"$f":"IF(Runs_test!A728=OFFSET(Runs_test!A728,1,0),\"\",1)","v":""},{"$f":"IF(Runs_test!D728=OFFSET(Runs_test!D728,1,0),\"\",1)","v":""}]
[{"$f":"IF(Runs_test!A729=OFFSET(Runs_test!A729,1,0),\"\",1)","v":""},{"$f":"IF(Runs_test!D729=OFFSET(Runs_test!D729,1,0),\"\",1)","v":""}]
[{"$f":"IF(Runs_test!A730=OFFSET(Runs_test!A730,1,0),\"\",1)","v":""},{"$f":"IF(Runs_test!D730=OFFSET(Runs_test!D730,1,0),\"\",1)","v":""}]
[{"$f":"IF(Runs_test!A731=OFFSET(Runs_test!A731,1,0),\"\",1)","v":""},{"$f":"IF(Runs_test!D731=OFFSET(Runs_test!D731,1,0),\"\",1)","v":""}]
[{"$f":"IF(Runs_test!A732=OFFSET(Runs_test!A732,1,0),\"\",1)","v":""},{"$f":"IF(Runs_test!D732=OFFSET(Runs_test!D732,1,0),\"\",1)","v":""}]
[{"$f":"IF(Runs_test!A733=OFFSET(Runs_test!A733,1,0),\"\",1)","v":""},{"$f":"IF(Runs_test!D733=OFFSET(Runs_test!D733,1,0),\"\",1)","v":""}]
[{"$f":"IF(Runs_test!A734=OFFSET(Runs_test!A734,1,0),\"\",1)","v":""},{"$f":"IF(Runs_test!D734=OFFSET(Runs_test!D734,1,0),\"\",1)","v":""}]
[{"$f":"IF(Runs_test!A735=OFFSET(Runs_test!A735,1,0),\"\",1)","v":""},{"$f":"IF(Runs_test!D735=OFFSET(Runs_test!D735,1,0),\"\",1)","v":""}]
[{"$f":"IF(Runs_test!A736=OFFSET(Runs_test!A736,1,0),\"\",1)","v":""},{"$f":"IF(Runs_test!D736=OFFSET(Runs_test!D736,1,0),\"\",1)","v":""}]
[{"$f":"IF(Runs_test!A737=OFFSET(Runs_test!A737,1,0),\"\",1)","v":""},{"$f":"IF(Runs_test!D737=OFFSET(Runs_test!D737,1,0),\"\",1)","v":""}]
[{"$f":"IF(Runs_test!A738=OFFSET(Runs_test!A738,1,0),\"\",1)","v":""},{"$f":"IF(Runs_test!D738=OFFSET(Runs_test!D738,1,0),\"\",1)","v":""}]
[{"$f":"IF(Runs_test!A739=OFFSET(Runs_test!A739,1,0),\"\",1)","v":""},{"$f":"IF(Runs_test!D739=OFFSET(Runs_test!D739,1,0),\"\",1)","v":""}]
[{"$f":"IF(Runs_test!A740=OFFSET(Runs_test!A740,1,0),\"\",1)","v":""},{"$f":"IF(Runs_test!D740=OFFSET(Runs_test!D740,1,0),\"\",1)","v":""}]
[{"$f":"IF(Runs_test!A741=OFFSET(Runs_test!A741,1,0),\"\",1)","v":""},{"$f":"IF(Runs_test!D741=OFFSET(Runs_test!D741,1,0),\"\",1)","v":""}]
[{"$f":"IF(Runs_test!A742=OFFSET(Runs_test!A742,1,0),\"\",1)","v":""},{"$f":"IF(Runs_test!D742=OFFSET(Runs_test!D742,1,0),\"\",1)","v":""}]
[{"$f":"IF(Runs_test!A743=OFFSET(Runs_test!A743,1,0),\"\",1)","v":""},{"$f":"IF(Runs_test!D743=OFFSET(Runs_test!D743,1,0),\"\",1)","v":""}]
[{"$f":"IF(Runs_test!A744=OFFSET(Runs_test!A744,1,0),\"\",1)","v":""},{"$f":"IF(Runs_test!D744=OFFSET(Runs_test!D744,1,0),\"\",1)","v":""}]
[{"$f":"IF(Runs_test!A745=OFFSET(Runs_test!A745,1,0),\"\",1)","v":""},{"$f":"IF(Runs_test!D745=OFFSET(Runs_test!D745,1,0),\"\",1)","v":""}]
[{"$f":"IF(Runs_test!A746=OFFSET(Runs_test!A746,1,0),\"\",1)","v":""},{"$f":"IF(Runs_test!D746=OFFSET(Runs_test!D746,1,0),\"\",1)","v":""}]
[{"$f":"IF(Runs_test!A747=OFFSET(Runs_test!A747,1,0),\"\",1)","v":""},{"$f":"IF(Runs_test!D747=OFFSET(Runs_test!D747,1,0),\"\",1)","v":""}]
[{"$f":"IF(Runs_test!A748=OFFSET(Runs_test!A748,1,0),\"\",1)","v":""},{"$f":"IF(Runs_test!D748=OFFSET(Runs_test!D748,1,0),\"\",1)","v":""}]
[{"$f":"IF(Runs_test!A749=OFFSET(Runs_test!A749,1,0),\"\",1)","v":""},{"$f":"IF(Runs_test!D749=OFFSET(Runs_test!D749,1,0),\"\",1)","v":""}]
[{"$f":"IF(Runs_test!A750=OFFSET(Runs_test!A750,1,0),\"\",1)","v":""},{"$f":"IF(Runs_test!D750=OFFSET(Runs_test!D750,1,0),\"\",1)","v":""}]
[{"$f":"IF(Runs_test!A751=OFFSET(Runs_test!A751,1,0),\"\",1)","v":""},{"$f":"IF(Runs_test!D751=OFFSET(Runs_test!D751,1,0),\"\",1)","v":""}]
[{"$f":"IF(Runs_test!A752=OFFSET(Runs_test!A752,1,0),\"\",1)","v":""},{"$f":"IF(Runs_test!D752=OFFSET(Runs_test!D752,1,0),\"\",1)","v":""}]
[{"$f":"IF(Runs_test!A753=OFFSET(Runs_test!A753,1,0),\"\",1)","v":""},{"$f":"IF(Runs_test!D753=OFFSET(Runs_test!D753,1,0),\"\",1)","v":""}]
[{"$f":"IF(Runs_test!A754=OFFSET(Runs_test!A754,1,0),\"\",1)","v":""},{"$f":"IF(Runs_test!D754=OFFSET(Runs_test!D754,1,0),\"\",1)","v":""}]
[{"$f":"IF(Runs_test!A755=OFFSET(Runs_test!A755,1,0),\"\",1)","v":""},{"$f":"IF(Runs_test!D755=OFFSET(Runs_test!D755,1,0),\"\",1)","v":""}]
[{"$f":"IF(Runs_test!A756=OFFSET(Runs_test!A756,1,0),\"\",1)","v":""},{"$f":"IF(Runs_test!D756=OFFSET(Runs_test!D756,1,0),\"\",1)","v":""}]
[{"$f":"IF(Runs_test!A757=OFFSET(Runs_test!A757,1,0),\"\",1)","v":""},{"$f":"IF(Runs_test!D757=OFFSET(Runs_test!D757,1,0),\"\",1)","v":""}]
[{"$f":"IF(Runs_test!A758=OFFSET(Runs_test!A758,1,0),\"\",1)","v":""},{"$f":"IF(Runs_test!D758=OFFSET(Runs_test!D758,1,0),\"\",1)","v":""}]
[{"$f":"IF(Runs_test!A759=OFFSET(Runs_test!A759,1,0),\"\",1)","v":""},{"$f":"IF(Runs_test!D759=OFFSET(Runs_test!D759,1,0),\"\",1)","v":""}]
[{"$f":"IF(Runs_test!A760=OFFSET(Runs_test!A760,1,0),\"\",1)","v":""},{"$f":"IF(Runs_test!D760=OFFSET(Runs_test!D760,1,0),\"\",1)","v":""}]
[{"$f":"IF(Runs_test!A761=OFFSET(Runs_test!A761,1,0),\"\",1)","v":""},{"$f":"IF(Runs_test!D761=OFFSET(Runs_test!D761,1,0),\"\",1)","v":""}]
[{"$f":"IF(Runs_test!A762=OFFSET(Runs_test!A762,1,0),\"\",1)","v":""},{"$f":"IF(Runs_test!D762=OFFSET(Runs_test!D762,1,0),\"\",1)","v":""}]
[{"$f":"IF(Runs_test!A763=OFFSET(Runs_test!A763,1,0),\"\",1)","v":""},{"$f":"IF(Runs_test!D763=OFFSET(Runs_test!D763,1,0),\"\",1)","v":""}]
[{"$f":"IF(Runs_test!A764=OFFSET(Runs_test!A764,1,0),\"\",1)","v":""},{"$f":"IF(Runs_test!D764=OFFSET(Runs_test!D764,1,0),\"\",1)","v":""}]
[{"$f":"IF(Runs_test!A765=OFFSET(Runs_test!A765,1,0),\"\",1)","v":""},{"$f":"IF(Runs_test!D765=OFFSET(Runs_test!D765,1,0),\"\",1)","v":""}]
[{"$f":"IF(Runs_test!A766=OFFSET(Runs_test!A766,1,0),\"\",1)","v":""},{"$f":"IF(Runs_test!D766=OFFSET(Runs_test!D766,1,0),\"\",1)","v":""}]
[{"$f":"IF(Runs_test!A767=OFFSET(Runs_test!A767,1,0),\"\",1)","v":""},{"$f":"IF(Runs_test!D767=OFFSET(Runs_test!D767,1,0),\"\",1)","v":""}]
[{"$f":"IF(Runs_test!A768=OFFSET(Runs_test!A768,1,0),\"\",1)","v":""},{"$f":"IF(Runs_test!D768=OFFSET(Runs_test!D768,1,0),\"\",1)","v":""}]
[{"$f":"IF(Runs_test!A769=OFFSET(Runs_test!A769,1,0),\"\",1)","v":""},{"$f":"IF(Runs_test!D769=OFFSET(Runs_test!D769,1,0),\"\",1)","v":""}]
[{"$f":"IF(Runs_test!A770=OFFSET(Runs_test!A770,1,0),\"\",1)","v":""},{"$f":"IF(Runs_test!D770=OFFSET(Runs_test!D770,1,0),\"\",1)","v":""}]
[{"$f":"IF(Runs_test!A771=OFFSET(Runs_test!A771,1,0),\"\",1)","v":""},{"$f":"IF(Runs_test!D771=OFFSET(Runs_test!D771,1,0),\"\",1)","v":""}]
[{"$f":"IF(Runs_test!A772=OFFSET(Runs_test!A772,1,0),\"\",1)","v":""},{"$f":"IF(Runs_test!D772=OFFSET(Runs_test!D772,1,0),\"\",1)","v":""}]
[{"$f":"IF(Runs_test!A773=OFFSET(Runs_test!A773,1,0),\"\",1)","v":""},{"$f":"IF(Runs_test!D773=OFFSET(Runs_test!D773,1,0),\"\",1)","v":""}]
[{"$f":"IF(Runs_test!A774=OFFSET(Runs_test!A774,1,0),\"\",1)","v":""},{"$f":"IF(Runs_test!D774=OFFSET(Runs_test!D774,1,0),\"\",1)","v":""}]
[{"$f":"IF(Runs_test!A775=OFFSET(Runs_test!A775,1,0),\"\",1)","v":""},{"$f":"IF(Runs_test!D775=OFFSET(Runs_test!D775,1,0),\"\",1)","v":""}]
[{"$f":"IF(Runs_test!A776=OFFSET(Runs_test!A776,1,0),\"\",1)","v":""},{"$f":"IF(Runs_test!D776=OFFSET(Runs_test!D776,1,0),\"\",1)","v":""}]
[{"$f":"IF(Runs_test!A777=OFFSET(Runs_test!A777,1,0),\"\",1)","v":""},{"$f":"IF(Runs_test!D777=OFFSET(Runs_test!D777,1,0),\"\",1)","v":""}]
[{"$f":"IF(Runs_test!A778=OFFSET(Runs_test!A778,1,0),\"\",1)","v":""},{"$f":"IF(Runs_test!D778=OFFSET(Runs_test!D778,1,0),\"\",1)","v":""}]
[{"$f":"IF(Runs_test!A779=OFFSET(Runs_test!A779,1,0),\"\",1)","v":""},{"$f":"IF(Runs_test!D779=OFFSET(Runs_test!D779,1,0),\"\",1)","v":""}]
[{"$f":"IF(Runs_test!A780=OFFSET(Runs_test!A780,1,0),\"\",1)","v":""},{"$f":"IF(Runs_test!D780=OFFSET(Runs_test!D780,1,0),\"\",1)","v":""}]
[{"$f":"IF(Runs_test!A781=OFFSET(Runs_test!A781,1,0),\"\",1)","v":""},{"$f":"IF(Runs_test!D781=OFFSET(Runs_test!D781,1,0),\"\",1)","v":""}]
[{"$f":"IF(Runs_test!A782=OFFSET(Runs_test!A782,1,0),\"\",1)","v":""},{"$f":"IF(Runs_test!D782=OFFSET(Runs_test!D782,1,0),\"\",1)","v":""}]
[{"$f":"IF(Runs_test!A783=OFFSET(Runs_test!A783,1,0),\"\",1)","v":""},{"$f":"IF(Runs_test!D783=OFFSET(Runs_test!D783,1,0),\"\",1)","v":""}]
[{"$f":"IF(Runs_test!A784=OFFSET(Runs_test!A784,1,0),\"\",1)","v":""},{"$f":"IF(Runs_test!D784=OFFSET(Runs_test!D784,1,0),\"\",1)","v":""}]
[{"$f":"IF(Runs_test!A785=OFFSET(Runs_test!A785,1,0),\"\",1)","v":""},{"$f":"IF(Runs_test!D785=OFFSET(Runs_test!D785,1,0),\"\",1)","v":""}]
[{"$f":"IF(Runs_test!A786=OFFSET(Runs_test!A786,1,0),\"\",1)","v":""},{"$f":"IF(Runs_test!D786=OFFSET(Runs_test!D786,1,0),\"\",1)","v":""}]
[{"$f":"IF(Runs_test!A787=OFFSET(Runs_test!A787,1,0),\"\",1)","v":""},{"$f":"IF(Runs_test!D787=OFFSET(Runs_test!D787,1,0),\"\",1)","v":""}]
[{"$f":"IF(Runs_test!A788=OFFSET(Runs_test!A788,1,0),\"\",1)","v":""},{"$f":"IF(Runs_test!D788=OFFSET(Runs_test!D788,1,0),\"\",1)","v":""}]
[{"$f":"IF(Runs_test!A789=OFFSET(Runs_test!A789,1,0),\"\",1)","v":""},{"$f":"IF(Runs_test!D789=OFFSET(Runs_test!D789,1,0),\"\",1)","v":""}]
[{"$f":"IF(Runs_test!A790=OFFSET(Runs_test!A790,1,0),\"\",1)","v":""},{"$f":"IF(Runs_test!D790=OFFSET(Runs_test!D790,1,0),\"\",1)","v":""}]
[{"$f":"IF(Runs_test!A791=OFFSET(Runs_test!A791,1,0),\"\",1)","v":""},{"$f":"IF(Runs_test!D791=OFFSET(Runs_test!D791,1,0),\"\",1)","v":""}]
[{"$f":"IF(Runs_test!A792=OFFSET(Runs_test!A792,1,0),\"\",1)","v":""},{"$f":"IF(Runs_test!D792=OFFSET(Runs_test!D792,1,0),\"\",1)","v":""}]
[{"$f":"IF(Runs_test!A793=OFFSET(Runs_test!A793,1,0),\"\",1)","v":""},{"$f":"IF(Runs_test!D793=OFFSET(Runs_test!D793,1,0),\"\",1)","v":""}]
[{"$f":"IF(Runs_test!A794=OFFSET(Runs_test!A794,1,0),\"\",1)","v":""},{"$f":"IF(Runs_test!D794=OFFSET(Runs_test!D794,1,0),\"\",1)","v":""}]
[{"$f":"IF(Runs_test!A795=OFFSET(Runs_test!A795,1,0),\"\",1)","v":""},{"$f":"IF(Runs_test!D795=OFFSET(Runs_test!D795,1,0),\"\",1)","v":""}]
[{"$f":"IF(Runs_test!A796=OFFSET(Runs_test!A796,1,0),\"\",1)","v":""},{"$f":"IF(Runs_test!D796=OFFSET(Runs_test!D796,1,0),\"\",1)","v":""}]
[{"$f":"IF(Runs_test!A797=OFFSET(Runs_test!A797,1,0),\"\",1)","v":""},{"$f":"IF(Runs_test!D797=OFFSET(Runs_test!D797,1,0),\"\",1)","v":""}]
[{"$f":"IF(Runs_test!A798=OFFSET(Runs_test!A798,1,0),\"\",1)","v":""},{"$f":"IF(Runs_test!D798=OFFSET(Runs_test!D798,1,0),\"\",1)","v":""}]
[{"$f":"IF(Runs_test!A799=OFFSET(Runs_test!A799,1,0),\"\",1)","v":""},{"$f":"IF(Runs_test!D799=OFFSET(Runs_test!D799,1,0),\"\",1)","v":""}]
[{"$f":"IF(Runs_test!A800=OFFSET(Runs_test!A800,1,0),\"\",1)","v":""},{"$f":"IF(Runs_test!D800=OFFSET(Runs_test!D800,1,0),\"\",1)","v":""}]
[{"$f":"IF(Runs_test!A801=OFFSET(Runs_test!A801,1,0),\"\",1)","v":""},{"$f":"IF(Runs_test!D801=OFFSET(Runs_test!D801,1,0),\"\",1)","v":""}]
[{"$f":"IF(Runs_test!A802=OFFSET(Runs_test!A802,1,0),\"\",1)","v":""},{"$f":"IF(Runs_test!D802=OFFSET(Runs_test!D802,1,0),\"\",1)","v":""}]
[{"$f":"IF(Runs_test!A803=OFFSET(Runs_test!A803,1,0),\"\",1)","v":""},{"$f":"IF(Runs_test!D803=OFFSET(Runs_test!D803,1,0),\"\",1)","v":""}]
[{"$f":"IF(Runs_test!A804=OFFSET(Runs_test!A804,1,0),\"\",1)","v":""},{"$f":"IF(Runs_test!D804=OFFSET(Runs_test!D804,1,0),\"\",1)","v":""}]
[{"$f":"IF(Runs_test!A805=OFFSET(Runs_test!A805,1,0),\"\",1)","v":""},{"$f":"IF(Runs_test!D805=OFFSET(Runs_test!D805,1,0),\"\",1)","v":""}]
[{"$f":"IF(Runs_test!A806=OFFSET(Runs_test!A806,1,0),\"\",1)","v":""},{"$f":"IF(Runs_test!D806=OFFSET(Runs_test!D806,1,0),\"\",1)","v":""}]
[{"$f":"IF(Runs_test!A807=OFFSET(Runs_test!A807,1,0),\"\",1)","v":""},{"$f":"IF(Runs_test!D807=OFFSET(Runs_test!D807,1,0),\"\",1)","v":""}]
[{"$f":"IF(Runs_test!A808=OFFSET(Runs_test!A808,1,0),\"\",1)","v":""},{"$f":"IF(Runs_test!D808=OFFSET(Runs_test!D808,1,0),\"\",1)","v":""}]
[{"$f":"IF(Runs_test!A809=OFFSET(Runs_test!A809,1,0),\"\",1)","v":""},{"$f":"IF(Runs_test!D809=OFFSET(Runs_test!D809,1,0),\"\",1)","v":""}]
[{"$f":"IF(Runs_test!A810=OFFSET(Runs_test!A810,1,0),\"\",1)","v":""},{"$f":"IF(Runs_test!D810=OFFSET(Runs_test!D810,1,0),\"\",1)","v":""}]
[{"$f":"IF(Runs_test!A811=OFFSET(Runs_test!A811,1,0),\"\",1)","v":""},{"$f":"IF(Runs_test!D811=OFFSET(Runs_test!D811,1,0),\"\",1)","v":""}]
[{"$f":"IF(Runs_test!A812=OFFSET(Runs_test!A812,1,0),\"\",1)","v":""},{"$f":"IF(Runs_test!D812=OFFSET(Runs_test!D812,1,0),\"\",1)","v":""}]
[{"$f":"IF(Runs_test!A813=OFFSET(Runs_test!A813,1,0),\"\",1)","v":""},{"$f":"IF(Runs_test!D813=OFFSET(Runs_test!D813,1,0),\"\",1)","v":""}]
[{"$f":"IF(Runs_test!A814=OFFSET(Runs_test!A814,1,0),\"\",1)","v":""},{"$f":"IF(Runs_test!D814=OFFSET(Runs_test!D814,1,0),\"\",1)","v":""}]
[{"$f":"IF(Runs_test!A815=OFFSET(Runs_test!A815,1,0),\"\",1)","v":""},{"$f":"IF(Runs_test!D815=OFFSET(Runs_test!D815,1,0),\"\",1)","v":""}]
[{"$f":"IF(Runs_test!A816=OFFSET(Runs_test!A816,1,0),\"\",1)","v":""},{"$f":"IF(Runs_test!D816=OFFSET(Runs_test!D816,1,0),\"\",1)","v":""}]
[{"$f":"IF(Runs_test!A817=OFFSET(Runs_test!A817,1,0),\"\",1)","v":""},{"$f":"IF(Runs_test!D817=OFFSET(Runs_test!D817,1,0),\"\",1)","v":""}]
[{"$f":"IF(Runs_test!A818=OFFSET(Runs_test!A818,1,0),\"\",1)","v":""},{"$f":"IF(Runs_test!D818=OFFSET(Runs_test!D818,1,0),\"\",1)","v":""}]
[{"$f":"IF(Runs_test!A819=OFFSET(Runs_test!A819,1,0),\"\",1)","v":""},{"$f":"IF(Runs_test!D819=OFFSET(Runs_test!D819,1,0),\"\",1)","v":""}]
[{"$f":"IF(Runs_test!A820=OFFSET(Runs_test!A820,1,0),\"\",1)","v":""},{"$f":"IF(Runs_test!D820=OFFSET(Runs_test!D820,1,0),\"\",1)","v":""}]
[{"$f":"IF(Runs_test!A821=OFFSET(Runs_test!A821,1,0),\"\",1)","v":""},{"$f":"IF(Runs_test!D821=OFFSET(Runs_test!D821,1,0),\"\",1)","v":""}]
[{"$f":"IF(Runs_test!A822=OFFSET(Runs_test!A822,1,0),\"\",1)","v":""},{"$f":"IF(Runs_test!D822=OFFSET(Runs_test!D822,1,0),\"\",1)","v":""}]
[{"$f":"IF(Runs_test!A823=OFFSET(Runs_test!A823,1,0),\"\",1)","v":""},{"$f":"IF(Runs_test!D823=OFFSET(Runs_test!D823,1,0),\"\",1)","v":""}]
[{"$f":"IF(Runs_test!A824=OFFSET(Runs_test!A824,1,0),\"\",1)","v":""},{"$f":"IF(Runs_test!D824=OFFSET(Runs_test!D824,1,0),\"\",1)","v":""}]
[{"$f":"IF(Runs_test!A825=OFFSET(Runs_test!A825,1,0),\"\",1)","v":""},{"$f":"IF(Runs_test!D825=OFFSET(Runs_test!D825,1,0),\"\",1)","v":""}]
[{"$f":"IF(Runs_test!A826=OFFSET(Runs_test!A826,1,0),\"\",1)","v":""},{"$f":"IF(Runs_test!D826=OFFSET(Runs_test!D826,1,0),\"\",1)","v":""}]
[{"$f":"IF(Runs_test!A827=OFFSET(Runs_test!A827,1,0),\"\",1)","v":""},{"$f":"IF(Runs_test!D827=OFFSET(Runs_test!D827,1,0),\"\",1)","v":""}]
[{"$f":"IF(Runs_test!A828=OFFSET(Runs_test!A828,1,0),\"\",1)","v":""},{"$f":"IF(Runs_test!D828=OFFSET(Runs_test!D828,1,0),\"\",1)","v":""}]
[{"$f":"IF(Runs_test!A829=OFFSET(Runs_test!A829,1,0),\"\",1)","v":""},{"$f":"IF(Runs_test!D829=OFFSET(Runs_test!D829,1,0),\"\",1)","v":""}]
[{"$f":"IF(Runs_test!A830=OFFSET(Runs_test!A830,1,0),\"\",1)","v":""},{"$f":"IF(Runs_test!D830=OFFSET(Runs_test!D830,1,0),\"\",1)","v":""}]
[{"$f":"IF(Runs_test!A831=OFFSET(Runs_test!A831,1,0),\"\",1)","v":""},{"$f":"IF(Runs_test!D831=OFFSET(Runs_test!D831,1,0),\"\",1)","v":""}]
[{"$f":"IF(Runs_test!A832=OFFSET(Runs_test!A832,1,0),\"\",1)","v":""},{"$f":"IF(Runs_test!D832=OFFSET(Runs_test!D832,1,0),\"\",1)","v":""}]
[{"$f":"IF(Runs_test!A833=OFFSET(Runs_test!A833,1,0),\"\",1)","v":""},{"$f":"IF(Runs_test!D833=OFFSET(Runs_test!D833,1,0),\"\",1)","v":""}]
[{"$f":"IF(Runs_test!A834=OFFSET(Runs_test!A834,1,0),\"\",1)","v":""},{"$f":"IF(Runs_test!D834=OFFSET(Runs_test!D834,1,0),\"\",1)","v":""}]
[{"$f":"IF(Runs_test!A835=OFFSET(Runs_test!A835,1,0),\"\",1)","v":""},{"$f":"IF(Runs_test!D835=OFFSET(Runs_test!D835,1,0),\"\",1)","v":""}]
[{"$f":"IF(Runs_test!A836=OFFSET(Runs_test!A836,1,0),\"\",1)","v":""},{"$f":"IF(Runs_test!D836=OFFSET(Runs_test!D836,1,0),\"\",1)","v":""}]
[{"$f":"IF(Runs_test!A837=OFFSET(Runs_test!A837,1,0),\"\",1)","v":""},{"$f":"IF(Runs_test!D837=OFFSET(Runs_test!D837,1,0),\"\",1)","v":""}]
[{"$f":"IF(Runs_test!A838=OFFSET(Runs_test!A838,1,0),\"\",1)","v":""},{"$f":"IF(Runs_test!D838=OFFSET(Runs_test!D838,1,0),\"\",1)","v":""}]
[{"$f":"IF(Runs_test!A839=OFFSET(Runs_test!A839,1,0),\"\",1)","v":""},{"$f":"IF(Runs_test!D839=OFFSET(Runs_test!D839,1,0),\"\",1)","v":""}]
[{"$f":"IF(Runs_test!A840=OFFSET(Runs_test!A840,1,0),\"\",1)","v":""},{"$f":"IF(Runs_test!D840=OFFSET(Runs_test!D840,1,0),\"\",1)","v":""}]
[{"$f":"IF(Runs_test!A841=OFFSET(Runs_test!A841,1,0),\"\",1)","v":""},{"$f":"IF(Runs_test!D841=OFFSET(Runs_test!D841,1,0),\"\",1)","v":""}]
[{"$f":"IF(Runs_test!A842=OFFSET(Runs_test!A842,1,0),\"\",1)","v":""},{"$f":"IF(Runs_test!D842=OFFSET(Runs_test!D842,1,0),\"\",1)","v":""}]
[{"$f":"IF(Runs_test!A843=OFFSET(Runs_test!A843,1,0),\"\",1)","v":""},{"$f":"IF(Runs_test!D843=OFFSET(Runs_test!D843,1,0),\"\",1)","v":""}]
[{"$f":"IF(Runs_test!A844=OFFSET(Runs_test!A844,1,0),\"\",1)","v":""},{"$f":"IF(Runs_test!D844=OFFSET(Runs_test!D844,1,0),\"\",1)","v":""}]
[{"$f":"IF(Runs_test!A845=OFFSET(Runs_test!A845,1,0),\"\",1)","v":""},{"$f":"IF(Runs_test!D845=OFFSET(Runs_test!D845,1,0),\"\",1)","v":""}]
[{"$f":"IF(Runs_test!A846=OFFSET(Runs_test!A846,1,0),\"\",1)","v":""},{"$f":"IF(Runs_test!D846=OFFSET(Runs_test!D846,1,0),\"\",1)","v":""}]
[{"$f":"IF(Runs_test!A847=OFFSET(Runs_test!A847,1,0),\"\",1)","v":""},{"$f":"IF(Runs_test!D847=OFFSET(Runs_test!D847,1,0),\"\",1)","v":""}]
[{"$f":"IF(Runs_test!A848=OFFSET(Runs_test!A848,1,0),\"\",1)","v":""},{"$f":"IF(Runs_test!D848=OFFSET(Runs_test!D848,1,0),\"\",1)","v":""}]
[{"$f":"IF(Runs_test!A849=OFFSET(Runs_test!A849,1,0),\"\",1)","v":""},{"$f":"IF(Runs_test!D849=OFFSET(Runs_test!D849,1,0),\"\",1)","v":""}]
[{"$f":"IF(Runs_test!A850=OFFSET(Runs_test!A850,1,0),\"\",1)","v":""},{"$f":"IF(Runs_test!D850=OFFSET(Runs_test!D850,1,0),\"\",1)","v":""}]
[{"$f":"IF(Runs_test!A851=OFFSET(Runs_test!A851,1,0),\"\",1)","v":""},{"$f":"IF(Runs_test!D851=OFFSET(Runs_test!D851,1,0),\"\",1)","v":""}]
[{"$f":"IF(Runs_test!A852=OFFSET(Runs_test!A852,1,0),\"\",1)","v":""},{"$f":"IF(Runs_test!D852=OFFSET(Runs_test!D852,1,0),\"\",1)","v":""}]
[{"$f":"IF(Runs_test!A853=OFFSET(Runs_test!A853,1,0),\"\",1)","v":""},{"$f":"IF(Runs_test!D853=OFFSET(Runs_test!D853,1,0),\"\",1)","v":""}]
[{"$f":"IF(Runs_test!A854=OFFSET(Runs_test!A854,1,0),\"\",1)","v":""},{"$f":"IF(Runs_test!D854=OFFSET(Runs_test!D854,1,0),\"\",1)","v":""}]
[{"$f":"IF(Runs_test!A855=OFFSET(Runs_test!A855,1,0),\"\",1)","v":""},{"$f":"IF(Runs_test!D855=OFFSET(Runs_test!D855,1,0),\"\",1)","v":""}]
[{"$f":"IF(Runs_test!A856=OFFSET(Runs_test!A856,1,0),\"\",1)","v":""},{"$f":"IF(Runs_test!D856=OFFSET(Runs_test!D856,1,0),\"\",1)","v":""}]
[{"$f":"IF(Runs_test!A857=OFFSET(Runs_test!A857,1,0),\"\",1)","v":""},{"$f":"IF(Runs_test!D857=OFFSET(Runs_test!D857,1,0),\"\",1)","v":""}]
[{"$f":"IF(Runs_test!A858=OFFSET(Runs_test!A858,1,0),\"\",1)","v":""},{"$f":"IF(Runs_test!D858=OFFSET(Runs_test!D858,1,0),\"\",1)","v":""}]
[{"$f":"IF(Runs_test!A859=OFFSET(Runs_test!A859,1,0),\"\",1)","v":""},{"$f":"IF(Runs_test!D859=OFFSET(Runs_test!D859,1,0),\"\",1)","v":""}]
[{"$f":"IF(Runs_test!A860=OFFSET(Runs_test!A860,1,0),\"\",1)","v":""},{"$f":"IF(Runs_test!D860=OFFSET(Runs_test!D860,1,0),\"\",1)","v":""}]
[{"$f":"IF(Runs_test!A861=OFFSET(Runs_test!A861,1,0),\"\",1)","v":""},{"$f":"IF(Runs_test!D861=OFFSET(Runs_test!D861,1,0),\"\",1)","v":""}]
[{"$f":"IF(Runs_test!A862=OFFSET(Runs_test!A862,1,0),\"\",1)","v":""},{"$f":"IF(Runs_test!D862=OFFSET(Runs_test!D862,1,0),\"\",1)","v":""}]
[{"$f":"IF(Runs_test!A863=OFFSET(Runs_test!A863,1,0),\"\",1)","v":""},{"$f":"IF(Runs_test!D863=OFFSET(Runs_test!D863,1,0),\"\",1)","v":""}]
[{"$f":"IF(Runs_test!A864=OFFSET(Runs_test!A864,1,0),\"\",1)","v":""},{"$f":"IF(Runs_test!D864=OFFSET(Runs_test!D864,1,0),\"\",1)","v":""}]
[{"$f":"IF(Runs_test!A865=OFFSET(Runs_test!A865,1,0),\"\",1)","v":""},{"$f":"IF(Runs_test!D865=OFFSET(Runs_test!D865,1,0),\"\",1)","v":""}]
[{"$f":"IF(Runs_test!A866=OFFSET(Runs_test!A866,1,0),\"\",1)","v":""},{"$f":"IF(Runs_test!D866=OFFSET(Runs_test!D866,1,0),\"\",1)","v":""}]
[{"$f":"IF(Runs_test!A867=OFFSET(Runs_test!A867,1,0),\"\",1)","v":""},{"$f":"IF(Runs_test!D867=OFFSET(Runs_test!D867,1,0),\"\",1)","v":""}]
[{"$f":"IF(Runs_test!A868=OFFSET(Runs_test!A868,1,0),\"\",1)","v":""},{"$f":"IF(Runs_test!D868=OFFSET(Runs_test!D868,1,0),\"\",1)","v":""}]
[{"$f":"IF(Runs_test!A869=OFFSET(Runs_test!A869,1,0),\"\",1)","v":""},{"$f":"IF(Runs_test!D869=OFFSET(Runs_test!D869,1,0),\"\",1)","v":""}]
[{"$f":"IF(Runs_test!A870=OFFSET(Runs_test!A870,1,0),\"\",1)","v":""},{"$f":"IF(Runs_test!D870=OFFSET(Runs_test!D870,1,0),\"\",1)","v":""}]
[{"$f":"IF(Runs_test!A871=OFFSET(Runs_test!A871,1,0),\"\",1)","v":""},{"$f":"IF(Runs_test!D871=OFFSET(Runs_test!D871,1,0),\"\",1)","v":""}]
[{"$f":"IF(Runs_test!A872=OFFSET(Runs_test!A872,1,0),\"\",1)","v":""},{"$f":"IF(Runs_test!D872=OFFSET(Runs_test!D872,1,0),\"\",1)","v":""}]
[{"$f":"IF(Runs_test!A873=OFFSET(Runs_test!A873,1,0),\"\",1)","v":""},{"$f":"IF(Runs_test!D873=OFFSET(Runs_test!D873,1,0),\"\",1)","v":""}]
[{"$f":"IF(Runs_test!A874=OFFSET(Runs_test!A874,1,0),\"\",1)","v":""},{"$f":"IF(Runs_test!D874=OFFSET(Runs_test!D874,1,0),\"\",1)","v":""}]
[{"$f":"IF(Runs_test!A875=OFFSET(Runs_test!A875,1,0),\"\",1)","v":""},{"$f":"IF(Runs_test!D875=OFFSET(Runs_test!D875,1,0),\"\",1)","v":""}]
[{"$f":"IF(Runs_test!A876=OFFSET(Runs_test!A876,1,0),\"\",1)","v":""},{"$f":"IF(Runs_test!D876=OFFSET(Runs_test!D876,1,0),\"\",1)","v":""}]
[{"$f":"IF(Runs_test!A877=OFFSET(Runs_test!A877,1,0),\"\",1)","v":""},{"$f":"IF(Runs_test!D877=OFFSET(Runs_test!D877,1,0),\"\",1)","v":""}]
[{"$f":"IF(Runs_test!A878=OFFSET(Runs_test!A878,1,0),\"\",1)","v":""},{"$f":"IF(Runs_test!D878=OFFSET(Runs_test!D878,1,0),\"\",1)","v":""}]
[{"$f":"IF(Runs_test!A879=OFFSET(Runs_test!A879,1,0),\"\",1)","v":""},{"$f":"IF(Runs_test!D879=OFFSET(Runs_test!D879,1,0),\"\",1)","v":""}]
[{"$f":"IF(Runs_test!A880=OFFSET(Runs_test!A880,1,0),\"\",1)","v":""},{"$f":"IF(Runs_test!D880=OFFSET(Runs_test!D880,1,0),\"\",1)","v":""}]
[{"$f":"IF(Runs_test!A881=OFFSET(Runs_test!A881,1,0),\"\",1)","v":""},{"$f":"IF(Runs_test!D881=OFFSET(Runs_test!D881,1,0),\"\",1)","v":""}]
[{"$f":"IF(Runs_test!A882=OFFSET(Runs_test!A882,1,0),\"\",1)","v":""},{"$f":"IF(Runs_test!D882=OFFSET(Runs_test!D882,1,0),\"\",1)","v":""}]
[{"$f":"IF(Runs_test!A883=OFFSET(Runs_test!A883,1,0),\"\",1)","v":""},{"$f":"IF(Runs_test!D883=OFFSET(Runs_test!D883,1,0),\"\",1)","v":""}]
[{"$f":"IF(Runs_test!A884=OFFSET(Runs_test!A884,1,0),\"\",1)","v":""},{"$f":"IF(Runs_test!D884=OFFSET(Runs_test!D884,1,0),\"\",1)","v":""}]
[{"$f":"IF(Runs_test!A885=OFFSET(Runs_test!A885,1,0),\"\",1)","v":""},{"$f":"IF(Runs_test!D885=OFFSET(Runs_test!D885,1,0),\"\",1)","v":""}]
[{"$f":"IF(Runs_test!A886=OFFSET(Runs_test!A886,1,0),\"\",1)","v":""},{"$f":"IF(Runs_test!D886=OFFSET(Runs_test!D886,1,0),\"\",1)","v":""}]
[{"$f":"IF(Runs_test!A887=OFFSET(Runs_test!A887,1,0),\"\",1)","v":""},{"$f":"IF(Runs_test!D887=OFFSET(Runs_test!D887,1,0),\"\",1)","v":""}]
[{"$f":"IF(Runs_test!A888=OFFSET(Runs_test!A888,1,0),\"\",1)","v":""},{"$f":"IF(Runs_test!D888=OFFSET(Runs_test!D888,1,0),\"\",1)","v":""}]
[{"$f":"IF(Runs_test!A889=OFFSET(Runs_test!A889,1,0),\"\",1)","v":""},{"$f":"IF(Runs_test!D889=OFFSET(Runs_test!D889,1,0),\"\",1)","v":""}]
[{"$f":"IF(Runs_test!A890=OFFSET(Runs_test!A890,1,0),\"\",1)","v":""},{"$f":"IF(Runs_test!D890=OFFSET(Runs_test!D890,1,0),\"\",1)","v":""}]
[{"$f":"IF(Runs_test!A891=OFFSET(Runs_test!A891,1,0),\"\",1)","v":""},{"$f":"IF(Runs_test!D891=OFFSET(Runs_test!D891,1,0),\"\",1)","v":""}]
[{"$f":"IF(Runs_test!A892=OFFSET(Runs_test!A892,1,0),\"\",1)","v":""},{"$f":"IF(Runs_test!D892=OFFSET(Runs_test!D892,1,0),\"\",1)","v":""}]
[{"$f":"IF(Runs_test!A893=OFFSET(Runs_test!A893,1,0),\"\",1)","v":""},{"$f":"IF(Runs_test!D893=OFFSET(Runs_test!D893,1,0),\"\",1)","v":""}]
[{"$f":"IF(Runs_test!A894=OFFSET(Runs_test!A894,1,0),\"\",1)","v":""},{"$f":"IF(Runs_test!D894=OFFSET(Runs_test!D894,1,0),\"\",1)","v":""}]
[{"$f":"IF(Runs_test!A895=OFFSET(Runs_test!A895,1,0),\"\",1)","v":""},{"$f":"IF(Runs_test!D895=OFFSET(Runs_test!D895,1,0),\"\",1)","v":""}]
[{"$f":"IF(Runs_test!A896=OFFSET(Runs_test!A896,1,0),\"\",1)","v":""},{"$f":"IF(Runs_test!D896=OFFSET(Runs_test!D896,1,0),\"\",1)","v":""}]
[{"$f":"IF(Runs_test!A897=OFFSET(Runs_test!A897,1,0),\"\",1)","v":""},{"$f":"IF(Runs_test!D897=OFFSET(Runs_test!D897,1,0),\"\",1)","v":""}]
[{"$f":"IF(Runs_test!A898=OFFSET(Runs_test!A898,1,0),\"\",1)","v":""},{"$f":"IF(Runs_test!D898=OFFSET(Runs_test!D898,1,0),\"\",1)","v":""}]
[{"$f":"IF(Runs_test!A899=OFFSET(Runs_test!A899,1,0),\"\",1)","v":""},{"$f":"IF(Runs_test!D899=OFFSET(Runs_test!D899,1,0),\"\",1)","v":""}]
[{"$f":"IF(Runs_test!A900=OFFSET(Runs_test!A900,1,0),\"\",1)","v":""},{"$f":"IF(Runs_test!D900=OFFSET(Runs_test!D900,1,0),\"\",1)","v":""}]
[{"$f":"IF(Runs_test!A901=OFFSET(Runs_test!A901,1,0),\"\",1)","v":""},{"$f":"IF(Runs_test!D901=OFFSET(Runs_test!D901,1,0),\"\",1)","v":""}]
[{"$f":"IF(Runs_test!A902=OFFSET(Runs_test!A902,1,0),\"\",1)","v":""},{"$f":"IF(Runs_test!D902=OFFSET(Runs_test!D902,1,0),\"\",1)","v":""}]
[{"$f":"IF(Runs_test!A903=OFFSET(Runs_test!A903,1,0),\"\",1)","v":""},{"$f":"IF(Runs_test!D903=OFFSET(Runs_test!D903,1,0),\"\",1)","v":""}]
[{"$f":"IF(Runs_test!A904=OFFSET(Runs_test!A904,1,0),\"\",1)","v":""},{"$f":"IF(Runs_test!D904=OFFSET(Runs_test!D904,1,0),\"\",1)","v":""}]
[{"$f":"IF(Runs_test!A905=OFFSET(Runs_test!A905,1,0),\"\",1)","v":""},{"$f":"IF(Runs_test!D905=OFFSET(Runs_test!D905,1,0),\"\",1)","v":""}]
[{"$f":"IF(Runs_test!A906=OFFSET(Runs_test!A906,1,0),\"\",1)","v":""},{"$f":"IF(Runs_test!D906=OFFSET(Runs_test!D906,1,0),\"\",1)","v":""}]
[{"$f":"IF(Runs_test!A907=OFFSET(Runs_test!A907,1,0),\"\",1)","v":""},{"$f":"IF(Runs_test!D907=OFFSET(Runs_test!D907,1,0),\"\",1)","v":""}]
[{"$f":"IF(Runs_test!A908=OFFSET(Runs_test!A908,1,0),\"\",1)","v":""},{"$f":"IF(Runs_test!D908=OFFSET(Runs_test!D908,1,0),\"\",1)","v":""}]
[{"$f":"IF(Runs_test!A909=OFFSET(Runs_test!A909,1,0),\"\",1)","v":""},{"$f":"IF(Runs_test!D909=OFFSET(Runs_test!D909,1,0),\"\",1)","v":""}]
[{"$f":"IF(Runs_test!A910=OFFSET(Runs_test!A910,1,0),\"\",1)","v":""},{"$f":"IF(Runs_test!D910=OFFSET(Runs_test!D910,1,0),\"\",1)","v":""}]
[{"$f":"IF(Runs_test!A911=OFFSET(Runs_test!A911,1,0),\"\",1)","v":""},{"$f":"IF(Runs_test!D911=OFFSET(Runs_test!D911,1,0),\"\",1)","v":""}]
[{"$f":"IF(Runs_test!A912=OFFSET(Runs_test!A912,1,0),\"\",1)","v":""},{"$f":"IF(Runs_test!D912=OFFSET(Runs_test!D912,1,0),\"\",1)","v":""}]
[{"$f":"IF(Runs_test!A913=OFFSET(Runs_test!A913,1,0),\"\",1)","v":""},{"$f":"IF(Runs_test!D913=OFFSET(Runs_test!D913,1,0),\"\",1)","v":""}]
[{"$f":"IF(Runs_test!A914=OFFSET(Runs_test!A914,1,0),\"\",1)","v":""},{"$f":"IF(Runs_test!D914=OFFSET(Runs_test!D914,1,0),\"\",1)","v":""}]
[{"$f":"IF(Runs_test!A915=OFFSET(Runs_test!A915,1,0),\"\",1)","v":""},{"$f":"IF(Runs_test!D915=OFFSET(Runs_test!D915,1,0),\"\",1)","v":""}]
[{"$f":"IF(Runs_test!A916=OFFSET(Runs_test!A916,1,0),\"\",1)","v":""},{"$f":"IF(Runs_test!D916=OFFSET(Runs_test!D916,1,0),\"\",1)","v":""}]
[{"$f":"IF(Runs_test!A917=OFFSET(Runs_test!A917,1,0),\"\",1)","v":""},{"$f":"IF(Runs_test!D917=OFFSET(Runs_test!D917,1,0),\"\",1)","v":""}]
[{"$f":"IF(Runs_test!A918=OFFSET(Runs_test!A918,1,0),\"\",1)","v":""},{"$f":"IF(Runs_test!D918=OFFSET(Runs_test!D918,1,0),\"\",1)","v":""}]
[{"$f":"IF(Runs_test!A919=OFFSET(Runs_test!A919,1,0),\"\",1)","v":""},{"$f":"IF(Runs_test!D919=OFFSET(Runs_test!D919,1,0),\"\",1)","v":""}]
[{"$f":"IF(Runs_test!A920=OFFSET(Runs_test!A920,1,0),\"\",1)","v":""},{"$f":"IF(Runs_test!D920=OFFSET(Runs_test!D920,1,0),\"\",1)","v":""}]
[{"$f":"IF(Runs_test!A921=OFFSET(Runs_test!A921,1,0),\"\",1)","v":""},{"$f":"IF(Runs_test!D921=OFFSET(Runs_test!D921,1,0),\"\",1)","v":""}]
[{"$f":"IF(Runs_test!A922=OFFSET(Runs_test!A922,1,0),\"\",1)","v":""},{"$f":"IF(Runs_test!D922=OFFSET(Runs_test!D922,1,0),\"\",1)","v":""}]
[{"$f":"IF(Runs_test!A923=OFFSET(Runs_test!A923,1,0),\"\",1)","v":""},{"$f":"IF(Runs_test!D923=OFFSET(Runs_test!D923,1,0),\"\",1)","v":""}]
[{"$f":"IF(Runs_test!A924=OFFSET(Runs_test!A924,1,0),\"\",1)","v":""},{"$f":"IF(Runs_test!D924=OFFSET(Runs_test!D924,1,0),\"\",1)","v":""}]
[{"$f":"IF(Runs_test!A925=OFFSET(Runs_test!A925,1,0),\"\",1)","v":""},{"$f":"IF(Runs_test!D925=OFFSET(Runs_test!D925,1,0),\"\",1)","v":""}]
[{"$f":"IF(Runs_test!A926=OFFSET(Runs_test!A926,1,0),\"\",1)","v":""},{"$f":"IF(Runs_test!D926=OFFSET(Runs_test!D926,1,0),\"\",1)","v":""}]
[{"$f":"IF(Runs_test!A927=OFFSET(Runs_test!A927,1,0),\"\",1)","v":""},{"$f":"IF(Runs_test!D927=OFFSET(Runs_test!D927,1,0),\"\",1)","v":""}]
[{"$f":"IF(Runs_test!A928=OFFSET(Runs_test!A928,1,0),\"\",1)","v":""},{"$f":"IF(Runs_test!D928=OFFSET(Runs_test!D928,1,0),\"\",1)","v":""}]
[{"$f":"IF(Runs_test!A929=OFFSET(Runs_test!A929,1,0),\"\",1)","v":""},{"$f":"IF(Runs_test!D929=OFFSET(Runs_test!D929,1,0),\"\",1)","v":""}]
[{"$f":"IF(Runs_test!A930=OFFSET(Runs_test!A930,1,0),\"\",1)","v":""},{"$f":"IF(Runs_test!D930=OFFSET(Runs_test!D930,1,0),\"\",1)","v":""}]
[{"$f":"IF(Runs_test!A931=OFFSET(Runs_test!A931,1,0),\"\",1)","v":""},{"$f":"IF(Runs_test!D931=OFFSET(Runs_test!D931,1,0),\"\",1)","v":""}]
[{"$f":"IF(Runs_test!A932=OFFSET(Runs_test!A932,1,0),\"\",1)","v":""},{"$f":"IF(Runs_test!D932=OFFSET(Runs_test!D932,1,0),\"\",1)","v":""}]
[{"$f":"IF(Runs_test!A933=OFFSET(Runs_test!A933,1,0),\"\",1)","v":""},{"$f":"IF(Runs_test!D933=OFFSET(Runs_test!D933,1,0),\"\",1)","v":""}]
[{"$f":"IF(Runs_test!A934=OFFSET(Runs_test!A934,1,0),\"\",1)","v":""},{"$f":"IF(Runs_test!D934=OFFSET(Runs_test!D934,1,0),\"\",1)","v":""}]
[{"$f":"IF(Runs_test!A935=OFFSET(Runs_test!A935,1,0),\"\",1)","v":""},{"$f":"IF(Runs_test!D935=OFFSET(Runs_test!D935,1,0),\"\",1)","v":""}]
[{"$f":"IF(Runs_test!A936=OFFSET(Runs_test!A936,1,0),\"\",1)","v":""},{"$f":"IF(Runs_test!D936=OFFSET(Runs_test!D936,1,0),\"\",1)","v":""}]
[{"$f":"IF(Runs_test!A937=OFFSET(Runs_test!A937,1,0),\"\",1)","v":""},{"$f":"IF(Runs_test!D937=OFFSET(Runs_test!D937,1,0),\"\",1)","v":""}]
[{"$f":"IF(Runs_test!A938=OFFSET(Runs_test!A938,1,0),\"\",1)","v":""},{"$f":"IF(Runs_test!D938=OFFSET(Runs_test!D938,1,0),\"\",1)","v":""}]
[{"$f":"IF(Runs_test!A939=OFFSET(Runs_test!A939,1,0),\"\",1)","v":""},{"$f":"IF(Runs_test!D939=OFFSET(Runs_test!D939,1,0),\"\",1)","v":""}]
[{"$f":"IF(Runs_test!A940=OFFSET(Runs_test!A940,1,0),\"\",1)","v":""},{"$f":"IF(Runs_test!D940=OFFSET(Runs_test!D940,1,0),\"\",1)","v":""}]
[{"$f":"IF(Runs_test!A941=OFFSET(Runs_test!A941,1,0),\"\",1)","v":""},{"$f":"IF(Runs_test!D941=OFFSET(Runs_test!D941,1,0),\"\",1)","v":""}]
[{"$f":"IF(Runs_test!A942=OFFSET(Runs_test!A942,1,0),\"\",1)","v":""},{"$f":"IF(Runs_test!D942=OFFSET(Runs_test!D942,1,0),\"\",1)","v":""}]
[{"$f":"IF(Runs_test!A943=OFFSET(Runs_test!A943,1,0),\"\",1)","v":""},{"$f":"IF(Runs_test!D943=OFFSET(Runs_test!D943,1,0),\"\",1)","v":""}]
[{"$f":"IF(Runs_test!A944=OFFSET(Runs_test!A944,1,0),\"\",1)","v":""},{"$f":"IF(Runs_test!D944=OFFSET(Runs_test!D944,1,0),\"\",1)","v":""}]
[{"$f":"IF(Runs_test!A945=OFFSET(Runs_test!A945,1,0),\"\",1)","v":""},{"$f":"IF(Runs_test!D945=OFFSET(Runs_test!D945,1,0),\"\",1)","v":""}]
[{"$f":"IF(Runs_test!A946=OFFSET(Runs_test!A946,1,0),\"\",1)","v":""},{"$f":"IF(Runs_test!D946=OFFSET(Runs_test!D946,1,0),\"\",1)","v":""}]
[{"$f":"IF(Runs_test!A947=OFFSET(Runs_test!A947,1,0),\"\",1)","v":""},{"$f":"IF(Runs_test!D947=OFFSET(Runs_test!D947,1,0),\"\",1)","v":""}]
[{"$f":"IF(Runs_test!A948=OFFSET(Runs_test!A948,1,0),\"\",1)","v":""},{"$f":"IF(Runs_test!D948=OFFSET(Runs_test!D948,1,0),\"\",1)","v":""}]
[{"$f":"IF(Runs_test!A949=OFFSET(Runs_test!A949,1,0),\"\",1)","v":""},{"$f":"IF(Runs_test!D949=OFFSET(Runs_test!D949,1,0),\"\",1)","v":""}]
[{"$f":"IF(Runs_test!A950=OFFSET(Runs_test!A950,1,0),\"\",1)","v":""},{"$f":"IF(Runs_test!D950=OFFSET(Runs_test!D950,1,0),\"\",1)","v":""}]
[{"$f":"IF(Runs_test!A951=OFFSET(Runs_test!A951,1,0),\"\",1)","v":""},{"$f":"IF(Runs_test!D951=OFFSET(Runs_test!D951,1,0),\"\",1)","v":""}]
[{"$f":"IF(Runs_test!A952=OFFSET(Runs_test!A952,1,0),\"\",1)","v":""},{"$f":"IF(Runs_test!D952=OFFSET(Runs_test!D952,1,0),\"\",1)","v":""}]
[{"$f":"IF(Runs_test!A953=OFFSET(Runs_test!A953,1,0),\"\",1)","v":""},{"$f":"IF(Runs_test!D953=OFFSET(Runs_test!D953,1,0),\"\",1)","v":""}]
[{"$f":"IF(Runs_test!A954=OFFSET(Runs_test!A954,1,0),\"\",1)","v":""},{"$f":"IF(Runs_test!D954=OFFSET(Runs_test!D954,1,0),\"\",1)","v":""}]
[{"$f":"IF(Runs_test!A955=OFFSET(Runs_test!A955,1,0),\"\",1)","v":""},{"$f":"IF(Runs_test!D955=OFFSET(Runs_test!D955,1,0),\"\",1)","v":""}]
[{"$f":"IF(Runs_test!A956=OFFSET(Runs_test!A956,1,0),\"\",1)","v":""},{"$f":"IF(Runs_test!D956=OFFSET(Runs_test!D956,1,0),\"\",1)","v":""}]
[{"$f":"IF(Runs_test!A957=OFFSET(Runs_test!A957,1,0),\"\",1)","v":""},{"$f":"IF(Runs_test!D957=OFFSET(Runs_test!D957,1,0),\"\",1)","v":""}]
[{"$f":"IF(Runs_test!A958=OFFSET(Runs_test!A958,1,0),\"\",1)","v":""},{"$f":"IF(Runs_test!D958=OFFSET(Runs_test!D958,1,0),\"\",1)","v":""}]
[{"$f":"IF(Runs_test!A959=OFFSET(Runs_test!A959,1,0),\"\",1)","v":""},{"$f":"IF(Runs_test!D959=OFFSET(Runs_test!D959,1,0),\"\",1)","v":""}]
[{"$f":"IF(Runs_test!A960=OFFSET(Runs_test!A960,1,0),\"\",1)","v":""},{"$f":"IF(Runs_test!D960=OFFSET(Runs_test!D960,1,0),\"\",1)","v":""}]
[{"$f":"IF(Runs_test!A961=OFFSET(Runs_test!A961,1,0),\"\",1)","v":""},{"$f":"IF(Runs_test!D961=OFFSET(Runs_test!D961,1,0),\"\",1)","v":""}]
[{"$f":"IF(Runs_test!A962=OFFSET(Runs_test!A962,1,0),\"\",1)","v":""},{"$f":"IF(Runs_test!D962=OFFSET(Runs_test!D962,1,0),\"\",1)","v":""}]
[{"$f":"IF(Runs_test!A963=OFFSET(Runs_test!A963,1,0),\"\",1)","v":""},{"$f":"IF(Runs_test!D963=OFFSET(Runs_test!D963,1,0),\"\",1)","v":""}]
[{"$f":"IF(Runs_test!A964=OFFSET(Runs_test!A964,1,0),\"\",1)","v":""},{"$f":"IF(Runs_test!D964=OFFSET(Runs_test!D964,1,0),\"\",1)","v":""}]
[{"$f":"IF(Runs_test!A965=OFFSET(Runs_test!A965,1,0),\"\",1)","v":""},{"$f":"IF(Runs_test!D965=OFFSET(Runs_test!D965,1,0),\"\",1)","v":""}]
[{"$f":"IF(Runs_test!A966=OFFSET(Runs_test!A966,1,0),\"\",1)","v":""},{"$f":"IF(Runs_test!D966=OFFSET(Runs_test!D966,1,0),\"\",1)","v":""}]
[{"$f":"IF(Runs_test!A967=OFFSET(Runs_test!A967,1,0),\"\",1)","v":""},{"$f":"IF(Runs_test!D967=OFFSET(Runs_test!D967,1,0),\"\",1)","v":""}]
[{"$f":"IF(Runs_test!A968=OFFSET(Runs_test!A968,1,0),\"\",1)","v":""},{"$f":"IF(Runs_test!D968=OFFSET(Runs_test!D968,1,0),\"\",1)","v":""}]
[{"$f":"IF(Runs_test!A969=OFFSET(Runs_test!A969,1,0),\"\",1)","v":""},{"$f":"IF(Runs_test!D969=OFFSET(Runs_test!D969,1,0),\"\",1)","v":""}]
[{"$f":"IF(Runs_test!A970=OFFSET(Runs_test!A970,1,0),\"\",1)","v":""},{"$f":"IF(Runs_test!D970=OFFSET(Runs_test!D970,1,0),\"\",1)","v":""}]
[{"$f":"IF(Runs_test!A971=OFFSET(Runs_test!A971,1,0),\"\",1)","v":""},{"$f":"IF(Runs_test!D971=OFFSET(Runs_test!D971,1,0),\"\",1)","v":""}]
[{"$f":"IF(Runs_test!A972=OFFSET(Runs_test!A972,1,0),\"\",1)","v":""},{"$f":"IF(Runs_test!D972=OFFSET(Runs_test!D972,1,0),\"\",1)","v":""}]
[{"$f":"IF(Runs_test!A973=OFFSET(Runs_test!A973,1,0),\"\",1)","v":""},{"$f":"IF(Runs_test!D973=OFFSET(Runs_test!D973,1,0),\"\",1)","v":""}]
[{"$f":"IF(Runs_test!A974=OFFSET(Runs_test!A974,1,0),\"\",1)","v":""},{"$f":"IF(Runs_test!D974=OFFSET(Runs_test!D974,1,0),\"\",1)","v":""}]
[{"$f":"IF(Runs_test!A975=OFFSET(Runs_test!A975,1,0),\"\",1)","v":""},{"$f":"IF(Runs_test!D975=OFFSET(Runs_test!D975,1,0),\"\",1)","v":""}]
[{"$f":"IF(Runs_test!A976=OFFSET(Runs_test!A976,1,0),\"\",1)","v":""},{"$f":"IF(Runs_test!D976=OFFSET(Runs_test!D976,1,0),\"\",1)","v":""}]
[{"$f":"IF(Runs_test!A977=OFFSET(Runs_test!A977,1,0),\"\",1)","v":""},{"$f":"IF(Runs_test!D977=OFFSET(Runs_test!D977,1,0),\"\",1)","v":""}]
[{"$f":"IF(Runs_test!A978=OFFSET(Runs_test!A978,1,0),\"\",1)","v":""},{"$f":"IF(Runs_test!D978=OFFSET(Runs_test!D978,1,0),\"\",1)","v":""}]
[{"$f":"IF(Runs_test!A979=OFFSET(Runs_test!A979,1,0),\"\",1)","v":""},{"$f":"IF(Runs_test!D979=OFFSET(Runs_test!D979,1,0),\"\",1)","v":""}]
[{"$f":"IF(Runs_test!A980=OFFSET(Runs_test!A980,1,0),\"\",1)","v":""},{"$f":"IF(Runs_test!D980=OFFSET(Runs_test!D980,1,0),\"\",1)","v":""}]
[{"$f":"IF(Runs_test!A981=OFFSET(Runs_test!A981,1,0),\"\",1)","v":""},{"$f":"IF(Runs_test!D981=OFFSET(Runs_test!D981,1,0),\"\",1)","v":""}]
[{"$f":"IF(Runs_test!A982=OFFSET(Runs_test!A982,1,0),\"\",1)","v":""},{"$f":"IF(Runs_test!D982=OFFSET(Runs_test!D982,1,0),\"\",1)","v":""}]
[{"$f":"IF(Runs_test!A983=OFFSET(Runs_test!A983,1,0),\"\",1)","v":""},{"$f":"IF(Runs_test!D983=OFFSET(Runs_test!D983,1,0),\"\",1)","v":""}]
[{"$f":"IF(Runs_test!A984=OFFSET(Runs_test!A984,1,0),\"\",1)","v":""},{"$f":"IF(Runs_test!D984=OFFSET(Runs_test!D984,1,0),\"\",1)","v":""}]
[{"$f":"IF(Runs_test!A985=OFFSET(Runs_test!A985,1,0),\"\",1)","v":""},{"$f":"IF(Runs_test!D985=OFFSET(Runs_test!D985,1,0),\"\",1)","v":""}]
[{"$f":"IF(Runs_test!A986=OFFSET(Runs_test!A986,1,0),\"\",1)","v":""},{"$f":"IF(Runs_test!D986=OFFSET(Runs_test!D986,1,0),\"\",1)","v":""}]
[{"$f":"IF(Runs_test!A987=OFFSET(Runs_test!A987,1,0),\"\",1)","v":""},{"$f":"IF(Runs_test!D987=OFFSET(Runs_test!D987,1,0),\"\",1)","v":""}]
[{"$f":"IF(Runs_test!A988=OFFSET(Runs_test!A988,1,0),\"\",1)","v":""},{"$f":"IF(Runs_test!D988=OFFSET(Runs_test!D988,1,0),\"\",1)","v":""}]
[{"$f":"IF(Runs_test!A989=OFFSET(Runs_test!A989,1,0),\"\",1)","v":""},{"$f":"IF(Runs_test!D989=OFFSET(Runs_test!D989,1,0),\"\",1)","v":""}]
[{"$f":"IF(Runs_test!A990=OFFSET(Runs_test!A990,1,0),\"\",1)","v":""},{"$f":"IF(Runs_test!D990=OFFSET(Runs_test!D990,1,0),\"\",1)","v":""}]
[{"$f":"IF(Runs_test!A991=OFFSET(Runs_test!A991,1,0),\"\",1)","v":""},{"$f":"IF(Runs_test!D991=OFFSET(Runs_test!D991,1,0),\"\",1)","v":""}]
[{"$f":"IF(Runs_test!A992=OFFSET(Runs_test!A992,1,0),\"\",1)","v":""},{"$f":"IF(Runs_test!D992=OFFSET(Runs_test!D992,1,0),\"\",1)","v":""}]
[{"$f":"IF(Runs_test!A993=OFFSET(Runs_test!A993,1,0),\"\",1)","v":""},{"$f":"IF(Runs_test!D993=OFFSET(Runs_test!D993,1,0),\"\",1)","v":""}]
[{"$f":"IF(Runs_test!A994=OFFSET(Runs_test!A994,1,0),\"\",1)","v":""},{"$f":"IF(Runs_test!D994=OFFSET(Runs_test!D994,1,0),\"\",1)","v":""}]
[{"$f":"IF(Runs_test!A995=OFFSET(Runs_test!A995,1,0),\"\",1)","v":""},{"$f":"IF(Runs_test!D995=OFFSET(Runs_test!D995,1,0),\"\",1)","v":""}]
[{"$f":"IF(Runs_test!A996=OFFSET(Runs_test!A996,1,0),\"\",1)","v":""},{"$f":"IF(Runs_test!D996=OFFSET(Runs_test!D996,1,0),\"\",1)","v":""}]
[{"$f":"IF(Runs_test!A997=OFFSET(Runs_test!A997,1,0),\"\",1)","v":""},{"$f":"IF(Runs_test!D997=OFFSET(Runs_test!D997,1,0),\"\",1)","v":""}]
[{"$f":"IF(Runs_test!A998=OFFSET(Runs_test!A998,1,0),\"\",1)","v":""},{"$f":"IF(Runs_test!D998=OFFSET(Runs_test!D998,1,0),\"\",1)","v":""}]
[{"$f":"IF(Runs_test!A999=OFFSET(Runs_test!A999,1,0),\"\",1)","v":""},{"$f":"IF(Runs_test!D999=OFFSET(Runs_test!D999,1,0),\"\",1)","v":""}]
[{"$f":"IF(Runs_test!A1000=OFFSET(Runs_test!A1000,1,0),\"\",1)","v":""},{"$f":"IF(Runs_test!D1000=OFFSET(Runs_test!D1000,1,0),\"\",1)","v":""}]
[{"$f":"IF(Runs_test!A1001=OFFSET(Runs_test!A1001,1,0),\"\",1)","v":""},{"$f":"IF(Runs_test!D1001=OFFSET(Runs_test!D1001,1,0),\"\",1)","v":""}]